{"text_format":"1","workbook":"xlsx","n_sheets":4,"sheets":["Aufträge","PDF-Dateien","Nummern","Develop"],"not_rendered":{"charts":0,"images":4,"macros":1,"external_links":0,"defined_names":5,"comments":0,"pivot_tables":0},"unopened":[],"bounds":{"document_bytes":16777216,"sheet_cells":100000,"rows_first":2000,"rows_last":500,"rows_between":2000,"halvings":0,"cell_chars":16384,"cell_head_chars":4096},"cells_cut":0,"cells_raw":0,"read":"whole","date_system":"1900"}

{"sheet":"Aufträge","index":0,"n_rows":4,"n_cols":13,"rows_kept":4,"cut":false,"hidden":false,"merged":[[0,5,0,12],[0,0,0,2],[2,10,2,12],[1,6,1,9],[1,10,1,12]]}
["Auftragsbücher Kern",null,null,null,"Land =","CH: Schweiz - CZ: Tschechien - DE: Deutschland - EG: Ägypten - ES: Spanien - FR: Frankreich - GB: England - GR: Griechenland - IT: Italien - \nRO: Rumänien - RU: Russland"]
[null,null,null,null,"Code","Auftrag =","V: Verkauf - A: Angebot - R: Reparatur - K: Konsignation - L: Lager",null,null,null,"Datenbank auf kern-aarau.ch"]
[null,null,null,null,{"$f":"HYPERLINK(\"https://de.wikipedia.org/wiki/ISO-3166-1-Kodierliste\",\"ISO-3166-1\" )","v":"ISO-3166-1"},null,null,null,"Typ = Preis-Courant: Nr.=1-297 oder ZG#Seite","Aufzählungsliste: * Text[Alt-Enter]",{"$f":"HYPERLINK(\"https://www.kern-aarau.ch/kern/studiensammlung.html?no_cache=1\",\"Studiensammlung Kern\")","v":"Studiensammlung Kern"}]
["Id","Datum","Kunde","Ort","Land","Auftrag","Anzahl","Artikel","Typ","Details","Link zu PDF","Msg","Err"]

{"sheet":"PDF-Dateien","index":1,"n_rows":20,"n_cols":21,"rows_kept":20,"cut":false,"hidden":false,"merged":[]}
["Buch","DateiName","MinJahr","MaxJahr","MaxSeite",null,null,"DateiPfad","https://www.kern-aarau.ch/fileadmin/Studien/Auftraege/",null,null,null,null,null,null,"Preis-Courent Instrumente"]
[17,"Auftraege17_1878_1880.pdf",1878,1880,26,null,null,"Links zu PDF",{"$f":"HYPERLINK('PDF-Dateien'!I1 & \"(filename)\",\"(text)\")","v":"(text)"},null,null,"RevDate","2020-04-06","von Nr.","bis Nr.","Seite"]
[18,"Auftraege18_1880_1882.pdf",1880,1882,43,null,null,null,null,null,null,null,null,1,10,1]
[19,"Auftraege19_1882_1885.pdf",1882,1885,38,null,null,"Land","CH","Schweiz","Auftrag","V","Verkauf",{"$f":"O3+1","v":11},34,2,{"$f":"T(N4)","v":""}]
[20,"Auftraege20_1885_1887.pdf",1885,1887,34,null,null,null,"CZ","Tschechien",null,"A","Angebot",35,45,3,{"$f":"T(N5)","v":""}]
[21,"Auftraege21_1887_1888.pdf",1887,1888,34,null,null,null,"DE","Deutschland",null,"R","Reperatur",46,61,4,""]
[22,"Auftraege22_1888_1890.pdf",1888,1890,26,null,null,null,"EG","Ägypten",null,"K","Konsignation",62,65,5,""]
[23,"Auftraege23_1890_1891.pdf",1890,1891,37,null,null,null,"ES","Spanien",null,"?xy",null,66,83,6,""]
[24,"Auftraege24_1891_1893.pdf",1891,1893,34,null,null,null,"FR","Frankreich",null,null,null,84,104,7,""]
[26,"Auftraege26_1895_1898.pdf",1895,1898,46,null,null,null,"GB","England",null,null,null,105,125,8,""]
[27,"Auftraege27_1898_1899.pdf",1898,1899,32,null,null,null,"GR","Griechenland",null,null,null,126,148,9,""]
[28,"Auftraege28_1899_1900.pdf",1899,1900,36,null,null,null,"IT","Italien",null,null,null,149,155,10,""]
[29,"Auftraege29_1900_1902.pdf",1900,1902,33,null,null,null,"RO","Rumänien",null,null,null,156,171,11,""]
[30,"Auftraege30_1902_1903.pdf",1902,1903,42,null,null,null,"RU","Russland",null,null,null,172,187,12,""]
[31,"Auftraege31_1903_1905.pdf",1903,1905,59,null,null,null,"TR","Türkei",null,null,null,188,208,13,"",null,null,null,44]
[32,"Auftraege32_1905_1906.pdf",1905,1906,75,null,null,null,"?xy",null,null,null,null,209,224,14,""]
[33,"Auftraege33_1906_1907.pdf",1906,1907,50,null,null,null,null,null,null,null,null,225,246,15,""]
[34,"Auftraege34_1907_1909.pdf",1907,1909,79,null,null,null,null,null,null,null,null,247,267,16,""]
[35,"Auftraege35_1909_1910.pdf",1909,1910,68,null,null,null,null,null,null,null,null,268,285,17,""]
[null,null,null,null,null,null,null,null,null,null,null,null,null,286,297,18,"ecds3"]

{"sheet":"Nummern","index":2,"n_rows":726,"n_cols":5,"rows_kept":726,"cut":false,"hidden":false,"merged":[]}
["Buch-Seite","Link","Nummer","Datum","Bemerkung"]
["A17.02",{"$f":"HYPERLINK('PDF-Dateien'!I1 & \"Auftraege17_1878_1880.pdf#page=2\",\"A17#2\")","v":"A17#2"},null,"1878.06.14"]
["A17.03",{"$f":"HYPERLINK('PDF-Dateien'!I1 & \"Auftraege17_1878_1880.pdf#page=3\",\"A17#3\")","v":"A17#3"}]
["A17.04",{"$f":"HYPERLINK('PDF-Dateien'!I1 & \"Auftraege17_1878_1880.pdf#page=4\",\"A17#4\")","v":"A17#4"}]
["A17.05",{"$f":"HYPERLINK('PDF-Dateien'!I1 & \"Auftraege17_1878_1880.pdf#page=5\",\"A17#5\")","v":"A17#5"}]
["A17.06",{"$f":"HYPERLINK('PDF-Dateien'!I1 & \"Auftraege17_1878_1880.pdf#page=6\",\"A17#6\")","v":"A17#6"}]
["A17.07",{"$f":"HYPERLINK('PDF-Dateien'!I1 & \"Auftraege17_1878_1880.pdf#page=7\",\"A17#7\")","v":"A17#7"}]
["A17.08",{"$f":"HYPERLINK('PDF-Dateien'!I1 & \"Auftraege17_1878_1880.pdf#page=8\",\"A17#8\")","v":"A17#8"}]
["A17.09",{"$f":"HYPERLINK('PDF-Dateien'!I1 & \"Auftraege17_1878_1880.pdf#page=9\",\"A17#9\")","v":"A17#9"}]
["A17.10",{"$f":"HYPERLINK('PDF-Dateien'!I1 & \"Auftraege17_1878_1880.pdf#page=10\",\"A17#10\")","v":"A17#10"}]
["A17.11",{"$f":"HYPERLINK('PDF-Dateien'!I1 & \"Auftraege17_1878_1880.pdf#page=11\",\"A17#11\")","v":"A17#11"}]
["A17.12",{"$f":"HYPERLINK('PDF-Dateien'!I1 & \"Auftraege17_1878_1880.pdf#page=12\",\"A17#12\")","v":"A17#12"}]
["A17.13",{"$f":"HYPERLINK('PDF-Dateien'!I1 & \"Auftraege17_1878_1880.pdf#page=13\",\"A17#13\")","v":"A17#13"}]
["A17.14",{"$f":"HYPERLINK('PDF-Dateien'!I1 & \"Auftraege17_1878_1880.pdf#page=14\",\"A17#14\")","v":"A17#14"}]
["A17.15",{"$f":"HYPERLINK('PDF-Dateien'!I1 & \"Auftraege17_1878_1880.pdf#page=15\",\"A17#15\")","v":"A17#15"}]
["A17.16",{"$f":"HYPERLINK('PDF-Dateien'!I1 & \"Auftraege17_1878_1880.pdf#page=16\",\"A17#16\")","v":"A17#16"}]
["A17.17",{"$f":"HYPERLINK('PDF-Dateien'!I1 & \"Auftraege17_1878_1880.pdf#page=17\",\"A17#17\")","v":"A17#17"}]
["A17.18",{"$f":"HYPERLINK('PDF-Dateien'!I1 & \"Auftraege17_1878_1880.pdf#page=18\",\"A17#18\")","v":"A17#18"}]
["A17.19",{"$f":"HYPERLINK('PDF-Dateien'!I1 & \"Auftraege17_1878_1880.pdf#page=19\",\"A17#19\")","v":"A17#19"}]
["A17.20",{"$f":"HYPERLINK('PDF-Dateien'!I1 & \"Auftraege17_1878_1880.pdf#page=20\",\"A17#20\")","v":"A17#20"}]
["A17.21",{"$f":"HYPERLINK('PDF-Dateien'!I1 & \"Auftraege17_1878_1880.pdf#page=21\",\"A17#21\")","v":"A17#21"}]
["A17.22",{"$f":"HYPERLINK('PDF-Dateien'!I1 & \"Auftraege17_1878_1880.pdf#page=22\",\"A17#22\")","v":"A17#22"}]
["A17.23",{"$f":"HYPERLINK('PDF-Dateien'!I1 & \"Auftraege17_1878_1880.pdf#page=23\",\"A17#23\")","v":"A17#23"}]
["A17.24",{"$f":"HYPERLINK('PDF-Dateien'!I1 & \"Auftraege17_1878_1880.pdf#page=24\",\"A17#24\")","v":"A17#24"}]
["A17.25",{"$f":"HYPERLINK('PDF-Dateien'!I1 & \"Auftraege17_1878_1880.pdf#page=25\",\"A17#25\")","v":"A17#25"}]
["A17.26",{"$f":"HYPERLINK('PDF-Dateien'!I1 & \"Auftraege17_1878_1880.pdf#page=26\",\"A17#26\")","v":"A17#26"}]
["A18.02",{"$f":"HYPERLINK('PDF-Dateien'!I1 & \"Auftraege18_1880_1882.pdf#page=2\",\"A18#2\")","v":"A18#2"},null,"1880.07.04"]
["A18.03",{"$f":"HYPERLINK('PDF-Dateien'!I1 & \"Auftraege18_1880_1882.pdf#page=3\",\"A18#3\")","v":"A18#3"}]
["A18.04",{"$f":"HYPERLINK('PDF-Dateien'!I1 & \"Auftraege18_1880_1882.pdf#page=4\",\"A18#4\")","v":"A18#4"}]
["A18.05",{"$f":"HYPERLINK('PDF-Dateien'!I1 & \"Auftraege18_1880_1882.pdf#page=5\",\"A18#5\")","v":"A18#5"}]
["A18.06",{"$f":"HYPERLINK('PDF-Dateien'!I1 & \"Auftraege18_1880_1882.pdf#page=6\",\"A18#6\")","v":"A18#6"}]
["A18.07",{"$f":"HYPERLINK('PDF-Dateien'!I1 & \"Auftraege18_1880_1882.pdf#page=7\",\"A18#7\")","v":"A18#7"}]
["A18.08",{"$f":"HYPERLINK('PDF-Dateien'!I1 & \"Auftraege18_1880_1882.pdf#page=8\",\"A18#8\")","v":"A18#8"}]
["A18.09",{"$f":"HYPERLINK('PDF-Dateien'!I1 & \"Auftraege18_1880_1882.pdf#page=9\",\"A18#9\")","v":"A18#9"}]
["A18.10",{"$f":"HYPERLINK('PDF-Dateien'!I1 & \"Auftraege18_1880_1882.pdf#page=10\",\"A18#10\")","v":"A18#10"}]
["A18.11",{"$f":"HYPERLINK('PDF-Dateien'!I1 & \"Auftraege18_1880_1882.pdf#page=11\",\"A18#11\")","v":"A18#11"}]
["A18.12",{"$f":"HYPERLINK('PDF-Dateien'!I1 & \"Auftraege18_1880_1882.pdf#page=12\",\"A18#12\")","v":"A18#12"}]
["A18.13",{"$f":"HYPERLINK('PDF-Dateien'!I1 & \"Auftraege18_1880_1882.pdf#page=13\",\"A18#13\")","v":"A18#13"}]
["A18.14",{"$f":"HYPERLINK('PDF-Dateien'!I1 & \"Auftraege18_1880_1882.pdf#page=14\",\"A18#14\")","v":"A18#14"}]
["A18.15",{"$f":"HYPERLINK('PDF-Dateien'!I1 & \"Auftraege18_1880_1882.pdf#page=15\",\"A18#15\")","v":"A18#15"},null,null,"Siehe Seite 16 für den Kleber"]
["A18.17",{"$f":"HYPERLINK('PDF-Dateien'!I1 & \"Auftraege18_1880_1882.pdf#page=17\",\"A18#17\")","v":"A18#17"}]
["A18.18",{"$f":"HYPERLINK('PDF-Dateien'!I1 & \"Auftraege18_1880_1882.pdf#page=18\",\"A18#18\")","v":"A18#18"}]
["A18.19",{"$f":"HYPERLINK('PDF-Dateien'!I1 & \"Auftraege18_1880_1882.pdf#page=19\",\"A18#19\")","v":"A18#19"}]
["A18.20",{"$f":"HYPERLINK('PDF-Dateien'!I1 & \"Auftraege18_1880_1882.pdf#page=20\",\"A18#20\")","v":"A18#20"}]
["A18.21",{"$f":"HYPERLINK('PDF-Dateien'!I1 & \"Auftraege18_1880_1882.pdf#page=21\",\"A18#21\")","v":"A18#21"}]
["A18.22",{"$f":"HYPERLINK('PDF-Dateien'!I1 & \"Auftraege18_1880_1882.pdf#page=22\",\"A18#22\")","v":"A18#22"}]
["A18.23",{"$f":"HYPERLINK('PDF-Dateien'!I1 & \"Auftraege18_1880_1882.pdf#page=23\",\"A18#23\")","v":"A18#23"}]
["A18.24",{"$f":"HYPERLINK('PDF-Dateien'!I1 & \"Auftraege18_1880_1882.pdf#page=24\",\"A18#24\")","v":"A18#24"}]
["A18.25",{"$f":"HYPERLINK('PDF-Dateien'!I1 & \"Auftraege18_1880_1882.pdf#page=25\",\"A18#25\")","v":"A18#25"}]
["A18.26",{"$f":"HYPERLINK('PDF-Dateien'!I1 & \"Auftraege18_1880_1882.pdf#page=26\",\"A18#26\")","v":"A18#26"}]
["A18.27",{"$f":"HYPERLINK('PDF-Dateien'!I1 & \"Auftraege18_1880_1882.pdf#page=27\",\"A18#27\")","v":"A18#27"}]
["A18.28",{"$f":"HYPERLINK('PDF-Dateien'!I1 & \"Auftraege18_1880_1882.pdf#page=28\",\"A18#28\")","v":"A18#28"}]
["A18.29",{"$f":"HYPERLINK('PDF-Dateien'!I1 & \"Auftraege18_1880_1882.pdf#page=29\",\"A18#29\")","v":"A18#29"}]
["A18.30",{"$f":"HYPERLINK('PDF-Dateien'!I1 & \"Auftraege18_1880_1882.pdf#page=30\",\"A18#30\")","v":"A18#30"}]
["A18.31",{"$f":"HYPERLINK('PDF-Dateien'!I1 & \"Auftraege18_1880_1882.pdf#page=31\",\"A18#31\")","v":"A18#31"}]
["A18.32",{"$f":"HYPERLINK('PDF-Dateien'!I1 & \"Auftraege18_1880_1882.pdf#page=32\",\"A18#32\")","v":"A18#32"}]
["A18.33",{"$f":"HYPERLINK('PDF-Dateien'!I1 & \"Auftraege18_1880_1882.pdf#page=33\",\"A18#33\")","v":"A18#33"}]
["A18.34",{"$f":"HYPERLINK('PDF-Dateien'!I1 & \"Auftraege18_1880_1882.pdf#page=34\",\"A18#34\")","v":"A18#34"}]
["A18.35",{"$f":"HYPERLINK('PDF-Dateien'!I1 & \"Auftraege18_1880_1882.pdf#page=35\",\"A18#35\")","v":"A18#35"}]
["A18.36",{"$f":"HYPERLINK('PDF-Dateien'!I1 & \"Auftraege18_1880_1882.pdf#page=36\",\"A18#36\")","v":"A18#36"}]
["A18.37",{"$f":"HYPERLINK('PDF-Dateien'!I1 & \"Auftraege18_1880_1882.pdf#page=37\",\"A18#37\")","v":"A18#37"}]
["A18.38",{"$f":"HYPERLINK('PDF-Dateien'!I1 & \"Auftraege18_1880_1882.pdf#page=38\",\"A18#38\")","v":"A18#38"}]
["A18.39",{"$f":"HYPERLINK('PDF-Dateien'!I1 & \"Auftraege18_1880_1882.pdf#page=39\",\"A18#39\")","v":"A18#39"}]
["A18.40",{"$f":"HYPERLINK('PDF-Dateien'!I1 & \"Auftraege18_1880_1882.pdf#page=40\",\"A18#40\")","v":"A18#40"}]
["A18.41",{"$f":"HYPERLINK('PDF-Dateien'!I1 & \"Auftraege18_1880_1882.pdf#page=41\",\"A18#41\")","v":"A18#41"}]
["A18.42",{"$f":"HYPERLINK('PDF-Dateien'!I1 & \"Auftraege18_1880_1882.pdf#page=42\",\"A18#42\")","v":"A18#42"}]
["A18.43",{"$f":"HYPERLINK('PDF-Dateien'!I1 & \"Auftraege18_1880_1882.pdf#page=43\",\"A18#43\")","v":"A18#43"}]
["A19.02",{"$f":"HYPERLINK('PDF-Dateien'!I1 & \"Auftraege19_1882_1885.pdf#page=2\",\"A19#2\")","v":"A19#2"},null,"1882.08.01"]
["A19.03",{"$f":"HYPERLINK('PDF-Dateien'!I1 & \"Auftraege19_1882_1885.pdf#page=3\",\"A19#3\")","v":"A19#3"}]
["A19.04",{"$f":"HYPERLINK('PDF-Dateien'!I1 & \"Auftraege19_1882_1885.pdf#page=4\",\"A19#4\")","v":"A19#4"}]
["A19.05",{"$f":"HYPERLINK('PDF-Dateien'!I1 & \"Auftraege19_1882_1885.pdf#page=5\",\"A19#5\")","v":"A19#5"}]
["A19.06",{"$f":"HYPERLINK('PDF-Dateien'!I1 & \"Auftraege19_1882_1885.pdf#page=6\",\"A19#6\")","v":"A19#6"}]
["A19.07",{"$f":"HYPERLINK('PDF-Dateien'!I1 & \"Auftraege19_1882_1885.pdf#page=7\",\"A19#7\")","v":"A19#7"}]
["A19.08",{"$f":"HYPERLINK('PDF-Dateien'!I1 & \"Auftraege19_1882_1885.pdf#page=8\",\"A19#8\")","v":"A19#8"}]
["A19.09",{"$f":"HYPERLINK('PDF-Dateien'!I1 & \"Auftraege19_1882_1885.pdf#page=9\",\"A19#9\")","v":"A19#9"}]
["A19.10",{"$f":"HYPERLINK('PDF-Dateien'!I1 & \"Auftraege19_1882_1885.pdf#page=10\",\"A19#10\")","v":"A19#10"}]
["A19.11",{"$f":"HYPERLINK('PDF-Dateien'!I1 & \"Auftraege19_1882_1885.pdf#page=11\",\"A19#11\")","v":"A19#11"}]
["A19.12",{"$f":"HYPERLINK('PDF-Dateien'!I1 & \"Auftraege19_1882_1885.pdf#page=12\",\"A19#12\")","v":"A19#12"}]
["A19.13",{"$f":"HYPERLINK('PDF-Dateien'!I1 & \"Auftraege19_1882_1885.pdf#page=13\",\"A19#13\")","v":"A19#13"}]
["A19.14",{"$f":"HYPERLINK('PDF-Dateien'!I1 & \"Auftraege19_1882_1885.pdf#page=14\",\"A19#14\")","v":"A19#14"}]
["A19.15",{"$f":"HYPERLINK('PDF-Dateien'!I1 & \"Auftraege19_1882_1885.pdf#page=15\",\"A19#15\")","v":"A19#15"}]
["A19.16",{"$f":"HYPERLINK('PDF-Dateien'!I1 & \"Auftraege19_1882_1885.pdf#page=16\",\"A19#16\")","v":"A19#16"}]
["A19.17",{"$f":"HYPERLINK('PDF-Dateien'!I1 & \"Auftraege19_1882_1885.pdf#page=17\",\"A19#17\")","v":"A19#17"}]
["A19.18",{"$f":"HYPERLINK('PDF-Dateien'!I1 & \"Auftraege19_1882_1885.pdf#page=18\",\"A19#18\")","v":"A19#18"}]
["A19.19",{"$f":"HYPERLINK('PDF-Dateien'!I1 & \"Auftraege19_1882_1885.pdf#page=19\",\"A19#19\")","v":"A19#19"}]
["A19.20",{"$f":"HYPERLINK('PDF-Dateien'!I1 & \"Auftraege19_1882_1885.pdf#page=20\",\"A19#20\")","v":"A19#20"}]
["A19.21",{"$f":"HYPERLINK('PDF-Dateien'!I1 & \"Auftraege19_1882_1885.pdf#page=21\",\"A19#21\")","v":"A19#21"}]
["A19.22",{"$f":"HYPERLINK('PDF-Dateien'!I1 & \"Auftraege19_1882_1885.pdf#page=22\",\"A19#22\")","v":"A19#22"}]
["A19.23",{"$f":"HYPERLINK('PDF-Dateien'!I1 & \"Auftraege19_1882_1885.pdf#page=23\",\"A19#23\")","v":"A19#23"}]
["A19.24",{"$f":"HYPERLINK('PDF-Dateien'!I1 & \"Auftraege19_1882_1885.pdf#page=24\",\"A19#24\")","v":"A19#24"}]
["A19.25",{"$f":"HYPERLINK('PDF-Dateien'!I1 & \"Auftraege19_1882_1885.pdf#page=25\",\"A19#25\")","v":"A19#25"}]
["A19.26",{"$f":"HYPERLINK('PDF-Dateien'!I1 & \"Auftraege19_1882_1885.pdf#page=26\",\"A19#26\")","v":"A19#26"}]
["A19.27",{"$f":"HYPERLINK('PDF-Dateien'!I1 & \"Auftraege19_1882_1885.pdf#page=27\",\"A19#27\")","v":"A19#27"}]
["A19.28",{"$f":"HYPERLINK('PDF-Dateien'!I1 & \"Auftraege19_1882_1885.pdf#page=28\",\"A19#28\")","v":"A19#28"}]
["A19.29",{"$f":"HYPERLINK('PDF-Dateien'!I1 & \"Auftraege19_1882_1885.pdf#page=29\",\"A19#29\")","v":"A19#29"}]
["A19.30",{"$f":"HYPERLINK('PDF-Dateien'!I1 & \"Auftraege19_1882_1885.pdf#page=30\",\"A19#30\")","v":"A19#30"}]
["A19.31",{"$f":"HYPERLINK('PDF-Dateien'!I1 & \"Auftraege19_1882_1885.pdf#page=31\",\"A19#31\")","v":"A19#31"}]
["A19.32",{"$f":"HYPERLINK('PDF-Dateien'!I1 & \"Auftraege19_1882_1885.pdf#page=32\",\"A19#32\")","v":"A19#32"}]
["A19.33",{"$f":"HYPERLINK('PDF-Dateien'!I1 & \"Auftraege19_1882_1885.pdf#page=33\",\"A19#33\")","v":"A19#33"}]
["A19.34",{"$f":"HYPERLINK('PDF-Dateien'!I1 & \"Auftraege19_1882_1885.pdf#page=34\",\"A19#34\")","v":"A19#34"}]
["A19.35",{"$f":"HYPERLINK('PDF-Dateien'!I1 & \"Auftraege19_1882_1885.pdf#page=35\",\"A19#35\")","v":"A19#35"}]
["A19.36",{"$f":"HYPERLINK('PDF-Dateien'!I1 & \"Auftraege19_1882_1885.pdf#page=36\",\"A19#36\")","v":"A19#36"}]
["A19.37",{"$f":"HYPERLINK('PDF-Dateien'!I1 & \"Auftraege19_1882_1885.pdf#page=37\",\"A19#37\")","v":"A19#37"}]
["A19.38",{"$f":"HYPERLINK('PDF-Dateien'!I1 & \"Auftraege19_1882_1885.pdf#page=38\",\"A19#38\")","v":"A19#38"}]
["A20.02",{"$f":"HYPERLINK('PDF-Dateien'!I1 & \"Auftraege20_1885_1887.pdf#page=2\",\"A20#2\")","v":"A20#2"},null,"1885.01.06"]
["A20.03",{"$f":"HYPERLINK('PDF-Dateien'!I1 & \"Auftraege20_1885_1887.pdf#page=3\",\"A20#3\")","v":"A20#3"}]
["A20.04",{"$f":"HYPERLINK('PDF-Dateien'!I1 & \"Auftraege20_1885_1887.pdf#page=4\",\"A20#4\")","v":"A20#4"}]
["A20.05",{"$f":"HYPERLINK('PDF-Dateien'!I1 & \"Auftraege20_1885_1887.pdf#page=5\",\"A20#5\")","v":"A20#5"}]
["A20.06",{"$f":"HYPERLINK('PDF-Dateien'!I1 & \"Auftraege20_1885_1887.pdf#page=6\",\"A20#6\")","v":"A20#6"}]
["A20.07",{"$f":"HYPERLINK('PDF-Dateien'!I1 & \"Auftraege20_1885_1887.pdf#page=7\",\"A20#7\")","v":"A20#7"}]
["A20.08",{"$f":"HYPERLINK('PDF-Dateien'!I1 & \"Auftraege20_1885_1887.pdf#page=8\",\"A20#8\")","v":"A20#8"}]
["A20.09",{"$f":"HYPERLINK('PDF-Dateien'!I1 & \"Auftraege20_1885_1887.pdf#page=9\",\"A20#9\")","v":"A20#9"}]
["A20.10",{"$f":"HYPERLINK('PDF-Dateien'!I1 & \"Auftraege20_1885_1887.pdf#page=10\",\"A20#10\")","v":"A20#10"}]
["A20.11",{"$f":"HYPERLINK('PDF-Dateien'!I1 & \"Auftraege20_1885_1887.pdf#page=11\",\"A20#11\")","v":"A20#11"}]
["A20.12",{"$f":"HYPERLINK('PDF-Dateien'!I1 & \"Auftraege20_1885_1887.pdf#page=12\",\"A20#12\")","v":"A20#12"}]
["A20.13",{"$f":"HYPERLINK('PDF-Dateien'!I1 & \"Auftraege20_1885_1887.pdf#page=13\",\"A20#13\")","v":"A20#13"}]
["A20.14",{"$f":"HYPERLINK('PDF-Dateien'!I1 & \"Auftraege20_1885_1887.pdf#page=14\",\"A20#14\")","v":"A20#14"}]
["A20.15",{"$f":"HYPERLINK('PDF-Dateien'!I1 & \"Auftraege20_1885_1887.pdf#page=15\",\"A20#15\")","v":"A20#15"}]
["A20.16",{"$f":"HYPERLINK('PDF-Dateien'!I1 & \"Auftraege20_1885_1887.pdf#page=16\",\"A20#16\")","v":"A20#16"}]
["A20.17",{"$f":"HYPERLINK('PDF-Dateien'!I1 & \"Auftraege20_1885_1887.pdf#page=17\",\"A20#17\")","v":"A20#17"}]
["A20.18",{"$f":"HYPERLINK('PDF-Dateien'!I1 & \"Auftraege20_1885_1887.pdf#page=18\",\"A20#18\")","v":"A20#18"}]
["A20.19",{"$f":"HYPERLINK('PDF-Dateien'!I1 & \"Auftraege20_1885_1887.pdf#page=19\",\"A20#19\")","v":"A20#19"}]
["A20.20",{"$f":"HYPERLINK('PDF-Dateien'!I1 & \"Auftraege20_1885_1887.pdf#page=20\",\"A20#20\")","v":"A20#20"}]
["A20.21",{"$f":"HYPERLINK('PDF-Dateien'!I1 & \"Auftraege20_1885_1887.pdf#page=21\",\"A20#21\")","v":"A20#21"}]
["A20.22",{"$f":"HYPERLINK('PDF-Dateien'!I1 & \"Auftraege20_1885_1887.pdf#page=22\",\"A20#22\")","v":"A20#22"}]
["A20.23",{"$f":"HYPERLINK('PDF-Dateien'!I1 & \"Auftraege20_1885_1887.pdf#page=23\",\"A20#23\")","v":"A20#23"}]
["A20.24",{"$f":"HYPERLINK('PDF-Dateien'!I1 & \"Auftraege20_1885_1887.pdf#page=24\",\"A20#24\")","v":"A20#24"}]
["A20.25",{"$f":"HYPERLINK('PDF-Dateien'!I1 & \"Auftraege20_1885_1887.pdf#page=25\",\"A20#25\")","v":"A20#25"}]
["A20.26",{"$f":"HYPERLINK('PDF-Dateien'!I1 & \"Auftraege20_1885_1887.pdf#page=26\",\"A20#26\")","v":"A20#26"}]
["A20.27",{"$f":"HYPERLINK('PDF-Dateien'!I1 & \"Auftraege20_1885_1887.pdf#page=27\",\"A20#27\")","v":"A20#27"}]
["A20.28",{"$f":"HYPERLINK('PDF-Dateien'!I1 & \"Auftraege20_1885_1887.pdf#page=28\",\"A20#28\")","v":"A20#28"}]
["A20.29",{"$f":"HYPERLINK('PDF-Dateien'!I1 & \"Auftraege20_1885_1887.pdf#page=29\",\"A20#29\")","v":"A20#29"}]
["A20.30",{"$f":"HYPERLINK('PDF-Dateien'!I1 & \"Auftraege20_1885_1887.pdf#page=30\",\"A20#30\")","v":"A20#30"}]
["A20.31",{"$f":"HYPERLINK('PDF-Dateien'!I1 & \"Auftraege20_1885_1887.pdf#page=31\",\"A20#31\")","v":"A20#31"}]
["A20.32",{"$f":"HYPERLINK('PDF-Dateien'!I1 & \"Auftraege20_1885_1887.pdf#page=32\",\"A20#32\")","v":"A20#32"}]
["A20.33",{"$f":"HYPERLINK('PDF-Dateien'!I1 & \"Auftraege20_1885_1887.pdf#page=33\",\"A20#33\")","v":"A20#33"}]
["A20.34",{"$f":"HYPERLINK('PDF-Dateien'!I1 & \"Auftraege20_1885_1887.pdf#page=34\",\"A20#34\")","v":"A20#34"}]
["A21.02",{"$f":"HYPERLINK('PDF-Dateien'!I1 & \"Auftraege21_1887_1888.pdf#page=2\",\"A21#2\")","v":"A21#2"},null,"1887.01.01"]
["A21.03",{"$f":"HYPERLINK('PDF-Dateien'!I1 & \"Auftraege21_1887_1888.pdf#page=3\",\"A21#3\")","v":"A21#3"}]
["A21.04",{"$f":"HYPERLINK('PDF-Dateien'!I1 & \"Auftraege21_1887_1888.pdf#page=4\",\"A21#4\")","v":"A21#4"}]
["A21.05",{"$f":"HYPERLINK('PDF-Dateien'!I1 & \"Auftraege21_1887_1888.pdf#page=5\",\"A21#5\")","v":"A21#5"}]
["A21.06",{"$f":"HYPERLINK('PDF-Dateien'!I1 & \"Auftraege21_1887_1888.pdf#page=6\",\"A21#6\")","v":"A21#6"}]
["A21.07",{"$f":"HYPERLINK('PDF-Dateien'!I1 & \"Auftraege21_1887_1888.pdf#page=7\",\"A21#7\")","v":"A21#7"}]
["A21.08",{"$f":"HYPERLINK('PDF-Dateien'!I1 & \"Auftraege21_1887_1888.pdf#page=8\",\"A21#8\")","v":"A21#8"}]
["A21.09",{"$f":"HYPERLINK('PDF-Dateien'!I1 & \"Auftraege21_1887_1888.pdf#page=9\",\"A21#9\")","v":"A21#9"}]
["A21.10",{"$f":"HYPERLINK('PDF-Dateien'!I1 & \"Auftraege21_1887_1888.pdf#page=10\",\"A21#10\")","v":"A21#10"}]
["A21.11",{"$f":"HYPERLINK('PDF-Dateien'!I1 & \"Auftraege21_1887_1888.pdf#page=11\",\"A21#11\")","v":"A21#11"}]
["A21.12",{"$f":"HYPERLINK('PDF-Dateien'!I1 & \"Auftraege21_1887_1888.pdf#page=12\",\"A21#12\")","v":"A21#12"}]
["A21.13",{"$f":"HYPERLINK('PDF-Dateien'!I1 & \"Auftraege21_1887_1888.pdf#page=13\",\"A21#13\")","v":"A21#13"}]
["A21.14",{"$f":"HYPERLINK('PDF-Dateien'!I1 & \"Auftraege21_1887_1888.pdf#page=14\",\"A21#14\")","v":"A21#14"}]
["A21.15",{"$f":"HYPERLINK('PDF-Dateien'!I1 & \"Auftraege21_1887_1888.pdf#page=15\",\"A21#15\")","v":"A21#15"}]
["A21.16",{"$f":"HYPERLINK('PDF-Dateien'!I1 & \"Auftraege21_1887_1888.pdf#page=16\",\"A21#16\")","v":"A21#16"}]
["A21.17",{"$f":"HYPERLINK('PDF-Dateien'!I1 & \"Auftraege21_1887_1888.pdf#page=17\",\"A21#17\")","v":"A21#17"}]
["A21.18",{"$f":"HYPERLINK('PDF-Dateien'!I1 & \"Auftraege21_1887_1888.pdf#page=18\",\"A21#18\")","v":"A21#18"}]
["A21.19",{"$f":"HYPERLINK('PDF-Dateien'!I1 & \"Auftraege21_1887_1888.pdf#page=19\",\"A21#19\")","v":"A21#19"}]
["A21.20",{"$f":"HYPERLINK('PDF-Dateien'!I1 & \"Auftraege21_1887_1888.pdf#page=20\",\"A21#20\")","v":"A21#20"}]
["A21.21",{"$f":"HYPERLINK('PDF-Dateien'!I1 & \"Auftraege21_1887_1888.pdf#page=21\",\"A21#21\")","v":"A21#21"}]
["A21.22",{"$f":"HYPERLINK('PDF-Dateien'!I1 & \"Auftraege21_1887_1888.pdf#page=22\",\"A21#22\")","v":"A21#22"}]
["A21.23",{"$f":"HYPERLINK('PDF-Dateien'!I1 & \"Auftraege21_1887_1888.pdf#page=23\",\"A21#23\")","v":"A21#23"}]
["A21.24",{"$f":"HYPERLINK('PDF-Dateien'!I1 & \"Auftraege21_1887_1888.pdf#page=24\",\"A21#24\")","v":"A21#24"}]
["A21.25",{"$f":"HYPERLINK('PDF-Dateien'!I1 & \"Auftraege21_1887_1888.pdf#page=25\",\"A21#25\")","v":"A21#25"}]
["A21.26",{"$f":"HYPERLINK('PDF-Dateien'!I1 & \"Auftraege21_1887_1888.pdf#page=26\",\"A21#26\")","v":"A21#26"}]
["A21.27",{"$f":"HYPERLINK('PDF-Dateien'!I1 & \"Auftraege21_1887_1888.pdf#page=27\",\"A21#27\")","v":"A21#27"}]
["A21.28",{"$f":"HYPERLINK('PDF-Dateien'!I1 & \"Auftraege21_1887_1888.pdf#page=28\",\"A21#28\")","v":"A21#28"}]
["A21.29",{"$f":"HYPERLINK('PDF-Dateien'!I1 & \"Auftraege21_1887_1888.pdf#page=29\",\"A21#29\")","v":"A21#29"}]
["A21.30",{"$f":"HYPERLINK('PDF-Dateien'!I1 & \"Auftraege21_1887_1888.pdf#page=30\",\"A21#30\")","v":"A21#30"}]
["A21.31",{"$f":"HYPERLINK('PDF-Dateien'!I1 & \"Auftraege21_1887_1888.pdf#page=31\",\"A21#31\")","v":"A21#31"}]
["A21.32",{"$f":"HYPERLINK('PDF-Dateien'!I1 & \"Auftraege21_1887_1888.pdf#page=32\",\"A21#32\")","v":"A21#32"}]
["A21.33",{"$f":"HYPERLINK('PDF-Dateien'!I1 & \"Auftraege21_1887_1888.pdf#page=33\",\"A21#33\")","v":"A21#33"}]
["A21.34",{"$f":"HYPERLINK('PDF-Dateien'!I1 & \"Auftraege21_1887_1888.pdf#page=34\",\"A21#34\")","v":"A21#34"}]
["A22.02",{"$f":"HYPERLINK('PDF-Dateien'!I1 & \"Auftraege22_1888_1890.pdf#page=2\",\"A22#2\")","v":"A22#2"},null,"1888.11.20"]
["A22.03",{"$f":"HYPERLINK('PDF-Dateien'!I1 & \"Auftraege22_1888_1890.pdf#page=3\",\"A22#3\")","v":"A22#3"},null,"1888.11.17"]
["A22.04",{"$f":"HYPERLINK('PDF-Dateien'!I1 & \"Auftraege22_1888_1890.pdf#page=4\",\"A22#4\")","v":"A22#4"},null,"1888.12.12"]
["A22.05",{"$f":"HYPERLINK('PDF-Dateien'!I1 & \"Auftraege22_1888_1890.pdf#page=5\",\"A22#5\")","v":"A22#5"},null,"1889.01.02"]
["A22.06",{"$f":"HYPERLINK('PDF-Dateien'!I1 & \"Auftraege22_1888_1890.pdf#page=6\",\"A22#6\")","v":"A22#6"},null,"1889.01.07"]
["A22.07",{"$f":"HYPERLINK('PDF-Dateien'!I1 & \"Auftraege22_1888_1890.pdf#page=7\",\"A22#7\")","v":"A22#7"},null,"1889.01.20"]
["A22.08",{"$f":"HYPERLINK('PDF-Dateien'!I1 & \"Auftraege22_1888_1890.pdf#page=8\",\"A22#8\")","v":"A22#8"},null,"1889.02.09"]
["A22.09",{"$f":"HYPERLINK('PDF-Dateien'!I1 & \"Auftraege22_1888_1890.pdf#page=9\",\"A22#9\")","v":"A22#9"},null,"1889.02.18"]
["A22.10",{"$f":"HYPERLINK('PDF-Dateien'!I1 & \"Auftraege22_1888_1890.pdf#page=10\",\"A22#10\")","v":"A22#10"},null,"1889.03.01"]
["A22.11",{"$f":"HYPERLINK('PDF-Dateien'!I1 & \"Auftraege22_1888_1890.pdf#page=11\",\"A22#11\")","v":"A22#11"},null,"1889.03.23"]
["A22.12",{"$f":"HYPERLINK('PDF-Dateien'!I1 & \"Auftraege22_1888_1890.pdf#page=12\",\"A22#12\")","v":"A22#12"},null,"1889.04.02"]
["A22.13",{"$f":"HYPERLINK('PDF-Dateien'!I1 & \"Auftraege22_1888_1890.pdf#page=13\",\"A22#13\")","v":"A22#13"},null,"1889.04.11"]
["A22.14",{"$f":"HYPERLINK('PDF-Dateien'!I1 & \"Auftraege22_1888_1890.pdf#page=14\",\"A22#14\")","v":"A22#14"},null,"1889.05.04"]
["A22.15",{"$f":"HYPERLINK('PDF-Dateien'!I1 & \"Auftraege22_1888_1890.pdf#page=15\",\"A22#15\")","v":"A22#15"},null,"1889.06.04"]
["A22.16",{"$f":"HYPERLINK('PDF-Dateien'!I1 & \"Auftraege22_1888_1890.pdf#page=16\",\"A22#16\")","v":"A22#16"},null,"1889.07.02"]
["A22.17",{"$f":"HYPERLINK('PDF-Dateien'!I1 & \"Auftraege22_1888_1890.pdf#page=17\",\"A22#17\")","v":"A22#17"},null,"1889.07.08"]
["A22.18",{"$f":"HYPERLINK('PDF-Dateien'!I1 & \"Auftraege22_1888_1890.pdf#page=18\",\"A22#18\")","v":"A22#18"},null,"1889.07.18"]
["A22.19",{"$f":"HYPERLINK('PDF-Dateien'!I1 & \"Auftraege22_1888_1890.pdf#page=19\",\"A22#19\")","v":"A22#19"},null,"1889.08.14"]
["A22.20",{"$f":"HYPERLINK('PDF-Dateien'!I1 & \"Auftraege22_1888_1890.pdf#page=20\",\"A22#20\")","v":"A22#20"},null,"1889.09.16"]
["A22.21",{"$f":"HYPERLINK('PDF-Dateien'!I1 & \"Auftraege22_1888_1890.pdf#page=21\",\"A22#21\")","v":"A22#21"},null,"1889.10.01"]
["A22.22",{"$f":"HYPERLINK('PDF-Dateien'!I1 & \"Auftraege22_1888_1890.pdf#page=22\",\"A22#22\")","v":"A22#22"},null,"1889.10.25"]
["A22.23",{"$f":"HYPERLINK('PDF-Dateien'!I1 & \"Auftraege22_1888_1890.pdf#page=23\",\"A22#23\")","v":"A22#23"},null,"1889.11.07"]
["A22.24",{"$f":"HYPERLINK('PDF-Dateien'!I1 & \"Auftraege22_1888_1890.pdf#page=24\",\"A22#24\")","v":"A22#24"},null,"1889.11.22"]
["A22.25",{"$f":"HYPERLINK('PDF-Dateien'!I1 & \"Auftraege22_1888_1890.pdf#page=25\",\"A22#25\")","v":"A22#25"},null,"1889.12.06"]
["A22.26",{"$f":"HYPERLINK('PDF-Dateien'!I1 & \"Auftraege22_1888_1890.pdf#page=26\",\"A22#26\")","v":"A22#26"},null,"1889.12.19"]
["A23.02",{"$f":"HYPERLINK('PDF-Dateien'!I1 & \"Auftraege23_1890_1891.pdf#page=2\",\"A23#2\")","v":"A23#2"},null,"1890.01.03"]
["A23.03",{"$f":"HYPERLINK('PDF-Dateien'!I1 & \"Auftraege23_1890_1891.pdf#page=3\",\"A23#3\")","v":"A23#3"},null,"1890.01.10"]
["A23.04",{"$f":"HYPERLINK('PDF-Dateien'!I1 & \"Auftraege23_1890_1891.pdf#page=4\",\"A23#4\")","v":"A23#4"},null,"1890.01.21"]
["A23.05",{"$f":"HYPERLINK('PDF-Dateien'!I1 & \"Auftraege23_1890_1891.pdf#page=5\",\"A23#5\")","v":"A23#5"},null,"1890.02.04"]
["A23.06",{"$f":"HYPERLINK('PDF-Dateien'!I1 & \"Auftraege23_1890_1891.pdf#page=6\",\"A23#6\")","v":"A23#6"},null,"1890.02.19"]
["A23.07",{"$f":"HYPERLINK('PDF-Dateien'!I1 & \"Auftraege23_1890_1891.pdf#page=7\",\"A23#7\")","v":"A23#7"},null,"1890.03.03"]
["A23.08",{"$f":"HYPERLINK('PDF-Dateien'!I1 & \"Auftraege23_1890_1891.pdf#page=8\",\"A23#8\")","v":"A23#8"},null,"1890.03.06"]
["A23.09",{"$f":"HYPERLINK('PDF-Dateien'!I1 & \"Auftraege23_1890_1891.pdf#page=9\",\"A23#9\")","v":"A23#9"},null,"1890.03.31"]
["A23.10",{"$f":"HYPERLINK('PDF-Dateien'!I1 & \"Auftraege23_1890_1891.pdf#page=10\",\"A23#10\")","v":"A23#10"},null,"1890.04.17"]
["A23.11",{"$f":"HYPERLINK('PDF-Dateien'!I1 & \"Auftraege23_1890_1891.pdf#page=11\",\"A23#11\")","v":"A23#11"},null,"1890.05.09"]
["A23.12",{"$f":"HYPERLINK('PDF-Dateien'!I1 & \"Auftraege23_1890_1891.pdf#page=12\",\"A23#12\")","v":"A23#12"},null,"1890.05.24"]
["A23.13",{"$f":"HYPERLINK('PDF-Dateien'!I1 & \"Auftraege23_1890_1891.pdf#page=13\",\"A23#13\")","v":"A23#13"},null,"1890.06.09"]
["A23.14",{"$f":"HYPERLINK('PDF-Dateien'!I1 & \"Auftraege23_1890_1891.pdf#page=14\",\"A23#14\")","v":"A23#14"},null,"1890.06.12"]
["A23.15",{"$f":"HYPERLINK('PDF-Dateien'!I1 & \"Auftraege23_1890_1891.pdf#page=15\",\"A23#15\")","v":"A23#15"},null,"1890.06.21"]
["A23.16",{"$f":"HYPERLINK('PDF-Dateien'!I1 & \"Auftraege23_1890_1891.pdf#page=16\",\"A23#16\")","v":"A23#16"},null,"1890.07.07"]
["A23.17",{"$f":"HYPERLINK('PDF-Dateien'!I1 & \"Auftraege23_1890_1891.pdf#page=17\",\"A23#17\")","v":"A23#17"},null,"1890.08.04"]
["A23.18",{"$f":"HYPERLINK('PDF-Dateien'!I1 & \"Auftraege23_1890_1891.pdf#page=18\",\"A23#18\")","v":"A23#18"},null,"1890.09.10"]
["A23.19",{"$f":"HYPERLINK('PDF-Dateien'!I1 & \"Auftraege23_1890_1891.pdf#page=19\",\"A23#19\")","v":"A23#19"},null,"1890.10.04"]
["A23.20",{"$f":"HYPERLINK('PDF-Dateien'!I1 & \"Auftraege23_1890_1891.pdf#page=20\",\"A23#20\")","v":"A23#20"},null,"1890.10.10"]
["A23.21",{"$f":"HYPERLINK('PDF-Dateien'!I1 & \"Auftraege23_1890_1891.pdf#page=21\",\"A23#21\")","v":"A23#21"},null,"1890.10.25"]
["A23.22",{"$f":"HYPERLINK('PDF-Dateien'!I1 & \"Auftraege23_1890_1891.pdf#page=22\",\"A23#22\")","v":"A23#22"},null,"1890.11.03"]
["A23.23",{"$f":"HYPERLINK('PDF-Dateien'!I1 & \"Auftraege23_1890_1891.pdf#page=23\",\"A23#23\")","v":"A23#23"},null,"1890.11.24"]
["A23.24",{"$f":"HYPERLINK('PDF-Dateien'!I1 & \"Auftraege23_1890_1891.pdf#page=24\",\"A23#24\")","v":"A23#24"},null,"1890.12.11"]
["A23.25",{"$f":"HYPERLINK('PDF-Dateien'!I1 & \"Auftraege23_1890_1891.pdf#page=25\",\"A23#25\")","v":"A23#25"},null,"1890.12.22"]
["A23.26",{"$f":"HYPERLINK('PDF-Dateien'!I1 & \"Auftraege23_1890_1891.pdf#page=26\",\"A23#26\")","v":"A23#26"},null,"1891.01.17"]
["A23.27",{"$f":"HYPERLINK('PDF-Dateien'!I1 & \"Auftraege23_1890_1891.pdf#page=27\",\"A23#27\")","v":"A23#27"},null,"1891.02.03"]
["A23.28",{"$f":"HYPERLINK('PDF-Dateien'!I1 & \"Auftraege23_1890_1891.pdf#page=28\",\"A23#28\")","v":"A23#28"},null,"1891.02.12"]
["A23.29",{"$f":"HYPERLINK('PDF-Dateien'!I1 & \"Auftraege23_1890_1891.pdf#page=29\",\"A23#29\")","v":"A23#29"},null,"1891.02.21"]
["A23.30",{"$f":"HYPERLINK('PDF-Dateien'!I1 & \"Auftraege23_1890_1891.pdf#page=30\",\"A23#30\")","v":"A23#30"},null,"1891.03.14"]
["A23.31",{"$f":"HYPERLINK('PDF-Dateien'!I1 & \"Auftraege23_1890_1891.pdf#page=31\",\"A23#31\")","v":"A23#31"},null,"1891.03.19"]
["A23.32",{"$f":"HYPERLINK('PDF-Dateien'!I1 & \"Auftraege23_1890_1891.pdf#page=32\",\"A23#32\")","v":"A23#32"},null,"1891.03.30"]
["A23.33",{"$f":"HYPERLINK('PDF-Dateien'!I1 & \"Auftraege23_1890_1891.pdf#page=33\",\"A23#33\")","v":"A23#33"},null,"1891.04.02"]
["A23.34",{"$f":"HYPERLINK('PDF-Dateien'!I1 & \"Auftraege23_1890_1891.pdf#page=34\",\"A23#34\")","v":"A23#34"},null,"1891.04.20"]
["A23.35",{"$f":"HYPERLINK('PDF-Dateien'!I1 & \"Auftraege23_1890_1891.pdf#page=35\",\"A23#35\")","v":"A23#35"},null,"1891.05.08"]
["A23.36",{"$f":"HYPERLINK('PDF-Dateien'!I1 & \"Auftraege23_1890_1891.pdf#page=36\",\"A23#36\")","v":"A23#36"},null,"1891.06.03"]
["A23.37",{"$f":"HYPERLINK('PDF-Dateien'!I1 & \"Auftraege23_1890_1891.pdf#page=37\",\"A23#37\")","v":"A23#37"},null,"1891.06.17"]
["A24.02",{"$f":"HYPERLINK('PDF-Dateien'!I1 & \"Auftraege24_1891_1893.pdf#page=2\",\"A24#2\")","v":"A24#2"},null,"1891.06.24"]
["A24.03",{"$f":"HYPERLINK('PDF-Dateien'!I1 & \"Auftraege24_1891_1893.pdf#page=3\",\"A24#3\")","v":"A24#3"},null,"1891.07.06"]
["A24.05",{"$f":"HYPERLINK('PDF-Dateien'!I1 & \"Auftraege24_1891_1893.pdf#page=5\",\"A24#5\")","v":"A24#5"},null,"1891.07.07","Einlagen auf Seite 4"]
["A24.07",{"$f":"HYPERLINK('PDF-Dateien'!I1 & \"Auftraege24_1891_1893.pdf#page=7\",\"A24#7\")","v":"A24#7"},null,"1891.07.15","Einlagen auf Seite 6"]
["A24.08",{"$f":"HYPERLINK('PDF-Dateien'!I1 & \"Auftraege24_1891_1893.pdf#page=8\",\"A24#8\")","v":"A24#8"},null,"1891.07.28"]
["A24.09",{"$f":"HYPERLINK('PDF-Dateien'!I1 & \"Auftraege24_1891_1893.pdf#page=9\",\"A24#9\")","v":"A24#9"},null,"1891.09.01"]
["A24.10",{"$f":"HYPERLINK('PDF-Dateien'!I1 & \"Auftraege24_1891_1893.pdf#page=10\",\"A24#10\")","v":"A24#10"},null,"1891.09.15"]
["A24.11",{"$f":"HYPERLINK('PDF-Dateien'!I1 & \"Auftraege24_1891_1893.pdf#page=11\",\"A24#11\")","v":"A24#11"},null,"1891.09.28"]
["A24.12",{"$f":"HYPERLINK('PDF-Dateien'!I1 & \"Auftraege24_1891_1893.pdf#page=12\",\"A24#12\")","v":"A24#12"},null,"1891.11.04"]
["A24.13",{"$f":"HYPERLINK('PDF-Dateien'!I1 & \"Auftraege24_1891_1893.pdf#page=13\",\"A24#13\")","v":"A24#13"},null,"1891.12.03"]
["A24.14",{"$f":"HYPERLINK('PDF-Dateien'!I1 & \"Auftraege24_1891_1893.pdf#page=14\",\"A24#14\")","v":"A24#14"},null,"1892.01.12"]
["A24.15",{"$f":"HYPERLINK('PDF-Dateien'!I1 & \"Auftraege24_1891_1893.pdf#page=15\",\"A24#15\")","v":"A24#15"},null,"1892.01.21"]
["A24.16",{"$f":"HYPERLINK('PDF-Dateien'!I1 & \"Auftraege24_1891_1893.pdf#page=16\",\"A24#16\")","v":"A24#16"},null,"1892.01.22"]
["A24.17",{"$f":"HYPERLINK('PDF-Dateien'!I1 & \"Auftraege24_1891_1893.pdf#page=17\",\"A24#17\")","v":"A24#17"},null,"1892.01.22"]
["A24.18",{"$f":"HYPERLINK('PDF-Dateien'!I1 & \"Auftraege24_1891_1893.pdf#page=18\",\"A24#18\")","v":"A24#18"},null,"1892.02.15"]
["A24.19",{"$f":"HYPERLINK('PDF-Dateien'!I1 & \"Auftraege24_1891_1893.pdf#page=19\",\"A24#19\")","v":"A24#19"},null,"1892.02.29"]
["A24.20",{"$f":"HYPERLINK('PDF-Dateien'!I1 & \"Auftraege24_1891_1893.pdf#page=20\",\"A24#20\")","v":"A24#20"},null,"1892.03.18"]
["A24.21",{"$f":"HYPERLINK('PDF-Dateien'!I1 & \"Auftraege24_1891_1893.pdf#page=21\",\"A24#21\")","v":"A24#21"},null,"1892.04.01"]
["A24.22",{"$f":"HYPERLINK('PDF-Dateien'!I1 & \"Auftraege24_1891_1893.pdf#page=22\",\"A24#22\")","v":"A24#22"},null,"1892.04.22"]
["A24.23",{"$f":"HYPERLINK('PDF-Dateien'!I1 & \"Auftraege24_1891_1893.pdf#page=23\",\"A24#23\")","v":"A24#23"},null,"1892.05.28"]
["A24.24",{"$f":"HYPERLINK('PDF-Dateien'!I1 & \"Auftraege24_1891_1893.pdf#page=24\",\"A24#24\")","v":"A24#24"},null,"1892.06.15"]
["A24.25",{"$f":"HYPERLINK('PDF-Dateien'!I1 & \"Auftraege24_1891_1893.pdf#page=25\",\"A24#25\")","v":"A24#25"},null,"1892.08.27"]
["A24.26",{"$f":"HYPERLINK('PDF-Dateien'!I1 & \"Auftraege24_1891_1893.pdf#page=26\",\"A24#26\")","v":"A24#26"},null,"1892.10.07"]
["A24.27",{"$f":"HYPERLINK('PDF-Dateien'!I1 & \"Auftraege24_1891_1893.pdf#page=27\",\"A24#27\")","v":"A24#27"},null,"1892.12.20"]
["A24.28",{"$f":"HYPERLINK('PDF-Dateien'!I1 & \"Auftraege24_1891_1893.pdf#page=28\",\"A24#28\")","v":"A24#28"},null,"1893.01.17"]
["A24.29",{"$f":"HYPERLINK('PDF-Dateien'!I1 & \"Auftraege24_1891_1893.pdf#page=29\",\"A24#29\")","v":"A24#29"},null,"1893.02.09"]
["A24.30",{"$f":"HYPERLINK('PDF-Dateien'!I1 & \"Auftraege24_1891_1893.pdf#page=30\",\"A24#30\")","v":"A24#30"},null,"1893.03.03"]
["A24.31",{"$f":"HYPERLINK('PDF-Dateien'!I1 & \"Auftraege24_1891_1893.pdf#page=31\",\"A24#31\")","v":"A24#31"},null,"1893.03.29"]
["A24.32",{"$f":"HYPERLINK('PDF-Dateien'!I1 & \"Auftraege24_1891_1893.pdf#page=32\",\"A24#32\")","v":"A24#32"},null,"1893.05.09"]
["A24.33",{"$f":"HYPERLINK('PDF-Dateien'!I1 & \"Auftraege24_1891_1893.pdf#page=33\",\"A24#33\")","v":"A24#33"},null,"1893.06.07"]
["A24.34",{"$f":"HYPERLINK('PDF-Dateien'!I1 & \"Auftraege24_1891_1893.pdf#page=34\",\"A24#34\")","v":"A24#34"},null,"1893.07.04"]
["A26.02",{"$f":"HYPERLINK('PDF-Dateien'!I1 & \"Auftraege26_1895_1898.pdf#page=2\",\"A26#2\")","v":"A26#2"},117,"1895.12.16","Notiz zu Nr.121 auf Seite 3, Verweis auf Nr.131"]
["A26.04",{"$f":"HYPERLINK('PDF-Dateien'!I1 & \"Auftraege26_1895_1898.pdf#page=4\",\"A26#4\")","v":"A26#4"},122,"1896.01.03","Notiz zu Nr.123 auf Seite 3, Verweis auf Nr.136"]
["A26.05",{"$f":"HYPERLINK('PDF-Dateien'!I1 & \"Auftraege26_1895_1898.pdf#page=5\",\"A26#5\")","v":"A26#5"},131,"1896.01.21"]
["A26.06",{"$f":"HYPERLINK('PDF-Dateien'!I1 & \"Auftraege26_1895_1898.pdf#page=6\",\"A26#6\")","v":"A26#6"},139,"1896.02.03"]
["A26.07",{"$f":"HYPERLINK('PDF-Dateien'!I1 & \"Auftraege26_1895_1898.pdf#page=7\",\"A26#7\")","v":"A26#7"},149,"1896.02.18"]
["A26.08",{"$f":"HYPERLINK('PDF-Dateien'!I1 & \"Auftraege26_1895_1898.pdf#page=8\",\"A26#8\")","v":"A26#8"},160,"1896.03.16"]
["A26.09",{"$f":"HYPERLINK('PDF-Dateien'!I1 & \"Auftraege26_1895_1898.pdf#page=9\",\"A26#9\")","v":"A26#9"},172,"1896.03.26"]
["A26.11",{"$f":"HYPERLINK('PDF-Dateien'!I1 & \"Auftraege26_1895_1898.pdf#page=11\",\"A26#11\")","v":"A26#11"},187,"1896.04.15","Notiz zu Nr.193 auf Seite 10"]
["A26.12",{"$f":"HYPERLINK('PDF-Dateien'!I1 & \"Auftraege26_1895_1898.pdf#page=12\",\"A26#12\")","v":"A26#12"},196,"1896.04.27"]
["A26.13",{"$f":"HYPERLINK('PDF-Dateien'!I1 & \"Auftraege26_1895_1898.pdf#page=13\",\"A26#13\")","v":"A26#13"},212,"1896.05.16"]
["A26.14",{"$f":"HYPERLINK('PDF-Dateien'!I1 & \"Auftraege26_1895_1898.pdf#page=14\",\"A26#14\")","v":"A26#14"},224,"1896.06.08"]
["A26.15",{"$f":"HYPERLINK('PDF-Dateien'!I1 & \"Auftraege26_1895_1898.pdf#page=15\",\"A26#15\")","v":"A26#15"},238,"1896.08.10"]
["A26.17",{"$f":"HYPERLINK('PDF-Dateien'!I1 & \"Auftraege26_1895_1898.pdf#page=17\",\"A26#17\")","v":"A26#17"},251,"1896.09.07","Notiz zu Nr.262 auf Seite 16, Auftrag Nr.193"]
["A26.18",{"$f":"HYPERLINK('PDF-Dateien'!I1 & \"Auftraege26_1895_1898.pdf#page=18\",\"A26#18\")","v":"A26#18"},266,"1896.09.30"]
["A26.19",{"$f":"HYPERLINK('PDF-Dateien'!I1 & \"Auftraege26_1895_1898.pdf#page=19\",\"A26#19\")","v":"A26#19"},279,"1896.11.26"]
["A26.20",{"$f":"HYPERLINK('PDF-Dateien'!I1 & \"Auftraege26_1895_1898.pdf#page=20\",\"A26#20\")","v":"A26#20"},291,"1896.12.16"]
["A26.21",{"$f":"HYPERLINK('PDF-Dateien'!I1 & \"Auftraege26_1895_1898.pdf#page=21\",\"A26#21\")","v":"A26#21"},297,"1897.01.12"]
["A26.22",{"$f":"HYPERLINK('PDF-Dateien'!I1 & \"Auftraege26_1895_1898.pdf#page=22\",\"A26#22\")","v":"A26#22"},307,"1897.01.28"]
["A26.23",{"$f":"HYPERLINK('PDF-Dateien'!I1 & \"Auftraege26_1895_1898.pdf#page=23\",\"A26#23\")","v":"A26#23"},319,"1897.02.13"]
["A26.24",{"$f":"HYPERLINK('PDF-Dateien'!I1 & \"Auftraege26_1895_1898.pdf#page=24\",\"A26#24\")","v":"A26#24"},330,"1897.03.03"]
["A26.25",{"$f":"HYPERLINK('PDF-Dateien'!I1 & \"Auftraege26_1895_1898.pdf#page=25\",\"A26#25\")","v":"A26#25"},344,"1897.03.15"]
["A26.27",{"$f":"HYPERLINK('PDF-Dateien'!I1 & \"Auftraege26_1895_1898.pdf#page=27\",\"A26#27\")","v":"A26#27"},357,"1897.03.30","Notiz zu Nr.131 auf Seite 26, Auftrag Nr.357"]
["A26.28",{"$f":"HYPERLINK('PDF-Dateien'!I1 & \"Auftraege26_1895_1898.pdf#page=28\",\"A26#28\")","v":"A26#28"},366,"1897.04.08"]
["A26.29",{"$f":"HYPERLINK('PDF-Dateien'!I1 & \"Auftraege26_1895_1898.pdf#page=29\",\"A26#29\")","v":"A26#29"},375,"1897.04.23"]
["A26.30",{"$f":"HYPERLINK('PDF-Dateien'!I1 & \"Auftraege26_1895_1898.pdf#page=30\",\"A26#30\")","v":"A26#30"},386,"1897.05.17"]
["A26.31",{"$f":"HYPERLINK('PDF-Dateien'!I1 & \"Auftraege26_1895_1898.pdf#page=31\",\"A26#31\")","v":"A26#31"},401,"1897.06.14"]
["A26.32",{"$f":"HYPERLINK('PDF-Dateien'!I1 & \"Auftraege26_1895_1898.pdf#page=32\",\"A26#32\")","v":"A26#32"},412,"1897.06.23"]
["A26.33",{"$f":"HYPERLINK('PDF-Dateien'!I1 & \"Auftraege26_1895_1898.pdf#page=33\",\"A26#33\")","v":"A26#33"},421,"1897.07.06"]
["A26.34",{"$f":"HYPERLINK('PDF-Dateien'!I1 & \"Auftraege26_1895_1898.pdf#page=34\",\"A26#34\")","v":"A26#34"},425,"1897.07.13"]
["A26.35",{"$f":"HYPERLINK('PDF-Dateien'!I1 & \"Auftraege26_1895_1898.pdf#page=35\",\"A26#35\")","v":"A26#35"},435,"1897.08.06"]
["A26.36",{"$f":"HYPERLINK('PDF-Dateien'!I1 & \"Auftraege26_1895_1898.pdf#page=36\",\"A26#36\")","v":"A26#36"},439,"1897.08.07"]
["A26.37",{"$f":"HYPERLINK('PDF-Dateien'!I1 & \"Auftraege26_1895_1898.pdf#page=37\",\"A26#37\")","v":"A26#37"},448,"1897.08.14"]
["A26.38",{"$f":"HYPERLINK('PDF-Dateien'!I1 & \"Auftraege26_1895_1898.pdf#page=38\",\"A26#38\")","v":"A26#38"},459,"1897.08.27"]
["A26.39",{"$f":"HYPERLINK('PDF-Dateien'!I1 & \"Auftraege26_1895_1898.pdf#page=39\",\"A26#39\")","v":"A26#39"},473,"1897.09.29"]
["A26.40",{"$f":"HYPERLINK('PDF-Dateien'!I1 & \"Auftraege26_1895_1898.pdf#page=40\",\"A26#40\")","v":"A26#40"},479,"1897.10.05"]
["A26.41",{"$f":"HYPERLINK('PDF-Dateien'!I1 & \"Auftraege26_1895_1898.pdf#page=41\",\"A26#41\")","v":"A26#41"},487,"1897.11.03"]
["A26.42",{"$f":"HYPERLINK('PDF-Dateien'!I1 & \"Auftraege26_1895_1898.pdf#page=42\",\"A26#42\")","v":"A26#42"},494,"1897.11.23"]
["A26.43",{"$f":"HYPERLINK('PDF-Dateien'!I1 & \"Auftraege26_1895_1898.pdf#page=43\",\"A26#43\")","v":"A26#43"},507,"1898.01.05"]
["A26.44",{"$f":"HYPERLINK('PDF-Dateien'!I1 & \"Auftraege26_1895_1898.pdf#page=44\",\"A26#44\")","v":"A26#44"},516,"1898.01.17"]
["A26.45",{"$f":"HYPERLINK('PDF-Dateien'!I1 & \"Auftraege26_1895_1898.pdf#page=45\",\"A26#45\")","v":"A26#45"},528,"1898.01.27","Übertrag auf Seite 46"]
["A27.02",{"$f":"HYPERLINK('PDF-Dateien'!I1 & \"Auftraege27_1898_1899.pdf#page=2\",\"A27#2\")","v":"A27#2"},531,"1898.01.28"]
["A27.03",{"$f":"HYPERLINK('PDF-Dateien'!I1 & \"Auftraege27_1898_1899.pdf#page=3\",\"A27#3\")","v":"A27#3"},535,"1898.02.03"]
["A27.04",{"$f":"HYPERLINK('PDF-Dateien'!I1 & \"Auftraege27_1898_1899.pdf#page=4\",\"A27#4\")","v":"A27#4"},544,"1898.02.05"]
["A27.05",{"$f":"HYPERLINK('PDF-Dateien'!I1 & \"Auftraege27_1898_1899.pdf#page=5\",\"A27#5\")","v":"A27#5"},549,"1898.02.11"]
["A27.06",{"$f":"HYPERLINK('PDF-Dateien'!I1 & \"Auftraege27_1898_1899.pdf#page=6\",\"A27#6\")","v":"A27#6"},553,"1898.02.24"]
["A27.07",{"$f":"HYPERLINK('PDF-Dateien'!I1 & \"Auftraege27_1898_1899.pdf#page=7\",\"A27#7\")","v":"A27#7"},564,"1898.02.27"]
["A27.08",{"$f":"HYPERLINK('PDF-Dateien'!I1 & \"Auftraege27_1898_1899.pdf#page=8\",\"A27#8\")","v":"A27#8"},578,"1898.03.23"]
["A27.09",{"$f":"HYPERLINK('PDF-Dateien'!I1 & \"Auftraege27_1898_1899.pdf#page=9\",\"A27#9\")","v":"A27#9"},588,"1898.04.11"]
["A27.10",{"$f":"HYPERLINK('PDF-Dateien'!I1 & \"Auftraege27_1898_1899.pdf#page=10\",\"A27#10\")","v":"A27#10"},597,"1898.04.22"]
["A27.11",{"$f":"HYPERLINK('PDF-Dateien'!I1 & \"Auftraege27_1898_1899.pdf#page=11\",\"A27#11\")","v":"A27#11"},609,"1898.05.12"]
["A27.12",{"$f":"HYPERLINK('PDF-Dateien'!I1 & \"Auftraege27_1898_1899.pdf#page=12\",\"A27#12\")","v":"A27#12"},618,"1898.05.30","Wechsel Nr.627 -> Nr.16'335"]
["A27.13",{"$f":"HYPERLINK('PDF-Dateien'!I1 & \"Auftraege27_1898_1899.pdf#page=13\",\"A27#13\")","v":"A27#13"},16339,"1898.06.23"]
["A27.14",{"$f":"HYPERLINK('PDF-Dateien'!I1 & \"Auftraege27_1898_1899.pdf#page=14\",\"A27#14\")","v":"A27#14"},16351,"1898.07.09"]
["A27.15",{"$f":"HYPERLINK('PDF-Dateien'!I1 & \"Auftraege27_1898_1899.pdf#page=15\",\"A27#15\")","v":"A27#15"},16362,"1898.07.13"]
["A27.17",{"$f":"HYPERLINK('PDF-Dateien'!I1 & \"Auftraege27_1898_1899.pdf#page=17\",\"A27#17\")","v":"A27#17"},16374,"1898.07.22","Einlage Seite 16: Simplon Tunnel"]
["A27.18",{"$f":"HYPERLINK('PDF-Dateien'!I1 & \"Auftraege27_1898_1899.pdf#page=18\",\"A27#18\")","v":"A27#18"},16410,"1898.07.27"]
["A27.20",{"$f":"HYPERLINK('PDF-Dateien'!I1 & \"Auftraege27_1898_1899.pdf#page=20\",\"A27#20\")","v":"A27#20"},16424,"1898.09.12","Einlage Seite 19: Simplon Tunnel"]
["A27.21",{"$f":"HYPERLINK('PDF-Dateien'!I1 & \"Auftraege27_1898_1899.pdf#page=21\",\"A27#21\")","v":"A27#21"},16434,"1898.09.22"]
["A27.22",{"$f":"HYPERLINK('PDF-Dateien'!I1 & \"Auftraege27_1898_1899.pdf#page=22\",\"A27#22\")","v":"A27#22"},16453,"1898.10.24"]
["A27.23",{"$f":"HYPERLINK('PDF-Dateien'!I1 & \"Auftraege27_1898_1899.pdf#page=23\",\"A27#23\")","v":"A27#23"},16482,"1898.11.22"]
["A27.24",{"$f":"HYPERLINK('PDF-Dateien'!I1 & \"Auftraege27_1898_1899.pdf#page=24\",\"A27#24\")","v":"A27#24"},16496,"1898.11.24"]
["A27.26",{"$f":"HYPERLINK('PDF-Dateien'!I1 & \"Auftraege27_1898_1899.pdf#page=26\",\"A27#26\")","v":"A27#26"},16505,"1898.12.02","Notiz auf Seite 25: Fakturen für Polytechnikum"]
["A27.27",{"$f":"HYPERLINK('PDF-Dateien'!I1 & \"Auftraege27_1898_1899.pdf#page=27\",\"A27#27\")","v":"A27#27"},16508,"1898.12.15"]
["A27.28",{"$f":"HYPERLINK('PDF-Dateien'!I1 & \"Auftraege27_1898_1899.pdf#page=28\",\"A27#28\")","v":"A27#28"},16592,"1899.01.05"]
["A27.29",{"$f":"HYPERLINK('PDF-Dateien'!I1 & \"Auftraege27_1898_1899.pdf#page=29\",\"A27#29\")","v":"A27#29"},16615,"1899.01.15"]
["A27.31",{"$f":"HYPERLINK('PDF-Dateien'!I1 & \"Auftraege27_1898_1899.pdf#page=31\",\"A27#31\")","v":"A27#31"},16626,"1899.02.01","Einlage Seite 30 zu Nr.16'643"]
["A27.32",{"$f":"HYPERLINK('PDF-Dateien'!I1 & \"Auftraege27_1898_1899.pdf#page=32\",\"A27#32\")","v":"A27#32"},16646,"1899.02.20"]
["A28.02",{"$f":"HYPERLINK('PDF-Dateien'!I1 & \"Auftraege28_1899_1900.pdf#page=2\",\"A28#2\")","v":"A28#2"},16652,"1899.02.23"]
["A28.03",{"$f":"HYPERLINK('PDF-Dateien'!I1 & \"Auftraege28_1899_1900.pdf#page=3\",\"A28#3\")","v":"A28#3"},16658,"1899.03.10"]
["A28.04",{"$f":"HYPERLINK('PDF-Dateien'!I1 & \"Auftraege28_1899_1900.pdf#page=4\",\"A28#4\")","v":"A28#4"},16670,"1899.03.11"]
["A28.05",{"$f":"HYPERLINK('PDF-Dateien'!I1 & \"Auftraege28_1899_1900.pdf#page=5\",\"A28#5\")","v":"A28#5"},16687,"1899.03.23"]
["A28.06",{"$f":"HYPERLINK('PDF-Dateien'!I1 & \"Auftraege28_1899_1900.pdf#page=6\",\"A28#6\")","v":"A28#6"},16697,"1899.04.04"]
["A28.07",{"$f":"HYPERLINK('PDF-Dateien'!I1 & \"Auftraege28_1899_1900.pdf#page=7\",\"A28#7\")","v":"A28#7"},16713,"1899.04.21"]
["A28.08",{"$f":"HYPERLINK('PDF-Dateien'!I1 & \"Auftraege28_1899_1900.pdf#page=8\",\"A28#8\")","v":"A28#8"},16725,"1899.05.08"]
["A28.09",{"$f":"HYPERLINK('PDF-Dateien'!I1 & \"Auftraege28_1899_1900.pdf#page=9\",\"A28#9\")","v":"A28#9"},16734,"1899.05.24"]
["A28.10",{"$f":"HYPERLINK('PDF-Dateien'!I1 & \"Auftraege28_1899_1900.pdf#page=10\",\"A28#10\")","v":"A28#10"},16740,"1899.06.17"]
["A28.12",{"$f":"HYPERLINK('PDF-Dateien'!I1 & \"Auftraege28_1899_1900.pdf#page=12\",\"A28#12\")","v":"A28#12"},16751,"1899.06.26"]
["A28.13",{"$f":"HYPERLINK('PDF-Dateien'!I1 & \"Auftraege28_1899_1900.pdf#page=13\",\"A28#13\")","v":"A28#13"},16763,"1899.07.26"]
["A28.14",{"$f":"HYPERLINK('PDF-Dateien'!I1 & \"Auftraege28_1899_1900.pdf#page=14\",\"A28#14\")","v":"A28#14"},16774,"1899.008.22"]
["A28.15",{"$f":"HYPERLINK('PDF-Dateien'!I1 & \"Auftraege28_1899_1900.pdf#page=15\",\"A28#15\")","v":"A28#15"},16782,"1899.09.13","Siehe Seite 16 für die Kleber"]
["A28.17",{"$f":"HYPERLINK('PDF-Dateien'!I1 & \"Auftraege28_1899_1900.pdf#page=17\",\"A28#17\")","v":"A28#17"},16794,"1899.09.26"]
["A28.18",{"$f":"HYPERLINK('PDF-Dateien'!I1 & \"Auftraege28_1899_1900.pdf#page=18\",\"A28#18\")","v":"A28#18"},16844,"1899.11.22"]
["A28.19",{"$f":"HYPERLINK('PDF-Dateien'!I1 & \"Auftraege28_1899_1900.pdf#page=19\",\"A28#19\")","v":"A28#19"},16853,"1899.12.19"]
["A28.20",{"$f":"HYPERLINK('PDF-Dateien'!I1 & \"Auftraege28_1899_1900.pdf#page=20\",\"A28#20\")","v":"A28#20"},16864,"1900-03-02"]
["A28.21",{"$f":"HYPERLINK('PDF-Dateien'!I1 & \"Auftraege28_1899_1900.pdf#page=21\",\"A28#21\")","v":"A28#21"},16881,"1900-01-14"]
["A28.22",{"$f":"HYPERLINK('PDF-Dateien'!I1 & \"Auftraege28_1899_1900.pdf#page=22\",\"A28#22\")","v":"A28#22"},16893,"1900-01-22","Einlage auf Seite 23"]
["A28.24",{"$f":"HYPERLINK('PDF-Dateien'!I1 & \"Auftraege28_1899_1900.pdf#page=24\",\"A28#24\")","v":"A28#24"},16902,"1900-02-24"]
["A28.25",{"$f":"HYPERLINK('PDF-Dateien'!I1 & \"Auftraege28_1899_1900.pdf#page=25\",\"A28#25\")","v":"A28#25"},16913,"1900-03-13"]
["A28.26",{"$f":"HYPERLINK('PDF-Dateien'!I1 & \"Auftraege28_1899_1900.pdf#page=26\",\"A28#26\")","v":"A28#26"},16926,"1900-03-30"]
["A28.27",{"$f":"HYPERLINK('PDF-Dateien'!I1 & \"Auftraege28_1899_1900.pdf#page=27\",\"A28#27\")","v":"A28#27"},16938,"1900-04-14","Einlagen auf Seite 28"]
["A28.29",{"$f":"HYPERLINK('PDF-Dateien'!I1 & \"Auftraege28_1899_1900.pdf#page=29\",\"A28#29\")","v":"A28#29"},16953,"1900-05-01"]
["A28.30",{"$f":"HYPERLINK('PDF-Dateien'!I1 & \"Auftraege28_1899_1900.pdf#page=30\",\"A28#30\")","v":"A28#30"},16964,"1900-06-12"]
["A28.31",{"$f":"HYPERLINK('PDF-Dateien'!I1 & \"Auftraege28_1899_1900.pdf#page=31\",\"A28#31\")","v":"A28#31"},16974,"1900-07-02"]
["A28.32",{"$f":"HYPERLINK('PDF-Dateien'!I1 & \"Auftraege28_1899_1900.pdf#page=32\",\"A28#32\")","v":"A28#32"},16984,"1900-07-21"]
["A28.33",{"$f":"HYPERLINK('PDF-Dateien'!I1 & \"Auftraege28_1899_1900.pdf#page=33\",\"A28#33\")","v":"A28#33"},16992,"1900-08-02"]
["A28.34",{"$f":"HYPERLINK('PDF-Dateien'!I1 & \"Auftraege28_1899_1900.pdf#page=34\",\"A28#34\")","v":"A28#34"},17001,"1900-08-23"]
["A28.35",{"$f":"HYPERLINK('PDF-Dateien'!I1 & \"Auftraege28_1899_1900.pdf#page=35\",\"A28#35\")","v":"A28#35"},17011,"1900-09-05"]
["A28.36",{"$f":"HYPERLINK('PDF-Dateien'!I1 & \"Auftraege28_1899_1900.pdf#page=36\",\"A28#36\")","v":"A28#36"},17035,"1900-09-26"]
["A29.02",{"$f":"HYPERLINK('PDF-Dateien'!I1 & \"Auftraege29_1900_1902.pdf#page=2\",\"A29#2\")","v":"A29#2"},17058,"1900-10-25"]
["A29.03",{"$f":"HYPERLINK('PDF-Dateien'!I1 & \"Auftraege29_1900_1902.pdf#page=3\",\"A29#3\")","v":"A29#3"}]
["A29.04",{"$f":"HYPERLINK('PDF-Dateien'!I1 & \"Auftraege29_1900_1902.pdf#page=4\",\"A29#4\")","v":"A29#4"}]
["A29.05",{"$f":"HYPERLINK('PDF-Dateien'!I1 & \"Auftraege29_1900_1902.pdf#page=5\",\"A29#5\")","v":"A29#5"}]
["A29.06",{"$f":"HYPERLINK('PDF-Dateien'!I1 & \"Auftraege29_1900_1902.pdf#page=6\",\"A29#6\")","v":"A29#6"}]
["A29.07",{"$f":"HYPERLINK('PDF-Dateien'!I1 & \"Auftraege29_1900_1902.pdf#page=7\",\"A29#7\")","v":"A29#7"}]
["A29.08",{"$f":"HYPERLINK('PDF-Dateien'!I1 & \"Auftraege29_1900_1902.pdf#page=8\",\"A29#8\")","v":"A29#8"}]
["A29.09",{"$f":"HYPERLINK('PDF-Dateien'!I1 & \"Auftraege29_1900_1902.pdf#page=9\",\"A29#9\")","v":"A29#9"}]
["A29.10",{"$f":"HYPERLINK('PDF-Dateien'!I1 & \"Auftraege29_1900_1902.pdf#page=10\",\"A29#10\")","v":"A29#10"}]
["A29.11",{"$f":"HYPERLINK('PDF-Dateien'!I1 & \"Auftraege29_1900_1902.pdf#page=11\",\"A29#11\")","v":"A29#11"}]
["A29.12",{"$f":"HYPERLINK('PDF-Dateien'!I1 & \"Auftraege29_1900_1902.pdf#page=12\",\"A29#12\")","v":"A29#12"}]
["A29.13",{"$f":"HYPERLINK('PDF-Dateien'!I1 & \"Auftraege29_1900_1902.pdf#page=13\",\"A29#13\")","v":"A29#13"}]
["A29.14",{"$f":"HYPERLINK('PDF-Dateien'!I1 & \"Auftraege29_1900_1902.pdf#page=14\",\"A29#14\")","v":"A29#14"}]
["A29.15",{"$f":"HYPERLINK('PDF-Dateien'!I1 & \"Auftraege29_1900_1902.pdf#page=15\",\"A29#15\")","v":"A29#15"}]
["A29.16",{"$f":"HYPERLINK('PDF-Dateien'!I1 & \"Auftraege29_1900_1902.pdf#page=16\",\"A29#16\")","v":"A29#16"},null,null,"Siehe Seite 17 für den Kleber"]
["A29.18",{"$f":"HYPERLINK('PDF-Dateien'!I1 & \"Auftraege29_1900_1902.pdf#page=18\",\"A29#18\")","v":"A29#18"}]
["A29.19",{"$f":"HYPERLINK('PDF-Dateien'!I1 & \"Auftraege29_1900_1902.pdf#page=19\",\"A29#19\")","v":"A29#19"}]
["A29.20",{"$f":"HYPERLINK('PDF-Dateien'!I1 & \"Auftraege29_1900_1902.pdf#page=20\",\"A29#20\")","v":"A29#20"}]
["A29.22",{"$f":"HYPERLINK('PDF-Dateien'!I1 & \"Auftraege29_1900_1902.pdf#page=22\",\"A29#22\")","v":"A29#22"},null,null,"Einlage auf Seite 21"]
["A29.23",{"$f":"HYPERLINK('PDF-Dateien'!I1 & \"Auftraege29_1900_1902.pdf#page=23\",\"A29#23\")","v":"A29#23"}]
["A29.24",{"$f":"HYPERLINK('PDF-Dateien'!I1 & \"Auftraege29_1900_1902.pdf#page=24\",\"A29#24\")","v":"A29#24"}]
["A29.25",{"$f":"HYPERLINK('PDF-Dateien'!I1 & \"Auftraege29_1900_1902.pdf#page=25\",\"A29#25\")","v":"A29#25"}]
["A29.26",{"$f":"HYPERLINK('PDF-Dateien'!I1 & \"Auftraege29_1900_1902.pdf#page=26\",\"A29#26\")","v":"A29#26"}]
["A29.27",{"$f":"HYPERLINK('PDF-Dateien'!I1 & \"Auftraege29_1900_1902.pdf#page=27\",\"A29#27\")","v":"A29#27"}]
["A29.28",{"$f":"HYPERLINK('PDF-Dateien'!I1 & \"Auftraege29_1900_1902.pdf#page=28\",\"A29#28\")","v":"A29#28"}]
["A29.29",{"$f":"HYPERLINK('PDF-Dateien'!I1 & \"Auftraege29_1900_1902.pdf#page=29\",\"A29#29\")","v":"A29#29"}]
["A29.30",{"$f":"HYPERLINK('PDF-Dateien'!I1 & \"Auftraege29_1900_1902.pdf#page=30\",\"A29#30\")","v":"A29#30"},null,null,"Siehe Seite 31 für den Kleber"]
["A29.32",{"$f":"HYPERLINK('PDF-Dateien'!I1 & \"Auftraege29_1900_1902.pdf#page=32\",\"A29#32\")","v":"A29#32"}]
["A29.33",{"$f":"HYPERLINK('PDF-Dateien'!I1 & \"Auftraege29_1900_1902.pdf#page=33\",\"A29#33\")","v":"A29#33"}]
["A30.02",{"$f":"HYPERLINK('PDF-Dateien'!I1 & \"Auftraege30_1902_1903.pdf#page=2\",\"A30#2\")","v":"A30#2"},17565,"1902-04-12"]
["A30.03",{"$f":"HYPERLINK('PDF-Dateien'!I1 & \"Auftraege30_1902_1903.pdf#page=3\",\"A30#3\")","v":"A30#3"}]
["A30.04",{"$f":"HYPERLINK('PDF-Dateien'!I1 & \"Auftraege30_1902_1903.pdf#page=4\",\"A30#4\")","v":"A30#4"},null,null,"Siehe Seite 5 für den Kleber"]
["A30.07",{"$f":"HYPERLINK('PDF-Dateien'!I1 & \"Auftraege30_1902_1903.pdf#page=7\",\"A30#7\")","v":"A30#7"},null,null,"Einlage auf Seite 6"]
["A30.08",{"$f":"HYPERLINK('PDF-Dateien'!I1 & \"Auftraege30_1902_1903.pdf#page=8\",\"A30#8\")","v":"A30#8"}]
["A30.09",{"$f":"HYPERLINK('PDF-Dateien'!I1 & \"Auftraege30_1902_1903.pdf#page=9\",\"A30#9\")","v":"A30#9"}]
["A30.10",{"$f":"HYPERLINK('PDF-Dateien'!I1 & \"Auftraege30_1902_1903.pdf#page=10\",\"A30#10\")","v":"A30#10"}]
["A30.11",{"$f":"HYPERLINK('PDF-Dateien'!I1 & \"Auftraege30_1902_1903.pdf#page=11\",\"A30#11\")","v":"A30#11"}]
["A30.12",{"$f":"HYPERLINK('PDF-Dateien'!I1 & \"Auftraege30_1902_1903.pdf#page=12\",\"A30#12\")","v":"A30#12"}]
["A30.13",{"$f":"HYPERLINK('PDF-Dateien'!I1 & \"Auftraege30_1902_1903.pdf#page=13\",\"A30#13\")","v":"A30#13"}]
["A30.14",{"$f":"HYPERLINK('PDF-Dateien'!I1 & \"Auftraege30_1902_1903.pdf#page=14\",\"A30#14\")","v":"A30#14"}]
["A30.15",{"$f":"HYPERLINK('PDF-Dateien'!I1 & \"Auftraege30_1902_1903.pdf#page=15\",\"A30#15\")","v":"A30#15"}]
["A30.16",{"$f":"HYPERLINK('PDF-Dateien'!I1 & \"Auftraege30_1902_1903.pdf#page=16\",\"A30#16\")","v":"A30#16"}]
["A30.18",{"$f":"HYPERLINK('PDF-Dateien'!I1 & \"Auftraege30_1902_1903.pdf#page=18\",\"A30#18\")","v":"A30#18"},null,null,"Einlage auf Seite 17"]
["A30.19",{"$f":"HYPERLINK('PDF-Dateien'!I1 & \"Auftraege30_1902_1903.pdf#page=19\",\"A30#19\")","v":"A30#19"},null,null,"Siehe Seite 20 für den Kleber"]
["A30.21",{"$f":"HYPERLINK('PDF-Dateien'!I1 & \"Auftraege30_1902_1903.pdf#page=21\",\"A30#21\")","v":"A30#21"}]
["A30.22",{"$f":"HYPERLINK('PDF-Dateien'!I1 & \"Auftraege30_1902_1903.pdf#page=22\",\"A30#22\")","v":"A30#22"}]
["A30.23",{"$f":"HYPERLINK('PDF-Dateien'!I1 & \"Auftraege30_1902_1903.pdf#page=23\",\"A30#23\")","v":"A30#23"}]
["A30.24",{"$f":"HYPERLINK('PDF-Dateien'!I1 & \"Auftraege30_1902_1903.pdf#page=24\",\"A30#24\")","v":"A30#24"}]
["A30.25",{"$f":"HYPERLINK('PDF-Dateien'!I1 & \"Auftraege30_1902_1903.pdf#page=25\",\"A30#25\")","v":"A30#25"},null,null,"Siehe Seite 26 für den Kleber"]
["A30.27",{"$f":"HYPERLINK('PDF-Dateien'!I1 & \"Auftraege30_1902_1903.pdf#page=27\",\"A30#27\")","v":"A30#27"}]
["A30.29",{"$f":"HYPERLINK('PDF-Dateien'!I1 & \"Auftraege30_1902_1903.pdf#page=29\",\"A30#29\")","v":"A30#29"},null,null,"Einlage auf Seite 28"]
["A30.30",{"$f":"HYPERLINK('PDF-Dateien'!I1 & \"Auftraege30_1902_1903.pdf#page=30\",\"A30#30\")","v":"A30#30"}]
["A30.31",{"$f":"HYPERLINK('PDF-Dateien'!I1 & \"Auftraege30_1902_1903.pdf#page=31\",\"A30#31\")","v":"A30#31"}]
["A30.32",{"$f":"HYPERLINK('PDF-Dateien'!I1 & \"Auftraege30_1902_1903.pdf#page=32\",\"A30#32\")","v":"A30#32"},null,null,"Siehe Seite 33 für den Kleber"]
["A30.35",{"$f":"HYPERLINK('PDF-Dateien'!I1 & \"Auftraege30_1902_1903.pdf#page=35\",\"A30#35\")","v":"A30#35"},null,null,"Notiz auf Seite 34"]
["A30.37",{"$f":"HYPERLINK('PDF-Dateien'!I1 & \"Auftraege30_1902_1903.pdf#page=37\",\"A30#37\")","v":"A30#37"},null,null,"Einlage auf Seite 36"]
["A30.38",{"$f":"HYPERLINK('PDF-Dateien'!I1 & \"Auftraege30_1902_1903.pdf#page=38\",\"A30#38\")","v":"A30#38"}]
["A30.39",{"$f":"HYPERLINK('PDF-Dateien'!I1 & \"Auftraege30_1902_1903.pdf#page=39\",\"A30#39\")","v":"A30#39"}]
["A30.40",{"$f":"HYPERLINK('PDF-Dateien'!I1 & \"Auftraege30_1902_1903.pdf#page=40\",\"A30#40\")","v":"A30#40"}]
["A30.41",{"$f":"HYPERLINK('PDF-Dateien'!I1 & \"Auftraege30_1902_1903.pdf#page=41\",\"A30#41\")","v":"A30#41"}]
["A30.42",{"$f":"HYPERLINK('PDF-Dateien'!I1 & \"Auftraege30_1902_1903.pdf#page=42\",\"A30#42\")","v":"A30#42"}]
["A31.02",{"$f":"HYPERLINK('PDF-Dateien'!I1 & \"Auftraege31_1903_1905.pdf#page=2\",\"A31#2\")","v":"A31#2"},17991,"1903-08-01"]
["A31.03",{"$f":"HYPERLINK('PDF-Dateien'!I1 & \"Auftraege31_1903_1905.pdf#page=3\",\"A31#3\")","v":"A31#3"}]
["A31.04",{"$f":"HYPERLINK('PDF-Dateien'!I1 & \"Auftraege31_1903_1905.pdf#page=4\",\"A31#4\")","v":"A31#4"}]
["A31.05",{"$f":"HYPERLINK('PDF-Dateien'!I1 & \"Auftraege31_1903_1905.pdf#page=5\",\"A31#5\")","v":"A31#5"}]
["A31.06",{"$f":"HYPERLINK('PDF-Dateien'!I1 & \"Auftraege31_1903_1905.pdf#page=6\",\"A31#6\")","v":"A31#6"}]
["A31.07",{"$f":"HYPERLINK('PDF-Dateien'!I1 & \"Auftraege31_1903_1905.pdf#page=7\",\"A31#7\")","v":"A31#7"}]
["A31.08",{"$f":"HYPERLINK('PDF-Dateien'!I1 & \"Auftraege31_1903_1905.pdf#page=8\",\"A31#8\")","v":"A31#8"}]
["A31.09",{"$f":"HYPERLINK('PDF-Dateien'!I1 & \"Auftraege31_1903_1905.pdf#page=9\",\"A31#9\")","v":"A31#9"}]
["A31.10",{"$f":"HYPERLINK('PDF-Dateien'!I1 & \"Auftraege31_1903_1905.pdf#page=10\",\"A31#10\")","v":"A31#10"}]
["A31.11",{"$f":"HYPERLINK('PDF-Dateien'!I1 & \"Auftraege31_1903_1905.pdf#page=11\",\"A31#11\")","v":"A31#11"}]
["A31.12",{"$f":"HYPERLINK('PDF-Dateien'!I1 & \"Auftraege31_1903_1905.pdf#page=12\",\"A31#12\")","v":"A31#12"}]
["A31.13",{"$f":"HYPERLINK('PDF-Dateien'!I1 & \"Auftraege31_1903_1905.pdf#page=13\",\"A31#13\")","v":"A31#13"}]
["A31.14",{"$f":"HYPERLINK('PDF-Dateien'!I1 & \"Auftraege31_1903_1905.pdf#page=14\",\"A31#14\")","v":"A31#14"}]
["A31.15",{"$f":"HYPERLINK('PDF-Dateien'!I1 & \"Auftraege31_1903_1905.pdf#page=15\",\"A31#15\")","v":"A31#15"}]
["A31.16",{"$f":"HYPERLINK('PDF-Dateien'!I1 & \"Auftraege31_1903_1905.pdf#page=16\",\"A31#16\")","v":"A31#16"}]
["A31.17",{"$f":"HYPERLINK('PDF-Dateien'!I1 & \"Auftraege31_1903_1905.pdf#page=17\",\"A31#17\")","v":"A31#17"}]
["A31.18",{"$f":"HYPERLINK('PDF-Dateien'!I1 & \"Auftraege31_1903_1905.pdf#page=18\",\"A31#18\")","v":"A31#18"}]
["A31.19",{"$f":"HYPERLINK('PDF-Dateien'!I1 & \"Auftraege31_1903_1905.pdf#page=19\",\"A31#19\")","v":"A31#19"}]
["A31.20",{"$f":"HYPERLINK('PDF-Dateien'!I1 & \"Auftraege31_1903_1905.pdf#page=20\",\"A31#20\")","v":"A31#20"},null,null,"Siehe Seite 21 für den Kleber"]
["A31.22",{"$f":"HYPERLINK('PDF-Dateien'!I1 & \"Auftraege31_1903_1905.pdf#page=22\",\"A31#22\")","v":"A31#22"}]
["A31.23",{"$f":"HYPERLINK('PDF-Dateien'!I1 & \"Auftraege31_1903_1905.pdf#page=23\",\"A31#23\")","v":"A31#23"}]
["A31.25",{"$f":"HYPERLINK('PDF-Dateien'!I1 & \"Auftraege31_1903_1905.pdf#page=25\",\"A31#25\")","v":"A31#25"},null,null,"Einlage auf Seite 24"]
["A31.26",{"$f":"HYPERLINK('PDF-Dateien'!I1 & \"Auftraege31_1903_1905.pdf#page=26\",\"A31#26\")","v":"A31#26"},null,null,"Siehe Seite 27 für den Kleber"]
["A31.28",{"$f":"HYPERLINK('PDF-Dateien'!I1 & \"Auftraege31_1903_1905.pdf#page=28\",\"A31#28\")","v":"A31#28"},null,null,"Siehe Seite 29 für die Kleber"]
["A31.30",{"$f":"HYPERLINK('PDF-Dateien'!I1 & \"Auftraege31_1903_1905.pdf#page=30\",\"A31#30\")","v":"A31#30"}]
["A31.31",{"$f":"HYPERLINK('PDF-Dateien'!I1 & \"Auftraege31_1903_1905.pdf#page=31\",\"A31#31\")","v":"A31#31"}]
["A31.32",{"$f":"HYPERLINK('PDF-Dateien'!I1 & \"Auftraege31_1903_1905.pdf#page=32\",\"A31#32\")","v":"A31#32"}]
["A31.33",{"$f":"HYPERLINK('PDF-Dateien'!I1 & \"Auftraege31_1903_1905.pdf#page=33\",\"A31#33\")","v":"A31#33"}]
["A31.34",{"$f":"HYPERLINK('PDF-Dateien'!I1 & \"Auftraege31_1903_1905.pdf#page=34\",\"A31#34\")","v":"A31#34"}]
["A31.35",{"$f":"HYPERLINK('PDF-Dateien'!I1 & \"Auftraege31_1903_1905.pdf#page=35\",\"A31#35\")","v":"A31#35"},null,null,"Siehe Seiten 36 und 37 für die Kleber"]
["A31.38",{"$f":"HYPERLINK('PDF-Dateien'!I1 & \"Auftraege31_1903_1905.pdf#page=38\",\"A31#38\")","v":"A31#38"}]
["A31.39",{"$f":"HYPERLINK('PDF-Dateien'!I1 & \"Auftraege31_1903_1905.pdf#page=39\",\"A31#39\")","v":"A31#39"}]
["A31.40",{"$f":"HYPERLINK('PDF-Dateien'!I1 & \"Auftraege31_1903_1905.pdf#page=40\",\"A31#40\")","v":"A31#40"}]
["A31.41",{"$f":"HYPERLINK('PDF-Dateien'!I1 & \"Auftraege31_1903_1905.pdf#page=41\",\"A31#41\")","v":"A31#41"}]
["A31.42",{"$f":"HYPERLINK('PDF-Dateien'!I1 & \"Auftraege31_1903_1905.pdf#page=42\",\"A31#42\")","v":"A31#42"}]
["A31.43",{"$f":"HYPERLINK('PDF-Dateien'!I1 & \"Auftraege31_1903_1905.pdf#page=43\",\"A31#43\")","v":"A31#43"}]
["A31.44",{"$f":"HYPERLINK('PDF-Dateien'!I1 & \"Auftraege31_1903_1905.pdf#page=44\",\"A31#44\")","v":"A31#44"}]
["A31.45",{"$f":"HYPERLINK('PDF-Dateien'!I1 & \"Auftraege31_1903_1905.pdf#page=45\",\"A31#45\")","v":"A31#45"}]
["A31.46",{"$f":"HYPERLINK('PDF-Dateien'!I1 & \"Auftraege31_1903_1905.pdf#page=46\",\"A31#46\")","v":"A31#46"}]
["A31.47",{"$f":"HYPERLINK('PDF-Dateien'!I1 & \"Auftraege31_1903_1905.pdf#page=47\",\"A31#47\")","v":"A31#47"},null,null,"Siehe Seite 48 für den Kleber"]
["A31.49",{"$f":"HYPERLINK('PDF-Dateien'!I1 & \"Auftraege31_1903_1905.pdf#page=49\",\"A31#49\")","v":"A31#49"}]
["A31.51",{"$f":"HYPERLINK('PDF-Dateien'!I1 & \"Auftraege31_1903_1905.pdf#page=51\",\"A31#51\")","v":"A31#51"},null,null,"Einlage auf Seite 50"]
["A31.52",{"$f":"HYPERLINK('PDF-Dateien'!I1 & \"Auftraege31_1903_1905.pdf#page=52\",\"A31#52\")","v":"A31#52"}]
["A31.53",{"$f":"HYPERLINK('PDF-Dateien'!I1 & \"Auftraege31_1903_1905.pdf#page=53\",\"A31#53\")","v":"A31#53"}]
["A31.54",{"$f":"HYPERLINK('PDF-Dateien'!I1 & \"Auftraege31_1903_1905.pdf#page=54\",\"A31#54\")","v":"A31#54"}]
["A31.55",{"$f":"HYPERLINK('PDF-Dateien'!I1 & \"Auftraege31_1903_1905.pdf#page=55\",\"A31#55\")","v":"A31#55"}]
["A31.56",{"$f":"HYPERLINK('PDF-Dateien'!I1 & \"Auftraege31_1903_1905.pdf#page=56\",\"A31#56\")","v":"A31#56"}]
["A31.57",{"$f":"HYPERLINK('PDF-Dateien'!I1 & \"Auftraege31_1903_1905.pdf#page=57\",\"A31#57\")","v":"A31#57"}]
["A31.58",{"$f":"HYPERLINK('PDF-Dateien'!I1 & \"Auftraege31_1903_1905.pdf#page=58\",\"A31#58\")","v":"A31#58"}]
["A31.59",{"$f":"HYPERLINK('PDF-Dateien'!I1 & \"Auftraege31_1903_1905.pdf#page=59\",\"A31#59\")","v":"A31#59"}]
["A32.02",{"$f":"HYPERLINK('PDF-Dateien'!I1 & \"Auftraege32_1905_1906.pdf#page=2\",\"A32#2\")","v":"A32#2"},18236,"1905-02-07","Siehe Seite 3 für den Kleber"]
["A32.04",{"$f":"HYPERLINK('PDF-Dateien'!I1 & \"Auftraege32_1905_1906.pdf#page=4\",\"A32#4\")","v":"A32#4"},null,null,"Siehe Seite 5 für den Kleber"]
["A32.06",{"$f":"HYPERLINK('PDF-Dateien'!I1 & \"Auftraege32_1905_1906.pdf#page=6\",\"A32#6\")","v":"A32#6"}]
["A32.07",{"$f":"HYPERLINK('PDF-Dateien'!I1 & \"Auftraege32_1905_1906.pdf#page=7\",\"A32#7\")","v":"A32#7"},null,null,"Siehe Seite 8 für die Kleber"]
["A32.09",{"$f":"HYPERLINK('PDF-Dateien'!I1 & \"Auftraege32_1905_1906.pdf#page=9\",\"A32#9\")","v":"A32#9"}]
["A32.10",{"$f":"HYPERLINK('PDF-Dateien'!I1 & \"Auftraege32_1905_1906.pdf#page=10\",\"A32#10\")","v":"A32#10"}]
["A32.11",{"$f":"HYPERLINK('PDF-Dateien'!I1 & \"Auftraege32_1905_1906.pdf#page=11\",\"A32#11\")","v":"A32#11"}]
["A32.12",{"$f":"HYPERLINK('PDF-Dateien'!I1 & \"Auftraege32_1905_1906.pdf#page=12\",\"A32#12\")","v":"A32#12"}]
["A32.13",{"$f":"HYPERLINK('PDF-Dateien'!I1 & \"Auftraege32_1905_1906.pdf#page=13\",\"A32#13\")","v":"A32#13"}]
["A32.14",{"$f":"HYPERLINK('PDF-Dateien'!I1 & \"Auftraege32_1905_1906.pdf#page=14\",\"A32#14\")","v":"A32#14"}]
["A32.15",{"$f":"HYPERLINK('PDF-Dateien'!I1 & \"Auftraege32_1905_1906.pdf#page=15\",\"A32#15\")","v":"A32#15"}]
["A32.16",{"$f":"HYPERLINK('PDF-Dateien'!I1 & \"Auftraege32_1905_1906.pdf#page=16\",\"A32#16\")","v":"A32#16"}]
["A32.17",{"$f":"HYPERLINK('PDF-Dateien'!I1 & \"Auftraege32_1905_1906.pdf#page=17\",\"A32#17\")","v":"A32#17"}]
["A32.18",{"$f":"HYPERLINK('PDF-Dateien'!I1 & \"Auftraege32_1905_1906.pdf#page=18\",\"A32#18\")","v":"A32#18"}]
["A32.19",{"$f":"HYPERLINK('PDF-Dateien'!I1 & \"Auftraege32_1905_1906.pdf#page=19\",\"A32#19\")","v":"A32#19"}]
["A32.20",{"$f":"HYPERLINK('PDF-Dateien'!I1 & \"Auftraege32_1905_1906.pdf#page=20\",\"A32#20\")","v":"A32#20"}]
["A32.21",{"$f":"HYPERLINK('PDF-Dateien'!I1 & \"Auftraege32_1905_1906.pdf#page=21\",\"A32#21\")","v":"A32#21"},null,null,"Siehe Seite 22 für den Kleber"]
["A32.23",{"$f":"HYPERLINK('PDF-Dateien'!I1 & \"Auftraege32_1905_1906.pdf#page=23\",\"A32#23\")","v":"A32#23"},null,null,"Siehe Seite 24 für die Kleber"]
["A32.25",{"$f":"HYPERLINK('PDF-Dateien'!I1 & \"Auftraege32_1905_1906.pdf#page=25\",\"A32#25\")","v":"A32#25"}]
["A32.26",{"$f":"HYPERLINK('PDF-Dateien'!I1 & \"Auftraege32_1905_1906.pdf#page=26\",\"A32#26\")","v":"A32#26"},null,null,"Siehe Seite 27 für den Kleber"]
["A32.28",{"$f":"HYPERLINK('PDF-Dateien'!I1 & \"Auftraege32_1905_1906.pdf#page=28\",\"A32#28\")","v":"A32#28"}]
["A32.29",{"$f":"HYPERLINK('PDF-Dateien'!I1 & \"Auftraege32_1905_1906.pdf#page=29\",\"A32#29\")","v":"A32#29"}]
["A32.30",{"$f":"HYPERLINK('PDF-Dateien'!I1 & \"Auftraege32_1905_1906.pdf#page=30\",\"A32#30\")","v":"A32#30"}]
["A32.31",{"$f":"HYPERLINK('PDF-Dateien'!I1 & \"Auftraege32_1905_1906.pdf#page=31\",\"A32#31\")","v":"A32#31"}]
["A32.32",{"$f":"HYPERLINK('PDF-Dateien'!I1 & \"Auftraege32_1905_1906.pdf#page=32\",\"A32#32\")","v":"A32#32"}]
["A32.33",{"$f":"HYPERLINK('PDF-Dateien'!I1 & \"Auftraege32_1905_1906.pdf#page=33\",\"A32#33\")","v":"A32#33"}]
["A32.34",{"$f":"HYPERLINK('PDF-Dateien'!I1 & \"Auftraege32_1905_1906.pdf#page=34\",\"A32#34\")","v":"A32#34"}]
["A32.35",{"$f":"HYPERLINK('PDF-Dateien'!I1 & \"Auftraege32_1905_1906.pdf#page=35\",\"A32#35\")","v":"A32#35"}]
["A32.36",{"$f":"HYPERLINK('PDF-Dateien'!I1 & \"Auftraege32_1905_1906.pdf#page=36\",\"A32#36\")","v":"A32#36"}]
["A32.37",{"$f":"HYPERLINK('PDF-Dateien'!I1 & \"Auftraege32_1905_1906.pdf#page=37\",\"A32#37\")","v":"A32#37"}]
["A32.38",{"$f":"HYPERLINK('PDF-Dateien'!I1 & \"Auftraege32_1905_1906.pdf#page=38\",\"A32#38\")","v":"A32#38"}]
["A32.39",{"$f":"HYPERLINK('PDF-Dateien'!I1 & \"Auftraege32_1905_1906.pdf#page=39\",\"A32#39\")","v":"A32#39"}]
["A32.40",{"$f":"HYPERLINK('PDF-Dateien'!I1 & \"Auftraege32_1905_1906.pdf#page=40\",\"A32#40\")","v":"A32#40"},null,null,"Siehe Seite 41 für den Kleber"]
["A32.42",{"$f":"HYPERLINK('PDF-Dateien'!I1 & \"Auftraege32_1905_1906.pdf#page=42\",\"A32#42\")","v":"A32#42"}]
["A32.43",{"$f":"HYPERLINK('PDF-Dateien'!I1 & \"Auftraege32_1905_1906.pdf#page=43\",\"A32#43\")","v":"A32#43"}]
["A32.44",{"$f":"HYPERLINK('PDF-Dateien'!I1 & \"Auftraege32_1905_1906.pdf#page=44\",\"A32#44\")","v":"A32#44"}]
["A32.45",{"$f":"HYPERLINK('PDF-Dateien'!I1 & \"Auftraege32_1905_1906.pdf#page=45\",\"A32#45\")","v":"A32#45"}]
["A32.46",{"$f":"HYPERLINK('PDF-Dateien'!I1 & \"Auftraege32_1905_1906.pdf#page=46\",\"A32#46\")","v":"A32#46"}]
["A32.47",{"$f":"HYPERLINK('PDF-Dateien'!I1 & \"Auftraege32_1905_1906.pdf#page=47\",\"A32#47\")","v":"A32#47"}]
["A32.48",{"$f":"HYPERLINK('PDF-Dateien'!I1 & \"Auftraege32_1905_1906.pdf#page=48\",\"A32#48\")","v":"A32#48"}]
["A32.49",{"$f":"HYPERLINK('PDF-Dateien'!I1 & \"Auftraege32_1905_1906.pdf#page=49\",\"A32#49\")","v":"A32#49"}]
["A32.50",{"$f":"HYPERLINK('PDF-Dateien'!I1 & \"Auftraege32_1905_1906.pdf#page=50\",\"A32#50\")","v":"A32#50"}]
["A32.51",{"$f":"HYPERLINK('PDF-Dateien'!I1 & \"Auftraege32_1905_1906.pdf#page=51\",\"A32#51\")","v":"A32#51"}]
["A32.52",{"$f":"HYPERLINK('PDF-Dateien'!I1 & \"Auftraege32_1905_1906.pdf#page=52\",\"A32#52\")","v":"A32#52"}]
["A32.53",{"$f":"HYPERLINK('PDF-Dateien'!I1 & \"Auftraege32_1905_1906.pdf#page=53\",\"A32#53\")","v":"A32#53"},null,null,"Siehe Seite 54 für den Kleber"]
["A32.55",{"$f":"HYPERLINK('PDF-Dateien'!I1 & \"Auftraege32_1905_1906.pdf#page=55\",\"A32#55\")","v":"A32#55"},null,null,"Siehe Seiten 56 und 57 für den Kleber"]
["A32.58",{"$f":"HYPERLINK('PDF-Dateien'!I1 & \"Auftraege32_1905_1906.pdf#page=58\",\"A32#58\")","v":"A32#58"}]
["A32.59",{"$f":"HYPERLINK('PDF-Dateien'!I1 & \"Auftraege32_1905_1906.pdf#page=59\",\"A32#59\")","v":"A32#59"}]
["A32.60",{"$f":"HYPERLINK('PDF-Dateien'!I1 & \"Auftraege32_1905_1906.pdf#page=60\",\"A32#60\")","v":"A32#60"}]
["A32.61",{"$f":"HYPERLINK('PDF-Dateien'!I1 & \"Auftraege32_1905_1906.pdf#page=61\",\"A32#61\")","v":"A32#61"},null,null,"Siehe Seite 62 für den Kleber"]
["A32.63",{"$f":"HYPERLINK('PDF-Dateien'!I1 & \"Auftraege32_1905_1906.pdf#page=63\",\"A32#63\")","v":"A32#63"},null,null,"Siehe Seite 64 für die Kleber"]
["A32.65",{"$f":"HYPERLINK('PDF-Dateien'!I1 & \"Auftraege32_1905_1906.pdf#page=65\",\"A32#65\")","v":"A32#65"}]
["A32.66",{"$f":"HYPERLINK('PDF-Dateien'!I1 & \"Auftraege32_1905_1906.pdf#page=66\",\"A32#66\")","v":"A32#66"}]
["A32.67",{"$f":"HYPERLINK('PDF-Dateien'!I1 & \"Auftraege32_1905_1906.pdf#page=67\",\"A32#67\")","v":"A32#67"}]
["A32.68",{"$f":"HYPERLINK('PDF-Dateien'!I1 & \"Auftraege32_1905_1906.pdf#page=68\",\"A32#68\")","v":"A32#68"}]
["A32.69",{"$f":"HYPERLINK('PDF-Dateien'!I1 & \"Auftraege32_1905_1906.pdf#page=69\",\"A32#69\")","v":"A32#69"}]
["A32.70",{"$f":"HYPERLINK('PDF-Dateien'!I1 & \"Auftraege32_1905_1906.pdf#page=70\",\"A32#70\")","v":"A32#70"}]
["A32.71",{"$f":"HYPERLINK('PDF-Dateien'!I1 & \"Auftraege32_1905_1906.pdf#page=71\",\"A32#71\")","v":"A32#71"}]
["A32.72",{"$f":"HYPERLINK('PDF-Dateien'!I1 & \"Auftraege32_1905_1906.pdf#page=72\",\"A32#72\")","v":"A32#72"},null,null,"Siehe Seite 73 für den Kleber"]
["A32.74",{"$f":"HYPERLINK('PDF-Dateien'!I1 & \"Auftraege32_1905_1906.pdf#page=74\",\"A32#74\")","v":"A32#74"}]
["A32.75",{"$f":"HYPERLINK('PDF-Dateien'!I1 & \"Auftraege32_1905_1906.pdf#page=75\",\"A32#75\")","v":"A32#75"}]
["A33.02",{"$f":"HYPERLINK('PDF-Dateien'!I1 & \"Auftraege33_1906_1907.pdf#page=2\",\"A33#2\")","v":"A33#2"},18613,"1906-09-27","Kleber noch bearbeiten!"]
["A33.03",{"$f":"HYPERLINK('PDF-Dateien'!I1 & \"Auftraege33_1906_1907.pdf#page=3\",\"A33#3\")","v":"A33#3"}]
["A33.04",{"$f":"HYPERLINK('PDF-Dateien'!I1 & \"Auftraege33_1906_1907.pdf#page=4\",\"A33#4\")","v":"A33#4"}]
["A33.05",{"$f":"HYPERLINK('PDF-Dateien'!I1 & \"Auftraege33_1906_1907.pdf#page=5\",\"A33#5\")","v":"A33#5"}]
["A33.06",{"$f":"HYPERLINK('PDF-Dateien'!I1 & \"Auftraege33_1906_1907.pdf#page=6\",\"A33#6\")","v":"A33#6"}]
["A33.07",{"$f":"HYPERLINK('PDF-Dateien'!I1 & \"Auftraege33_1906_1907.pdf#page=7\",\"A33#7\")","v":"A33#7"}]
["A33.08",{"$f":"HYPERLINK('PDF-Dateien'!I1 & \"Auftraege33_1906_1907.pdf#page=8\",\"A33#8\")","v":"A33#8"}]
["A33.09",{"$f":"HYPERLINK('PDF-Dateien'!I1 & \"Auftraege33_1906_1907.pdf#page=9\",\"A33#9\")","v":"A33#9"}]
["A33.10",{"$f":"HYPERLINK('PDF-Dateien'!I1 & \"Auftraege33_1906_1907.pdf#page=10\",\"A33#10\")","v":"A33#10"}]
["A33.11",{"$f":"HYPERLINK('PDF-Dateien'!I1 & \"Auftraege33_1906_1907.pdf#page=11\",\"A33#11\")","v":"A33#11"}]
["A33.12",{"$f":"HYPERLINK('PDF-Dateien'!I1 & \"Auftraege33_1906_1907.pdf#page=12\",\"A33#12\")","v":"A33#12"}]
["A33.13",{"$f":"HYPERLINK('PDF-Dateien'!I1 & \"Auftraege33_1906_1907.pdf#page=13\",\"A33#13\")","v":"A33#13"}]
["A33.14",{"$f":"HYPERLINK('PDF-Dateien'!I1 & \"Auftraege33_1906_1907.pdf#page=14\",\"A33#14\")","v":"A33#14"}]
["A33.15",{"$f":"HYPERLINK('PDF-Dateien'!I1 & \"Auftraege33_1906_1907.pdf#page=15\",\"A33#15\")","v":"A33#15"}]
["A33.16",{"$f":"HYPERLINK('PDF-Dateien'!I1 & \"Auftraege33_1906_1907.pdf#page=16\",\"A33#16\")","v":"A33#16"}]
["A33.17",{"$f":"HYPERLINK('PDF-Dateien'!I1 & \"Auftraege33_1906_1907.pdf#page=17\",\"A33#17\")","v":"A33#17"}]
["A33.18",{"$f":"HYPERLINK('PDF-Dateien'!I1 & \"Auftraege33_1906_1907.pdf#page=18\",\"A33#18\")","v":"A33#18"}]
["A33.19",{"$f":"HYPERLINK('PDF-Dateien'!I1 & \"Auftraege33_1906_1907.pdf#page=19\",\"A33#19\")","v":"A33#19"}]
["A33.20",{"$f":"HYPERLINK('PDF-Dateien'!I1 & \"Auftraege33_1906_1907.pdf#page=20\",\"A33#20\")","v":"A33#20"}]
["A33.21",{"$f":"HYPERLINK('PDF-Dateien'!I1 & \"Auftraege33_1906_1907.pdf#page=21\",\"A33#21\")","v":"A33#21"}]
["A33.22",{"$f":"HYPERLINK('PDF-Dateien'!I1 & \"Auftraege33_1906_1907.pdf#page=22\",\"A33#22\")","v":"A33#22"}]
["A33.23",{"$f":"HYPERLINK('PDF-Dateien'!I1 & \"Auftraege33_1906_1907.pdf#page=23\",\"A33#23\")","v":"A33#23"}]
["A33.24",{"$f":"HYPERLINK('PDF-Dateien'!I1 & \"Auftraege33_1906_1907.pdf#page=24\",\"A33#24\")","v":"A33#24"}]
["A33.25",{"$f":"HYPERLINK('PDF-Dateien'!I1 & \"Auftraege33_1906_1907.pdf#page=25\",\"A33#25\")","v":"A33#25"}]
["A33.26",{"$f":"HYPERLINK('PDF-Dateien'!I1 & \"Auftraege33_1906_1907.pdf#page=26\",\"A33#26\")","v":"A33#26"}]
["A33.27",{"$f":"HYPERLINK('PDF-Dateien'!I1 & \"Auftraege33_1906_1907.pdf#page=27\",\"A33#27\")","v":"A33#27"}]
["A33.28",{"$f":"HYPERLINK('PDF-Dateien'!I1 & \"Auftraege33_1906_1907.pdf#page=28\",\"A33#28\")","v":"A33#28"}]
["A33.29",{"$f":"HYPERLINK('PDF-Dateien'!I1 & \"Auftraege33_1906_1907.pdf#page=29\",\"A33#29\")","v":"A33#29"}]
["A33.30",{"$f":"HYPERLINK('PDF-Dateien'!I1 & \"Auftraege33_1906_1907.pdf#page=30\",\"A33#30\")","v":"A33#30"}]
["A33.31",{"$f":"HYPERLINK('PDF-Dateien'!I1 & \"Auftraege33_1906_1907.pdf#page=31\",\"A33#31\")","v":"A33#31"}]
["A33.32",{"$f":"HYPERLINK('PDF-Dateien'!I1 & \"Auftraege33_1906_1907.pdf#page=32\",\"A33#32\")","v":"A33#32"}]
["A33.33",{"$f":"HYPERLINK('PDF-Dateien'!I1 & \"Auftraege33_1906_1907.pdf#page=33\",\"A33#33\")","v":"A33#33"}]
["A33.34",{"$f":"HYPERLINK('PDF-Dateien'!I1 & \"Auftraege33_1906_1907.pdf#page=34\",\"A33#34\")","v":"A33#34"}]
["A33.35",{"$f":"HYPERLINK('PDF-Dateien'!I1 & \"Auftraege33_1906_1907.pdf#page=35\",\"A33#35\")","v":"A33#35"}]
["A33.36",{"$f":"HYPERLINK('PDF-Dateien'!I1 & \"Auftraege33_1906_1907.pdf#page=36\",\"A33#36\")","v":"A33#36"}]
["A33.37",{"$f":"HYPERLINK('PDF-Dateien'!I1 & \"Auftraege33_1906_1907.pdf#page=37\",\"A33#37\")","v":"A33#37"}]
["A33.38",{"$f":"HYPERLINK('PDF-Dateien'!I1 & \"Auftraege33_1906_1907.pdf#page=38\",\"A33#38\")","v":"A33#38"}]
["A33.39",{"$f":"HYPERLINK('PDF-Dateien'!I1 & \"Auftraege33_1906_1907.pdf#page=39\",\"A33#39\")","v":"A33#39"}]
["A33.40",{"$f":"HYPERLINK('PDF-Dateien'!I1 & \"Auftraege33_1906_1907.pdf#page=40\",\"A33#40\")","v":"A33#40"}]
["A33.41",{"$f":"HYPERLINK('PDF-Dateien'!I1 & \"Auftraege33_1906_1907.pdf#page=41\",\"A33#41\")","v":"A33#41"}]
["A33.42",{"$f":"HYPERLINK('PDF-Dateien'!I1 & \"Auftraege33_1906_1907.pdf#page=42\",\"A33#42\")","v":"A33#42"}]
["A33.43",{"$f":"HYPERLINK('PDF-Dateien'!I1 & \"Auftraege33_1906_1907.pdf#page=43\",\"A33#43\")","v":"A33#43"}]
["A33.44",{"$f":"HYPERLINK('PDF-Dateien'!I1 & \"Auftraege33_1906_1907.pdf#page=44\",\"A33#44\")","v":"A33#44"}]
["A33.45",{"$f":"HYPERLINK('PDF-Dateien'!I1 & \"Auftraege33_1906_1907.pdf#page=45\",\"A33#45\")","v":"A33#45"}]
["A33.46",{"$f":"HYPERLINK('PDF-Dateien'!I1 & \"Auftraege33_1906_1907.pdf#page=46\",\"A33#46\")","v":"A33#46"}]
["A33.47",{"$f":"HYPERLINK('PDF-Dateien'!I1 & \"Auftraege33_1906_1907.pdf#page=47\",\"A33#47\")","v":"A33#47"}]
["A33.48",{"$f":"HYPERLINK('PDF-Dateien'!I1 & \"Auftraege33_1906_1907.pdf#page=48\",\"A33#48\")","v":"A33#48"}]
["A33.49",{"$f":"HYPERLINK('PDF-Dateien'!I1 & \"Auftraege33_1906_1907.pdf#page=49\",\"A33#49\")","v":"A33#49"}]
["A33.50",{"$f":"HYPERLINK('PDF-Dateien'!I1 & \"Auftraege33_1906_1907.pdf#page=50\",\"A33#50\")","v":"A33#50"}]
["A34.02",{"$f":"HYPERLINK('PDF-Dateien'!I1 & \"Auftraege34_1907_1909.pdf#page=2\",\"A34#2\")","v":"A34#2"},18851,"1907-10-01","Kleber noch bearbeiten!"]
["A34.03",{"$f":"HYPERLINK('PDF-Dateien'!I1 & \"Auftraege34_1907_1909.pdf#page=3\",\"A34#3\")","v":"A34#3"}]
["A34.04",{"$f":"HYPERLINK('PDF-Dateien'!I1 & \"Auftraege34_1907_1909.pdf#page=4\",\"A34#4\")","v":"A34#4"}]
["A34.05",{"$f":"HYPERLINK('PDF-Dateien'!I1 & \"Auftraege34_1907_1909.pdf#page=5\",\"A34#5\")","v":"A34#5"}]
["A34.06",{"$f":"HYPERLINK('PDF-Dateien'!I1 & \"Auftraege34_1907_1909.pdf#page=6\",\"A34#6\")","v":"A34#6"}]
["A34.07",{"$f":"HYPERLINK('PDF-Dateien'!I1 & \"Auftraege34_1907_1909.pdf#page=7\",\"A34#7\")","v":"A34#7"}]
["A34.08",{"$f":"HYPERLINK('PDF-Dateien'!I1 & \"Auftraege34_1907_1909.pdf#page=8\",\"A34#8\")","v":"A34#8"}]
["A34.09",{"$f":"HYPERLINK('PDF-Dateien'!I1 & \"Auftraege34_1907_1909.pdf#page=9\",\"A34#9\")","v":"A34#9"}]
["A34.10",{"$f":"HYPERLINK('PDF-Dateien'!I1 & \"Auftraege34_1907_1909.pdf#page=10\",\"A34#10\")","v":"A34#10"}]
["A34.11",{"$f":"HYPERLINK('PDF-Dateien'!I1 & \"Auftraege34_1907_1909.pdf#page=11\",\"A34#11\")","v":"A34#11"}]
["A34.12",{"$f":"HYPERLINK('PDF-Dateien'!I1 & \"Auftraege34_1907_1909.pdf#page=12\",\"A34#12\")","v":"A34#12"}]
["A34.13",{"$f":"HYPERLINK('PDF-Dateien'!I1 & \"Auftraege34_1907_1909.pdf#page=13\",\"A34#13\")","v":"A34#13"}]
["A34.14",{"$f":"HYPERLINK('PDF-Dateien'!I1 & \"Auftraege34_1907_1909.pdf#page=14\",\"A34#14\")","v":"A34#14"}]
["A34.15",{"$f":"HYPERLINK('PDF-Dateien'!I1 & \"Auftraege34_1907_1909.pdf#page=15\",\"A34#15\")","v":"A34#15"}]
["A34.16",{"$f":"HYPERLINK('PDF-Dateien'!I1 & \"Auftraege34_1907_1909.pdf#page=16\",\"A34#16\")","v":"A34#16"}]
["A34.17",{"$f":"HYPERLINK('PDF-Dateien'!I1 & \"Auftraege34_1907_1909.pdf#page=17\",\"A34#17\")","v":"A34#17"}]
["A34.18",{"$f":"HYPERLINK('PDF-Dateien'!I1 & \"Auftraege34_1907_1909.pdf#page=18\",\"A34#18\")","v":"A34#18"}]
["A34.19",{"$f":"HYPERLINK('PDF-Dateien'!I1 & \"Auftraege34_1907_1909.pdf#page=19\",\"A34#19\")","v":"A34#19"}]
["A34.20",{"$f":"HYPERLINK('PDF-Dateien'!I1 & \"Auftraege34_1907_1909.pdf#page=20\",\"A34#20\")","v":"A34#20"}]
["A34.21",{"$f":"HYPERLINK('PDF-Dateien'!I1 & \"Auftraege34_1907_1909.pdf#page=21\",\"A34#21\")","v":"A34#21"}]
["A34.22",{"$f":"HYPERLINK('PDF-Dateien'!I1 & \"Auftraege34_1907_1909.pdf#page=22\",\"A34#22\")","v":"A34#22"}]
["A34.23",{"$f":"HYPERLINK('PDF-Dateien'!I1 & \"Auftraege34_1907_1909.pdf#page=23\",\"A34#23\")","v":"A34#23"}]
["A34.24",{"$f":"HYPERLINK('PDF-Dateien'!I1 & \"Auftraege34_1907_1909.pdf#page=24\",\"A34#24\")","v":"A34#24"}]
["A34.25",{"$f":"HYPERLINK('PDF-Dateien'!I1 & \"Auftraege34_1907_1909.pdf#page=25\",\"A34#25\")","v":"A34#25"}]
["A34.26",{"$f":"HYPERLINK('PDF-Dateien'!I1 & \"Auftraege34_1907_1909.pdf#page=26\",\"A34#26\")","v":"A34#26"}]
["A34.27",{"$f":"HYPERLINK('PDF-Dateien'!I1 & \"Auftraege34_1907_1909.pdf#page=27\",\"A34#27\")","v":"A34#27"}]
["A34.28",{"$f":"HYPERLINK('PDF-Dateien'!I1 & \"Auftraege34_1907_1909.pdf#page=28\",\"A34#28\")","v":"A34#28"}]
["A34.29",{"$f":"HYPERLINK('PDF-Dateien'!I1 & \"Auftraege34_1907_1909.pdf#page=29\",\"A34#29\")","v":"A34#29"}]
["A34.30",{"$f":"HYPERLINK('PDF-Dateien'!I1 & \"Auftraege34_1907_1909.pdf#page=30\",\"A34#30\")","v":"A34#30"}]
["A34.31",{"$f":"HYPERLINK('PDF-Dateien'!I1 & \"Auftraege34_1907_1909.pdf#page=31\",\"A34#31\")","v":"A34#31"}]
["A34.32",{"$f":"HYPERLINK('PDF-Dateien'!I1 & \"Auftraege34_1907_1909.pdf#page=32\",\"A34#32\")","v":"A34#32"}]
["A34.33",{"$f":"HYPERLINK('PDF-Dateien'!I1 & \"Auftraege34_1907_1909.pdf#page=33\",\"A34#33\")","v":"A34#33"}]
["A34.34",{"$f":"HYPERLINK('PDF-Dateien'!I1 & \"Auftraege34_1907_1909.pdf#page=34\",\"A34#34\")","v":"A34#34"}]
["A34.35",{"$f":"HYPERLINK('PDF-Dateien'!I1 & \"Auftraege34_1907_1909.pdf#page=35\",\"A34#35\")","v":"A34#35"}]
["A34.36",{"$f":"HYPERLINK('PDF-Dateien'!I1 & \"Auftraege34_1907_1909.pdf#page=36\",\"A34#36\")","v":"A34#36"}]
["A34.37",{"$f":"HYPERLINK('PDF-Dateien'!I1 & \"Auftraege34_1907_1909.pdf#page=37\",\"A34#37\")","v":"A34#37"}]
["A34.38",{"$f":"HYPERLINK('PDF-Dateien'!I1 & \"Auftraege34_1907_1909.pdf#page=38\",\"A34#38\")","v":"A34#38"}]
["A34.39",{"$f":"HYPERLINK('PDF-Dateien'!I1 & \"Auftraege34_1907_1909.pdf#page=39\",\"A34#39\")","v":"A34#39"}]
["A34.40",{"$f":"HYPERLINK('PDF-Dateien'!I1 & \"Auftraege34_1907_1909.pdf#page=40\",\"A34#40\")","v":"A34#40"}]
["A34.41",{"$f":"HYPERLINK('PDF-Dateien'!I1 & \"Auftraege34_1907_1909.pdf#page=41\",\"A34#41\")","v":"A34#41"}]
["A34.42",{"$f":"HYPERLINK('PDF-Dateien'!I1 & \"Auftraege34_1907_1909.pdf#page=42\",\"A34#42\")","v":"A34#42"}]
["A34.43",{"$f":"HYPERLINK('PDF-Dateien'!I1 & \"Auftraege34_1907_1909.pdf#page=43\",\"A34#43\")","v":"A34#43"}]
["A34.44",{"$f":"HYPERLINK('PDF-Dateien'!I1 & \"Auftraege34_1907_1909.pdf#page=44\",\"A34#44\")","v":"A34#44"}]
["A34.45",{"$f":"HYPERLINK('PDF-Dateien'!I1 & \"Auftraege34_1907_1909.pdf#page=45\",\"A34#45\")","v":"A34#45"}]
["A34.46",{"$f":"HYPERLINK('PDF-Dateien'!I1 & \"Auftraege34_1907_1909.pdf#page=46\",\"A34#46\")","v":"A34#46"}]
["A34.47",{"$f":"HYPERLINK('PDF-Dateien'!I1 & \"Auftraege34_1907_1909.pdf#page=47\",\"A34#47\")","v":"A34#47"}]
["A34.48",{"$f":"HYPERLINK('PDF-Dateien'!I1 & \"Auftraege34_1907_1909.pdf#page=48\",\"A34#48\")","v":"A34#48"}]
["A34.49",{"$f":"HYPERLINK('PDF-Dateien'!I1 & \"Auftraege34_1907_1909.pdf#page=49\",\"A34#49\")","v":"A34#49"}]
["A34.50",{"$f":"HYPERLINK('PDF-Dateien'!I1 & \"Auftraege34_1907_1909.pdf#page=50\",\"A34#50\")","v":"A34#50"}]
["A34.51",{"$f":"HYPERLINK('PDF-Dateien'!I1 & \"Auftraege34_1907_1909.pdf#page=51\",\"A34#51\")","v":"A34#51"}]
["A34.52",{"$f":"HYPERLINK('PDF-Dateien'!I1 & \"Auftraege34_1907_1909.pdf#page=52\",\"A34#52\")","v":"A34#52"}]
["A34.53",{"$f":"HYPERLINK('PDF-Dateien'!I1 & \"Auftraege34_1907_1909.pdf#page=53\",\"A34#53\")","v":"A34#53"}]
["A34.54",{"$f":"HYPERLINK('PDF-Dateien'!I1 & \"Auftraege34_1907_1909.pdf#page=54\",\"A34#54\")","v":"A34#54"}]
["A34.55",{"$f":"HYPERLINK('PDF-Dateien'!I1 & \"Auftraege34_1907_1909.pdf#page=55\",\"A34#55\")","v":"A34#55"}]
["A34.56",{"$f":"HYPERLINK('PDF-Dateien'!I1 & \"Auftraege34_1907_1909.pdf#page=56\",\"A34#56\")","v":"A34#56"}]
["A34.57",{"$f":"HYPERLINK('PDF-Dateien'!I1 & \"Auftraege34_1907_1909.pdf#page=57\",\"A34#57\")","v":"A34#57"}]
["A34.58",{"$f":"HYPERLINK('PDF-Dateien'!I1 & \"Auftraege34_1907_1909.pdf#page=58\",\"A34#58\")","v":"A34#58"}]
["A34.59",{"$f":"HYPERLINK('PDF-Dateien'!I1 & \"Auftraege34_1907_1909.pdf#page=59\",\"A34#59\")","v":"A34#59"}]
["A34.60",{"$f":"HYPERLINK('PDF-Dateien'!I1 & \"Auftraege34_1907_1909.pdf#page=60\",\"A34#60\")","v":"A34#60"}]
["A34.61",{"$f":"HYPERLINK('PDF-Dateien'!I1 & \"Auftraege34_1907_1909.pdf#page=61\",\"A34#61\")","v":"A34#61"}]
["A34.62",{"$f":"HYPERLINK('PDF-Dateien'!I1 & \"Auftraege34_1907_1909.pdf#page=62\",\"A34#62\")","v":"A34#62"}]
["A34.63",{"$f":"HYPERLINK('PDF-Dateien'!I1 & \"Auftraege34_1907_1909.pdf#page=63\",\"A34#63\")","v":"A34#63"}]
["A34.64",{"$f":"HYPERLINK('PDF-Dateien'!I1 & \"Auftraege34_1907_1909.pdf#page=64\",\"A34#64\")","v":"A34#64"}]
["A34.65",{"$f":"HYPERLINK('PDF-Dateien'!I1 & \"Auftraege34_1907_1909.pdf#page=65\",\"A34#65\")","v":"A34#65"}]
["A34.66",{"$f":"HYPERLINK('PDF-Dateien'!I1 & \"Auftraege34_1907_1909.pdf#page=66\",\"A34#66\")","v":"A34#66"}]
["A34.67",{"$f":"HYPERLINK('PDF-Dateien'!I1 & \"Auftraege34_1907_1909.pdf#page=67\",\"A34#67\")","v":"A34#67"}]
["A34.68",{"$f":"HYPERLINK('PDF-Dateien'!I1 & \"Auftraege34_1907_1909.pdf#page=68\",\"A34#68\")","v":"A34#68"}]
["A34.69",{"$f":"HYPERLINK('PDF-Dateien'!I1 & \"Auftraege34_1907_1909.pdf#page=69\",\"A34#69\")","v":"A34#69"}]
["A34.70",{"$f":"HYPERLINK('PDF-Dateien'!I1 & \"Auftraege34_1907_1909.pdf#page=70\",\"A34#70\")","v":"A34#70"}]
["A34.71",{"$f":"HYPERLINK('PDF-Dateien'!I1 & \"Auftraege34_1907_1909.pdf#page=71\",\"A34#71\")","v":"A34#71"}]
["A34.72",{"$f":"HYPERLINK('PDF-Dateien'!I1 & \"Auftraege34_1907_1909.pdf#page=72\",\"A34#72\")","v":"A34#72"}]
["A34.73",{"$f":"HYPERLINK('PDF-Dateien'!I1 & \"Auftraege34_1907_1909.pdf#page=73\",\"A34#73\")","v":"A34#73"}]
["A34.74",{"$f":"HYPERLINK('PDF-Dateien'!I1 & \"Auftraege34_1907_1909.pdf#page=74\",\"A34#74\")","v":"A34#74"}]
["A34.75",{"$f":"HYPERLINK('PDF-Dateien'!I1 & \"Auftraege34_1907_1909.pdf#page=75\",\"A34#75\")","v":"A34#75"}]
["A34.76",{"$f":"HYPERLINK('PDF-Dateien'!I1 & \"Auftraege34_1907_1909.pdf#page=76\",\"A34#76\")","v":"A34#76"}]
["A34.77",{"$f":"HYPERLINK('PDF-Dateien'!I1 & \"Auftraege34_1907_1909.pdf#page=77\",\"A34#77\")","v":"A34#77"}]
["A34.78",{"$f":"HYPERLINK('PDF-Dateien'!I1 & \"Auftraege34_1907_1909.pdf#page=78\",\"A34#78\")","v":"A34#78"}]
["A34.79",{"$f":"HYPERLINK('PDF-Dateien'!I1 & \"Auftraege34_1907_1909.pdf#page=79\",\"A34#79\")","v":"A34#79"}]
["A35.02",{"$f":"HYPERLINK('PDF-Dateien'!I1 & \"Auftraege35_1909_1910.pdf#page=2\",\"A35#2\")","v":"A35#2"},19191,"1909-01-05","Kleber noch bearbeiten!"]
["A35.03",{"$f":"HYPERLINK('PDF-Dateien'!I1 & \"Auftraege35_1909_1910.pdf#page=3\",\"A35#3\")","v":"A35#3"}]
["A35.04",{"$f":"HYPERLINK('PDF-Dateien'!I1 & \"Auftraege35_1909_1910.pdf#page=4\",\"A35#4\")","v":"A35#4"}]
["A35.05",{"$f":"HYPERLINK('PDF-Dateien'!I1 & \"Auftraege35_1909_1910.pdf#page=5\",\"A35#5\")","v":"A35#5"}]
["A35.06",{"$f":"HYPERLINK('PDF-Dateien'!I1 & \"Auftraege35_1909_1910.pdf#page=6\",\"A35#6\")","v":"A35#6"}]
["A35.07",{"$f":"HYPERLINK('PDF-Dateien'!I1 & \"Auftraege35_1909_1910.pdf#page=7\",\"A35#7\")","v":"A35#7"}]
["A35.08",{"$f":"HYPERLINK('PDF-Dateien'!I1 & \"Auftraege35_1909_1910.pdf#page=8\",\"A35#8\")","v":"A35#8"}]
["A35.09",{"$f":"HYPERLINK('PDF-Dateien'!I1 & \"Auftraege35_1909_1910.pdf#page=9\",\"A35#9\")","v":"A35#9"}]
["A35.10",{"$f":"HYPERLINK('PDF-Dateien'!I1 & \"Auftraege35_1909_1910.pdf#page=10\",\"A35#10\")","v":"A35#10"}]
["A35.11",{"$f":"HYPERLINK('PDF-Dateien'!I1 & \"Auftraege35_1909_1910.pdf#page=11\",\"A35#11\")","v":"A35#11"}]
["A35.12",{"$f":"HYPERLINK('PDF-Dateien'!I1 & \"Auftraege35_1909_1910.pdf#page=12\",\"A35#12\")","v":"A35#12"}]
["A35.13",{"$f":"HYPERLINK('PDF-Dateien'!I1 & \"Auftraege35_1909_1910.pdf#page=13\",\"A35#13\")","v":"A35#13"}]
["A35.14",{"$f":"HYPERLINK('PDF-Dateien'!I1 & \"Auftraege35_1909_1910.pdf#page=14\",\"A35#14\")","v":"A35#14"}]
["A35.15",{"$f":"HYPERLINK('PDF-Dateien'!I1 & \"Auftraege35_1909_1910.pdf#page=15\",\"A35#15\")","v":"A35#15"}]
["A35.16",{"$f":"HYPERLINK('PDF-Dateien'!I1 & \"Auftraege35_1909_1910.pdf#page=16\",\"A35#16\")","v":"A35#16"}]
["A35.17",{"$f":"HYPERLINK('PDF-Dateien'!I1 & \"Auftraege35_1909_1910.pdf#page=17\",\"A35#17\")","v":"A35#17"}]
["A35.18",{"$f":"HYPERLINK('PDF-Dateien'!I1 & \"Auftraege35_1909_1910.pdf#page=18\",\"A35#18\")","v":"A35#18"}]
["A35.19",{"$f":"HYPERLINK('PDF-Dateien'!I1 & \"Auftraege35_1909_1910.pdf#page=19\",\"A35#19\")","v":"A35#19"}]
["A35.20",{"$f":"HYPERLINK('PDF-Dateien'!I1 & \"Auftraege35_1909_1910.pdf#page=20\",\"A35#20\")","v":"A35#20"}]
["A35.21",{"$f":"HYPERLINK('PDF-Dateien'!I1 & \"Auftraege35_1909_1910.pdf#page=21\",\"A35#21\")","v":"A35#21"}]
["A35.22",{"$f":"HYPERLINK('PDF-Dateien'!I1 & \"Auftraege35_1909_1910.pdf#page=22\",\"A35#22\")","v":"A35#22"}]
["A35.23",{"$f":"HYPERLINK('PDF-Dateien'!I1 & \"Auftraege35_1909_1910.pdf#page=23\",\"A35#23\")","v":"A35#23"}]
["A35.24",{"$f":"HYPERLINK('PDF-Dateien'!I1 & \"Auftraege35_1909_1910.pdf#page=24\",\"A35#24\")","v":"A35#24"}]
["A35.25",{"$f":"HYPERLINK('PDF-Dateien'!I1 & \"Auftraege35_1909_1910.pdf#page=25\",\"A35#25\")","v":"A35#25"}]
["A35.26",{"$f":"HYPERLINK('PDF-Dateien'!I1 & \"Auftraege35_1909_1910.pdf#page=26\",\"A35#26\")","v":"A35#26"}]
["A35.27",{"$f":"HYPERLINK('PDF-Dateien'!I1 & \"Auftraege35_1909_1910.pdf#page=27\",\"A35#27\")","v":"A35#27"}]
["A35.28",{"$f":"HYPERLINK('PDF-Dateien'!I1 & \"Auftraege35_1909_1910.pdf#page=28\",\"A35#28\")","v":"A35#28"}]
["A35.29",{"$f":"HYPERLINK('PDF-Dateien'!I1 & \"Auftraege35_1909_1910.pdf#page=29\",\"A35#29\")","v":"A35#29"}]
["A35.30",{"$f":"HYPERLINK('PDF-Dateien'!I1 & \"Auftraege35_1909_1910.pdf#page=30\",\"A35#30\")","v":"A35#30"}]
["A35.31",{"$f":"HYPERLINK('PDF-Dateien'!I1 & \"Auftraege35_1909_1910.pdf#page=31\",\"A35#31\")","v":"A35#31"}]
["A35.32",{"$f":"HYPERLINK('PDF-Dateien'!I1 & \"Auftraege35_1909_1910.pdf#page=32\",\"A35#32\")","v":"A35#32"}]
["A35.33",{"$f":"HYPERLINK('PDF-Dateien'!I1 & \"Auftraege35_1909_1910.pdf#page=33\",\"A35#33\")","v":"A35#33"}]
["A35.34",{"$f":"HYPERLINK('PDF-Dateien'!I1 & \"Auftraege35_1909_1910.pdf#page=34\",\"A35#34\")","v":"A35#34"}]
["A35.35",{"$f":"HYPERLINK('PDF-Dateien'!I1 & \"Auftraege35_1909_1910.pdf#page=35\",\"A35#35\")","v":"A35#35"}]
["A35.36",{"$f":"HYPERLINK('PDF-Dateien'!I1 & \"Auftraege35_1909_1910.pdf#page=36\",\"A35#36\")","v":"A35#36"}]
["A35.37",{"$f":"HYPERLINK('PDF-Dateien'!I1 & \"Auftraege35_1909_1910.pdf#page=37\",\"A35#37\")","v":"A35#37"}]
["A35.38",{"$f":"HYPERLINK('PDF-Dateien'!I1 & \"Auftraege35_1909_1910.pdf#page=38\",\"A35#38\")","v":"A35#38"}]
["A35.39",{"$f":"HYPERLINK('PDF-Dateien'!I1 & \"Auftraege35_1909_1910.pdf#page=39\",\"A35#39\")","v":"A35#39"}]
["A35.40",{"$f":"HYPERLINK('PDF-Dateien'!I1 & \"Auftraege35_1909_1910.pdf#page=40\",\"A35#40\")","v":"A35#40"}]
["A35.41",{"$f":"HYPERLINK('PDF-Dateien'!I1 & \"Auftraege35_1909_1910.pdf#page=41\",\"A35#41\")","v":"A35#41"}]
["A35.42",{"$f":"HYPERLINK('PDF-Dateien'!I1 & \"Auftraege35_1909_1910.pdf#page=42\",\"A35#42\")","v":"A35#42"}]
["A35.43",{"$f":"HYPERLINK('PDF-Dateien'!I1 & \"Auftraege35_1909_1910.pdf#page=43\",\"A35#43\")","v":"A35#43"}]
["A35.44",{"$f":"HYPERLINK('PDF-Dateien'!I1 & \"Auftraege35_1909_1910.pdf#page=44\",\"A35#44\")","v":"A35#44"}]
["A35.45",{"$f":"HYPERLINK('PDF-Dateien'!I1 & \"Auftraege35_1909_1910.pdf#page=45\",\"A35#45\")","v":"A35#45"}]
["A35.46",{"$f":"HYPERLINK('PDF-Dateien'!I1 & \"Auftraege35_1909_1910.pdf#page=46\",\"A35#46\")","v":"A35#46"}]
["A35.47",{"$f":"HYPERLINK('PDF-Dateien'!I1 & \"Auftraege35_1909_1910.pdf#page=47\",\"A35#47\")","v":"A35#47"}]
["A35.48",{"$f":"HYPERLINK('PDF-Dateien'!I1 & \"Auftraege35_1909_1910.pdf#page=48\",\"A35#48\")","v":"A35#48"}]
["A35.49",{"$f":"HYPERLINK('PDF-Dateien'!I1 & \"Auftraege35_1909_1910.pdf#page=49\",\"A35#49\")","v":"A35#49"}]
["A35.50",{"$f":"HYPERLINK('PDF-Dateien'!I1 & \"Auftraege35_1909_1910.pdf#page=50\",\"A35#50\")","v":"A35#50"}]
["A35.51",{"$f":"HYPERLINK('PDF-Dateien'!I1 & \"Auftraege35_1909_1910.pdf#page=51\",\"A35#51\")","v":"A35#51"}]
["A35.52",{"$f":"HYPERLINK('PDF-Dateien'!I1 & \"Auftraege35_1909_1910.pdf#page=52\",\"A35#52\")","v":"A35#52"}]
["A35.53",{"$f":"HYPERLINK('PDF-Dateien'!I1 & \"Auftraege35_1909_1910.pdf#page=53\",\"A35#53\")","v":"A35#53"}]
["A35.54",{"$f":"HYPERLINK('PDF-Dateien'!I1 & \"Auftraege35_1909_1910.pdf#page=54\",\"A35#54\")","v":"A35#54"}]
["A35.55",{"$f":"HYPERLINK('PDF-Dateien'!I1 & \"Auftraege35_1909_1910.pdf#page=55\",\"A35#55\")","v":"A35#55"}]
["A35.56",{"$f":"HYPERLINK('PDF-Dateien'!I1 & \"Auftraege35_1909_1910.pdf#page=56\",\"A35#56\")","v":"A35#56"}]
["A35.57",{"$f":"HYPERLINK('PDF-Dateien'!I1 & \"Auftraege35_1909_1910.pdf#page=57\",\"A35#57\")","v":"A35#57"}]
["A35.58",{"$f":"HYPERLINK('PDF-Dateien'!I1 & \"Auftraege35_1909_1910.pdf#page=58\",\"A35#58\")","v":"A35#58"}]
["A35.59",{"$f":"HYPERLINK('PDF-Dateien'!I1 & \"Auftraege35_1909_1910.pdf#page=59\",\"A35#59\")","v":"A35#59"}]
["A35.60",{"$f":"HYPERLINK('PDF-Dateien'!I1 & \"Auftraege35_1909_1910.pdf#page=60\",\"A35#60\")","v":"A35#60"}]
["A35.61",{"$f":"HYPERLINK('PDF-Dateien'!I1 & \"Auftraege35_1909_1910.pdf#page=61\",\"A35#61\")","v":"A35#61"}]
["A35.62",{"$f":"HYPERLINK('PDF-Dateien'!I1 & \"Auftraege35_1909_1910.pdf#page=62\",\"A35#62\")","v":"A35#62"}]
["A35.63",{"$f":"HYPERLINK('PDF-Dateien'!I1 & \"Auftraege35_1909_1910.pdf#page=63\",\"A35#63\")","v":"A35#63"}]
["A35.64",{"$f":"HYPERLINK('PDF-Dateien'!I1 & \"Auftraege35_1909_1910.pdf#page=64\",\"A35#64\")","v":"A35#64"}]
["A35.65",{"$f":"HYPERLINK('PDF-Dateien'!I1 & \"Auftraege35_1909_1910.pdf#page=65\",\"A35#65\")","v":"A35#65"}]
["A35.66",{"$f":"HYPERLINK('PDF-Dateien'!I1 & \"Auftraege35_1909_1910.pdf#page=66\",\"A35#66\")","v":"A35#66"}]
["A35.67",{"$f":"HYPERLINK('PDF-Dateien'!I1 & \"Auftraege35_1909_1910.pdf#page=67\",\"A35#67\")","v":"A35#67"}]
["A35.68",{"$f":"HYPERLINK('PDF-Dateien'!I1 & \"Auftraege35_1909_1910.pdf#page=68\",\"A35#68\")","v":"A35#68"},19638,"1910-03-02"]

{"sheet":"Develop","index":3,"n_rows":0,"n_cols":0,"rows_kept":0,"cut":false,"hidden":true,"merged":[]}