{"text_format":"1","workbook":"xlsx","n_sheets":4,"sheets":["Aufträge","PDF-Dateien","Nummern","Develop"],"not_rendered":{"charts":0,"images":4,"macros":1,"external_links":0,"defined_names":5,"comments":1,"pivot_tables":0},"unopened":[],"bounds":{"document_bytes":16777216,"sheet_cells":100000,"rows_first":2000,"rows_last":500,"rows_between":2000,"halvings":0,"cell_chars":16384,"cell_head_chars":4096},"cells_cut":0,"cells_raw":0,"read":"whole","date_system":"1900"}

{"sheet":"Aufträge","index":0,"n_rows":264,"n_cols":13,"rows_kept":264,"cut":false,"hidden":false,"merged":[[0,5,0,12],[0,0,0,2],[2,10,2,12],[1,6,1,9],[1,10,1,12]]}
["Auftragsbücher Kern",null,null,null,"Land =","CH: Schweiz - CZ: Tschechien - DE: Deutschland - EG: Ägypten - ES: Spanien - FR: Frankreich - GB: England - GR: Griechenland - IT: Italien - \nRO: Rumänien - RU: Russland"]
[null,null,null,"Nummer: 216","Code","Auftrag =","V: Verkauf - A: Angebot - R: Reparatur - K: Konsignation - L: Lager",null,null,null,"Datenbank auf kern-aarau.ch"]
[null,null,null,{"$f":"HYPERLINK('PDF-Dateien'!I1 & \"Auftraege26_1895_1898.pdf#page=13\",\"Buch 26 Seite 13\")","v":"Buch 26 Seite 13"},{"$f":"HYPERLINK(\"https://de.wikipedia.org/wiki/ISO-3166-1-Kodierliste\",\"ISO-3166-1\" )","v":"ISO-3166-1"},null,null,null,"Typ = Preis-Courant: Nr.=1-297 oder ZG#Seite","Aufzählungsliste: * Text[Alt-Enter]",{"$f":"HYPERLINK(\"https://www.kern-aarau.ch/kern/studiensammlung.html?no_cache=1\",\"Studiensammlung Kern\")","v":"Studiensammlung Kern"}]
["Id","Datum","Kunde","Ort","Land","Auftrag","Anzahl","Artikel","Typ","Details","Link zu PDF","Msg","Err"]
["A17.02.02","1878.06.14","Rahm, M. & Co.","Kasan","RU","V",1,"Repetitionstheodolit",{"$f":"HYPERLINK('PDF-Dateien'!I1 & \"1878-PC-Instrumente.pdf#page=13\",\"193#13\")","v":"193#13"},null,{"$f":"HYPERLINK('PDF-Dateien'!I1 & \"Auftraege17_1878_1880.pdf#page=2\",\"Buch 17 Seite 2\")","v":"Buch 17 Seite 2"}]
["A18.02.11","1880.07.15","Reinert B.","Solothurn","CH","V",1,"Nivellierinstrument, Stampfer",{"$f":"HYPERLINK('PDF-Dateien'!I1 & \"1878-PC-Instrumente.pdf#page=8\",\"108#8\")","v":"108#8"},null,{"$f":"HYPERLINK('PDF-Dateien'!I1 & \"Auftraege18_1880_1882.pdf#page=2\",\"Buch 18 Seite 2\")","v":"Buch 18 Seite 2"}]
["A18.02.22","1880.07.15","Böhmische Westbahn, Betriebsdirektion ","Prag","CZ","V",1,"Pantograph",null,null,{"$f":"HYPERLINK('PDF-Dateien'!I1 & \"Auftraege18_1880_1882.pdf#page=2\",\"Buch 18 Seite 2\")","v":"Buch 18 Seite 2"}]
["A18.02.33","1880.07.04","Hafner J., Architekt","Théoule bei Nizza","FR","V",1,"Transporteur, Vollkreis, 25 cm",{"$f":"HYPERLINK('PDF-Dateien'!I1 & \"1887-PC-Zeichengeraete.pdf#page=2\",\"ZG#2\")","v":"ZG#2"},null,{"$f":"HYPERLINK('PDF-Dateien'!I1 & \"Auftraege18_1880_1882.pdf#page=2\",\"Buch 18 Seite 2\")","v":"Buch 18 Seite 2"}]
["A18.02.44","1880.07.21","Meister & Kunz","Zürich","CH","R",null,"Theodolit",null,null,{"$f":"HYPERLINK('PDF-Dateien'!I1 & \"Auftraege18_1880_1882.pdf#page=2\",\"Buch 18 Seite 2\")","v":"Buch 18 Seite 2"}]
["A18.02.55","1880.07.11","Gottrau, forestier","Fribourg","CH","V",1,"Messtisch mit einer Bussole",null,null,{"$f":"HYPERLINK('PDF-Dateien'!I1 & \"Auftraege18_1880_1882.pdf#page=2\",\"Buch 18 Seite 2\")","v":"Buch 18 Seite 2"}]
["A18.02.66","1880.08.01","Lienert, Architekt","Einsiedeln","CH","V",1,"Messtisch-Stativ, mittleres ",{"$f":"HYPERLINK('PDF-Dateien'!I1 & \"1878-PC-Instrumente.pdf#page=3\",\"36#3\")","v":"36#3"},"Messtischblätter",{"$f":"HYPERLINK('PDF-Dateien'!I1 & \"Auftraege18_1880_1882.pdf#page=2\",\"Buch 18 Seite 2\")","v":"Buch 18 Seite 2"}]
["A18.02.77","1880.08.01","Lienert, Architekt","Einsiedeln","CH","V",1,"Messtisch, Aufsatz",{"$f":"HYPERLINK('PDF-Dateien'!I1 & \"1878-PC-Instrumente.pdf#page=4\",\"55#4\")","v":"55#4"},"Declinatoir, Massstab, Horizontalkreis",{"$f":"HYPERLINK('PDF-Dateien'!I1 & \"Auftraege18_1880_1882.pdf#page=2\",\"Buch 18 Seite 2\")","v":"Buch 18 Seite 2"}]
["A18.02.88","1880.08.01","Lienert, Architekt","Einsiedeln","CH","V",1,"Nivellierlatte",{"$f":"HYPERLINK('PDF-Dateien'!I1 & \"1878-PC-Instrumente.pdf#page=7\",\"90#7\")","v":"90#7"},"Jalon",{"$f":"HYPERLINK('PDF-Dateien'!I1 & \"Auftraege18_1880_1882.pdf#page=2\",\"Buch 18 Seite 2\")","v":"Buch 18 Seite 2"}]
["A18.03.16","1880.08.01","Scheller, Alb.","Thalwil","CH","V",1,"Rechenschieber Wild 360°","ZG","in Etui mit Gebrauchsanleitung",{"$f":"HYPERLINK('PDF-Dateien'!I1 & \"Auftraege18_1880_1882.pdf#page=3\",\"Buch 18 Seite 3\")","v":"Buch 18 Seite 3"},null,1]
["A18.03.32","1880.08.09","Lepori, Direct. Egypte","Kairo","EG","V",3,"Nivellierinstrument ?xy ","?xy",null,{"$f":"HYPERLINK('PDF-Dateien'!I1 & \"Auftraege18_1880_1882.pdf#page=3\",\"Buch 18 Seite 3\")","v":"Buch 18 Seite 3"},2]
["A18.03.48","1880.08.09","Lepori, Direct. Egypte","Kairo","EG","V",6,"Niveau d'eau",{"$f":"HYPERLINK('PDF-Dateien'!I1 & \"1878-PC-Instrumente.pdf#page=7\",\"101#7\")","v":"101#7"},null,{"$f":"HYPERLINK('PDF-Dateien'!I1 & \"Auftraege18_1880_1882.pdf#page=3\",\"Buch 18 Seite 3\")","v":"Buch 18 Seite 3"}]
["A18.03.64","1880.08.09","Lepori, Direct. Egypte","Kairo","EG","V",1,"Niveau de poche",{"$f":"HYPERLINK('PDF-Dateien'!I1 & \"1878-PC-Instrumente.pdf#page=8\",\"109#8\")","v":"109#8"},null,{"$f":"HYPERLINK('PDF-Dateien'!I1 & \"Auftraege18_1880_1882.pdf#page=3\",\"Buch 18 Seite 3\")","v":"Buch 18 Seite 3"}]
["A18.03.80","1880.08.09","Lepori, Direct. Egypte","Kairo","EG","V",1,"Repetitionstheodolit",{"$f":"HYPERLINK('PDF-Dateien'!I1 & \"1878-PC-Instrumente.pdf#page=12\",\"180#12\")","v":"180#12"},null,{"$f":"HYPERLINK('PDF-Dateien'!I1 & \"Auftraege18_1880_1882.pdf#page=3\",\"Buch 18 Seite 3\")","v":"Buch 18 Seite 3"}]
["A24.08.07","1891.08.01","Imfeld H.","Hottingen (ZH)","CH","V",1,"Repetitionstheodolit",{"$f":"HYPERLINK('PDF-Dateien'!I1 & \"1878-PC-Instrumente.pdf#page=13\",\"189#13\")","v":"189#13"},null,{"$f":"HYPERLINK('PDF-Dateien'!I1 & \"Auftraege24_1891_1893.pdf#page=8\",\"Buch 24 Seite 8\")","v":"Buch 24 Seite 8"}]
["A24.08.14","1891.07.28","Gerlach","Warschau","PO","V",2,"Repetitionstheodolit",{"$f":"HYPERLINK('PDF-Dateien'!I1 & \"1878-PC-Instrumente.pdf#page=12\",\"180#12\")","v":"180#12"},null,{"$f":"HYPERLINK('PDF-Dateien'!I1 & \"Auftraege24_1891_1893.pdf#page=8\",\"Buch 24 Seite 8\")","v":"Buch 24 Seite 8"}]
["A24.08.21","1891.07.28","Gerlach","Warschau","PO","V",1,"Repetitionstheodolit",{"$f":"HYPERLINK('PDF-Dateien'!I1 & \"1878-PC-Instrumente.pdf#page=12\",\"184#12\")","v":"184#12"},null,{"$f":"HYPERLINK('PDF-Dateien'!I1 & \"Auftraege24_1891_1893.pdf#page=8\",\"Buch 24 Seite 8\")","v":"Buch 24 Seite 8"}]
["A24.08.28","1891.07.28","Gerlach","Warschau","PO","V",1,"Repetitionstheodolit",{"$f":"HYPERLINK('PDF-Dateien'!I1 & \"1878-PC-Instrumente.pdf#page=13\",\"189#13\")","v":"189#13"},null,{"$f":"HYPERLINK('PDF-Dateien'!I1 & \"Auftraege24_1891_1893.pdf#page=8\",\"Buch 24 Seite 8\")","v":"Buch 24 Seite 8"}]
["A24.08.35","1891.08.04","Senn","Thun","CH","V",1,"Nivellier",{"$f":"HYPERLINK('PDF-Dateien'!I1 & \"1878-PC-Instrumente.pdf#page=8\",\"120#8\")","v":"120#8"},null,{"$f":"HYPERLINK('PDF-Dateien'!I1 & \"Auftraege24_1891_1893.pdf#page=8\",\"Buch 24 Seite 8\")","v":"Buch 24 Seite 8"}]
["A24.08.42","1891.06.18","Richter","Petersburg","RU","V",1,"Bautheodolit",{"$f":"HYPERLINK('PDF-Dateien'!I1 & \"1878-PC-Instrumente.pdf#page=11\",\"163#11\")","v":"163#11"},null,{"$f":"HYPERLINK('PDF-Dateien'!I1 & \"Auftraege24_1891_1893.pdf#page=8\",\"Buch 24 Seite 8\")","v":"Buch 24 Seite 8"}]
["A24.08.49","1891.08.15","Eidg.topogr.Bureau, Imfeld","Bern","CH","V","?xy","?xy",null,null,{"$f":"HYPERLINK('PDF-Dateien'!I1 & \"Auftraege24_1891_1893.pdf#page=8\",\"Buch 24 Seite 8\")","v":"Buch 24 Seite 8"},2]
["A24.08.56","1891.09.01","Labarbera fils","Athen","GR","V",2,"Bautheodolit",{"$f":"HYPERLINK('PDF-Dateien'!I1 & \"1878-PC-Instrumente.pdf#page=11\",\"163#11\")","v":"163#11"},null,{"$f":"HYPERLINK('PDF-Dateien'!I1 & \"Auftraege24_1891_1893.pdf#page=8\",\"Buch 24 Seite 8\")","v":"Buch 24 Seite 8"}]
["A24.08.63","1891.09.01","Labarbera fils","Athen","GR","V",1,"Nivellier",{"$f":"HYPERLINK('PDF-Dateien'!I1 & \"1878-PC-Instrumente.pdf#page=10\",\"150#10\")","v":"150#10"},null,{"$f":"HYPERLINK('PDF-Dateien'!I1 & \"Auftraege24_1891_1893.pdf#page=8\",\"Buch 24 Seite 8\")","v":"Buch 24 Seite 8"}]
["A24.08.70","1891.09.01","Labarbera fils","Athen","GR","V",1,"Nivellier",{"$f":"HYPERLINK('PDF-Dateien'!I1 & \"1878-PC-Instrumente.pdf#page=10\",\"150#10\")","v":"150#10"},null,{"$f":"HYPERLINK('PDF-Dateien'!I1 & \"Auftraege24_1891_1893.pdf#page=8\",\"Buch 24 Seite 8\")","v":"Buch 24 Seite 8"}]
["A24.08.77","1891.09.01","Labarbera fils","Athen","GR","V",1,"Tachymeter",{"$f":"HYPERLINK('PDF-Dateien'!I1 & \"1878-PC-Instrumente.pdf#page=13\",\"208#13\")","v":"208#13"},null,{"$f":"HYPERLINK('PDF-Dateien'!I1 & \"Auftraege24_1891_1893.pdf#page=8\",\"Buch 24 Seite 8\")","v":"Buch 24 Seite 8"}]
["A24.08.84","1891.09.01","Labarbera fils","Athen","GR","V",1,"Winkelmesser klein",{"$f":"HYPERLINK('PDF-Dateien'!I1 & \"1878-PC-Instrumente.pdf#page=2\",\"27#2\")","v":"27#2"},null,{"$f":"HYPERLINK('PDF-Dateien'!I1 & \"Auftraege24_1891_1893.pdf#page=8\",\"Buch 24 Seite 8\")","v":"Buch 24 Seite 8"}]
["A24.09.04","1891.09.01","Labarbera fils","Athen","GR","V",1,"Repetitionstheodolit",{"$f":"HYPERLINK('PDF-Dateien'!I1 & \"1878-PC-Instrumente.pdf#page=12\",\"186#12\")","v":"186#12"},null,{"$f":"HYPERLINK('PDF-Dateien'!I1 & \"Auftraege24_1891_1893.pdf#page=9\",\"Buch 24 Seite 9\")","v":"Buch 24 Seite 9"}]
["A24.09.08","1891.09.01","Labarbera fils","Athen","GR","V",1,"Nivellier d'Egault",{"$f":"HYPERLINK('PDF-Dateien'!I1 & \"1878-PC-Instrumente.pdf#page=9\",\"142#9\")","v":"142#9"},null,{"$f":"HYPERLINK('PDF-Dateien'!I1 & \"Auftraege24_1891_1893.pdf#page=9\",\"Buch 24 Seite 9\")","v":"Buch 24 Seite 9"}]
["A24.09.12","1891.09.01","Labarbera fils","Athen","GR","V",1,"Nivellier d'Egault",{"$f":"HYPERLINK('PDF-Dateien'!I1 & \"1878-PC-Instrumente.pdf#page=9\",\"143#9\")","v":"143#9"},null,{"$f":"HYPERLINK('PDF-Dateien'!I1 & \"Auftraege24_1891_1893.pdf#page=9\",\"Buch 24 Seite 9\")","v":"Buch 24 Seite 9"}]
["A24.09.16","1891.09.01","Labarbera fils","Athen","GR","V",1,"Taschen-Nivellier",{"$f":"HYPERLINK('PDF-Dateien'!I1 & \"1878-PC-Instrumente.pdf#page=8\",\"109#8\")","v":"109#8"},null,{"$f":"HYPERLINK('PDF-Dateien'!I1 & \"Auftraege24_1891_1893.pdf#page=9\",\"Buch 24 Seite 9\")","v":"Buch 24 Seite 9"}]
["A24.09.20","1891.09.01","Labarbera fils","Athen","GR","V",1,"Taschen-Nivellier",{"$f":"HYPERLINK('PDF-Dateien'!I1 & \"1878-PC-Instrumente.pdf#page=8\",\"110#8\")","v":"110#8"},null,{"$f":"HYPERLINK('PDF-Dateien'!I1 & \"Auftraege24_1891_1893.pdf#page=9\",\"Buch 24 Seite 9\")","v":"Buch 24 Seite 9"}]
["A24.09.24","1891.09.01","P. Furlani, Ing.","Zürich","CH","V",1,"Winkelspiegel",{"$f":"HYPERLINK('PDF-Dateien'!I1 & \"1878-PC-Instrumente.pdf#page=2\",\"31#2\")","v":"31#2"},null,{"$f":"HYPERLINK('PDF-Dateien'!I1 & \"Auftraege24_1891_1893.pdf#page=9\",\"Buch 24 Seite 9\")","v":"Buch 24 Seite 9"}]
["A24.09.28","1891.09.01","P. Furlani, Ing.","Zürich","CH","V",1,"Taschen-Nivellier",{"$f":"HYPERLINK('PDF-Dateien'!I1 & \"1878-PC-Instrumente.pdf#page=8\",\"110#8\")","v":"110#8"},null,{"$f":"HYPERLINK('PDF-Dateien'!I1 & \"Auftraege24_1891_1893.pdf#page=9\",\"Buch 24 Seite 9\")","v":"Buch 24 Seite 9"}]
["A24.09.32","1891.09.01","P. Furlani, Ing.","Zürich","CH","V",1,"Polar Planimeter",{"$f":"HYPERLINK('PDF-Dateien'!I1 & \"1878-PC-Instrumente.pdf#page=17\",\"284#17\")","v":"284#17"},null,{"$f":"HYPERLINK('PDF-Dateien'!I1 & \"Auftraege24_1891_1893.pdf#page=9\",\"Buch 24 Seite 9\")","v":"Buch 24 Seite 9"}]
["A24.09.36","1891.09.01","Furlani P., Ing.","Zürich","CH","V",1,"Messtisch alte Art",{"$f":"HYPERLINK('PDF-Dateien'!I1 & \"1878-PC-Instrumente.pdf#page=3\",\"36#3\")","v":"36#3"},null,{"$f":"HYPERLINK('PDF-Dateien'!I1 & \"Auftraege24_1891_1893.pdf#page=9\",\"Buch 24 Seite 9\")","v":"Buch 24 Seite 9"}]
["A24.09.40","1891.09.01","Furlani P., Ing.","Zürich","CH","V",1,"gr. Aufsatz","?xy",null,{"$f":"HYPERLINK('PDF-Dateien'!I1 & \"Auftraege24_1891_1893.pdf#page=9\",\"Buch 24 Seite 9\")","v":"Buch 24 Seite 9"},1]
["A24.09.44","1891.09.02","Karrer","Kulm","CH","V",1,"Lineal","?xy",null,{"$f":"HYPERLINK('PDF-Dateien'!I1 & \"Auftraege24_1891_1893.pdf#page=9\",\"Buch 24 Seite 9\")","v":"Buch 24 Seite 9"},1]
["A24.09.48","1891.09.02","Manuel Recarte","Madrid","ES","V",1,"Tachymeter",{"$f":"HYPERLINK('PDF-Dateien'!I1 & \"1878-PC-Instrumente.pdf#page=13\",\"207#13\")","v":"207#13"},null,{"$f":"HYPERLINK('PDF-Dateien'!I1 & \"Auftraege24_1891_1893.pdf#page=9\",\"Buch 24 Seite 9\")","v":"Buch 24 Seite 9"}]
["A24.09.52","1891.09.02","Manuel Recarte","Madrid","ES","V",1,"Tachymeter",{"$f":"HYPERLINK('PDF-Dateien'!I1 & \"1878-PC-Instrumente.pdf#page=13\",\"206#13\")","v":"206#13"},null,{"$f":"HYPERLINK('PDF-Dateien'!I1 & \"Auftraege24_1891_1893.pdf#page=9\",\"Buch 24 Seite 9\")","v":"Buch 24 Seite 9"}]
["A24.09.56","1891.09.02","Manuel Recarte","Madrid","ES","V",4,"Reflexionsprisma",{"$f":"HYPERLINK('PDF-Dateien'!I1 & \"1878-PC-Instrumente.pdf#page=2\",\"29#2\")","v":"29#2"},null,{"$f":"HYPERLINK('PDF-Dateien'!I1 & \"Auftraege24_1891_1893.pdf#page=9\",\"Buch 24 Seite 9\")","v":"Buch 24 Seite 9"}]
["A24.09.60","1891.09.02","Neuhaus Ing.","Thun","CH","V",1,"Nivellier",{"$f":"HYPERLINK('PDF-Dateien'!I1 & \"1878-PC-Instrumente.pdf#page=11\",\"157#11\")","v":"157#11"},null,{"$f":"HYPERLINK('PDF-Dateien'!I1 & \"Auftraege24_1891_1893.pdf#page=9\",\"Buch 24 Seite 9\")","v":"Buch 24 Seite 9"}]
["A24.09.64","1891.09.02","Königsgrube Kupferwerk","Röros","NO","V",1,"Winkelmesser",{"$f":"HYPERLINK('PDF-Dateien'!I1 & \"1878-PC-Instrumente.pdf#page=2\",\"28#2\")","v":"28#2"},null,{"$f":"HYPERLINK('PDF-Dateien'!I1 & \"Auftraege24_1891_1893.pdf#page=9\",\"Buch 24 Seite 9\")","v":"Buch 24 Seite 9"}]
["A24.09.68","1891.09.02","Eidg. Genie-Bureau","Bern","CH","V",1,"Nivellier",{"$f":"HYPERLINK('PDF-Dateien'!I1 & \"1878-PC-Instrumente.pdf#page=9\",\"129#9\")","v":"129#9"},null,{"$f":"HYPERLINK('PDF-Dateien'!I1 & \"Auftraege24_1891_1893.pdf#page=9\",\"Buch 24 Seite 9\")","v":"Buch 24 Seite 9"}]
["A24.09.72","1891.09.02","Spano","Neapel","IT","V",3,"Kreisteilung","?xy",null,{"$f":"HYPERLINK('PDF-Dateien'!I1 & \"Auftraege24_1891_1893.pdf#page=9\",\"Buch 24 Seite 9\")","v":"Buch 24 Seite 9"},1]
["A24.09.76","1891.09.02","Spano","Neapel","IT","V",10,"Kreisring","?xy",null,{"$f":"HYPERLINK('PDF-Dateien'!I1 & \"Auftraege24_1891_1893.pdf#page=9\",\"Buch 24 Seite 9\")","v":"Buch 24 Seite 9"},1]
["A24.09.80","1891.09.02","Spano","Neapel","IT","V",10,"Lineal","?xy",null,{"$f":"HYPERLINK('PDF-Dateien'!I1 & \"Auftraege24_1891_1893.pdf#page=9\",\"Buch 24 Seite 9\")","v":"Buch 24 Seite 9"},1]
["A24.10.07","1891.09.15","Schreiner","Baclieu","VN","V",1,"Repetitionstheodolit",{"$f":"HYPERLINK('PDF-Dateien'!I1 & \"1878-PC-Instrumente.pdf#page=12\",\"180#12\")","v":"180#12"},null,{"$f":"HYPERLINK('PDF-Dateien'!I1 & \"Auftraege24_1891_1893.pdf#page=10\",\"Buch 24 Seite 10\")","v":"Buch 24 Seite 10"}]
["A24.10.14","1891.09.15","Dr.Schwabe","Berlin","DE","V",1,"Nivellier",{"$f":"HYPERLINK('PDF-Dateien'!I1 & \"1878-PC-Instrumente.pdf#page=9\",\"133#9\")","v":"133#9"},null,{"$f":"HYPERLINK('PDF-Dateien'!I1 & \"Auftraege24_1891_1893.pdf#page=10\",\"Buch 24 Seite 10\")","v":"Buch 24 Seite 10"}]
["A24.10.21","1891.09.15","N.O.B (Glöckler)","Zürich","CH","V",1,"Bautheodolit",{"$f":"HYPERLINK('PDF-Dateien'!I1 & \"1878-PC-Instrumente.pdf#page=11\",\"166#11\")","v":"166#11"},null,{"$f":"HYPERLINK('PDF-Dateien'!I1 & \"Auftraege24_1891_1893.pdf#page=10\",\"Buch 24 Seite 10\")","v":"Buch 24 Seite 10"}]
["A24.10.28","1891.09.28","Stämpfli B.","Lobsigen","CH","V",1,"Messring","?xy",null,{"$f":"HYPERLINK('PDF-Dateien'!I1 & \"Auftraege24_1891_1893.pdf#page=10\",\"Buch 24 Seite 10\")","v":"Buch 24 Seite 10"},1]
["A24.10.35","1891.09.28","Paul Titre","Algier","DZ","V",1,"Aufsatz",{"$f":"HYPERLINK('PDF-Dateien'!I1 & \"1878-PC-Instrumente.pdf#page=4\",\"47#4\")","v":"47#4"},null,{"$f":"HYPERLINK('PDF-Dateien'!I1 & \"Auftraege24_1891_1893.pdf#page=10\",\"Buch 24 Seite 10\")","v":"Buch 24 Seite 10"}]
["A24.10.42","1891.09.28","Hobi W.","Creva-Luino","IT","R",1,"Ersatzglas","?xy",null,{"$f":"HYPERLINK('PDF-Dateien'!I1 & \"Auftraege24_1891_1893.pdf#page=10\",\"Buch 24 Seite 10\")","v":"Buch 24 Seite 10"},1]
["A24.10.49","1891.09.28","Grob Georg","Zürich","CH","V",1,"Messtisch",{"$f":"HYPERLINK('PDF-Dateien'!I1 & \"1878-PC-Instrumente.pdf#page=3\",\"36#3\")","v":"36#3"},null,{"$f":"HYPERLINK('PDF-Dateien'!I1 & \"Auftraege24_1891_1893.pdf#page=10\",\"Buch 24 Seite 10\")","v":"Buch 24 Seite 10"}]
["A24.10.56","1891.09.28","Grob Georg","Zürich","CH","V",1,"gr. Aufsatz","?xy",null,{"$f":"HYPERLINK('PDF-Dateien'!I1 & \"Auftraege24_1891_1893.pdf#page=10\",\"Buch 24 Seite 10\")","v":"Buch 24 Seite 10"},1]
["A24.10.63","1891.09.28","Grob Georg","Zürich","CH","V",1,"Pantograph",{"$f":"HYPERLINK('PDF-Dateien'!I1 & \"1878-PC-Instrumente.pdf#page=\",\"287\")","v":"287"},null,{"$f":"HYPERLINK('PDF-Dateien'!I1 & \"Auftraege24_1891_1893.pdf#page=10\",\"Buch 24 Seite 10\")","v":"Buch 24 Seite 10"},null,1]
["A24.10.70","1891.09.28","Niehaus Geometer","Thun","CH","V",1,"Messtischstativ",{"$f":"HYPERLINK('PDF-Dateien'!I1 & \"1878-PC-Instrumente.pdf#page=3\",\"40#3\")","v":"40#3"},null,{"$f":"HYPERLINK('PDF-Dateien'!I1 & \"Auftraege24_1891_1893.pdf#page=10\",\"Buch 24 Seite 10\")","v":"Buch 24 Seite 10"}]
["A24.10.77","1891.09.28","Niehaus Geometer","Thun","CH","V",1,"gr. Aufsatz","?xy",null,{"$f":"HYPERLINK('PDF-Dateien'!I1 & \"Auftraege24_1891_1893.pdf#page=10\",\"Buch 24 Seite 10\")","v":"Buch 24 Seite 10"},1]
["A24.10.84","1891.09.28","Niehaus Geometer","Thun","CH","V",1,"Polarplanimeter",{"$f":"HYPERLINK('PDF-Dateien'!I1 & \"1878-PC-Instrumente.pdf#page=17\",\"283#17\")","v":"283#17"},null,{"$f":"HYPERLINK('PDF-Dateien'!I1 & \"Auftraege24_1891_1893.pdf#page=10\",\"Buch 24 Seite 10\")","v":"Buch 24 Seite 10"}]
["A24.10.91","1891.09.28","Eid.Oberbauinspektorat","Bern","CH","V",1,"Nivellier",{"$f":"HYPERLINK('PDF-Dateien'!I1 & \"1878-PC-Instrumente.pdf#page=10\",\"150#10\")","v":"150#10"},null,{"$f":"HYPERLINK('PDF-Dateien'!I1 & \"Auftraege24_1891_1893.pdf#page=10\",\"Buch 24 Seite 10\")","v":"Buch 24 Seite 10"}]
["A24.11.04","1891.09.28","Haidar Pacha","Istanbul","TU","V",15,"Kreuzscheibe",{"$f":"HYPERLINK('PDF-Dateien'!I1 & \"1878-PC-Instrumente.pdf#page=1\",\"3#1\")","v":"3#1"},null,{"$f":"HYPERLINK('PDF-Dateien'!I1 & \"Auftraege24_1891_1893.pdf#page=11\",\"Buch 24 Seite 11\")","v":"Buch 24 Seite 11"}]
["A24.11.08","1891.09.28","Haidar Pacha","Istanbul","TU","V",6,"Nivellier",{"$f":"HYPERLINK('PDF-Dateien'!I1 & \"1878-PC-Instrumente.pdf#page=9\",\"143#9\")","v":"143#9"},null,{"$f":"HYPERLINK('PDF-Dateien'!I1 & \"Auftraege24_1891_1893.pdf#page=11\",\"Buch 24 Seite 11\")","v":"Buch 24 Seite 11"}]
["A24.11.12","1891.09.28","Haidar Pacha","Istanbul","TU","V",2,"Nivellier",{"$f":"HYPERLINK('PDF-Dateien'!I1 & \"1878-PC-Instrumente.pdf#page=10\",\"151#10\")","v":"151#10"},null,{"$f":"HYPERLINK('PDF-Dateien'!I1 & \"Auftraege24_1891_1893.pdf#page=11\",\"Buch 24 Seite 11\")","v":"Buch 24 Seite 11"}]
["A24.11.16","1891.09.28","Haidar Pacha","Istanbul","TU","V",8,"Auszuglatte",{"$f":"HYPERLINK('PDF-Dateien'!I1 & \"1878-PC-Instrumente.pdf#page=7\",\"90#7\")","v":"90#7"},null,{"$f":"HYPERLINK('PDF-Dateien'!I1 & \"Auftraege24_1891_1893.pdf#page=11\",\"Buch 24 Seite 11\")","v":"Buch 24 Seite 11"}]
["A24.11.20","1891.09.28","Haidar Pacha","Istanbul","TU","V",8,"Kollimator Gaulier","?xy",null,{"$f":"HYPERLINK('PDF-Dateien'!I1 & \"Auftraege24_1891_1893.pdf#page=11\",\"Buch 24 Seite 11\")","v":"Buch 24 Seite 11"},1]
["A24.11.24","1891.09.28","Haidar Pacha","Istanbul","TU","V",8,"Messlatte","?xy",null,{"$f":"HYPERLINK('PDF-Dateien'!I1 & \"Auftraege24_1891_1893.pdf#page=11\",\"Buch 24 Seite 11\")","v":"Buch 24 Seite 11"},1]
["A24.11.28","1891.09.28","Haidar Pacha","Istanbul","TU","V",9,"Messstahlband 10 m mit Handgriffen",{"$f":"HYPERLINK('PDF-Dateien'!I1 & \"1878-PC-Instrumente.pdf#page=6\",\"82#6\")","v":"82#6"},null,{"$f":"HYPERLINK('PDF-Dateien'!I1 & \"Auftraege24_1891_1893.pdf#page=11\",\"Buch 24 Seite 11\")","v":"Buch 24 Seite 11"}]
["A24.11.32","1891.09.28","Haidar Pacha","Istanbul","TU","V",7,"Messstahlband 20 m mit Handgriffen",{"$f":"HYPERLINK('PDF-Dateien'!I1 & \"1878-PC-Instrumente.pdf#page=6\",\"82#6\")","v":"82#6"},null,{"$f":"HYPERLINK('PDF-Dateien'!I1 & \"Auftraege24_1891_1893.pdf#page=11\",\"Buch 24 Seite 11\")","v":"Buch 24 Seite 11"}]
["A24.11.36","1891.09.28","Haidar Pacha","Istanbul","TU","V",2,"Sonnenschirm","?xy",null,{"$f":"HYPERLINK('PDF-Dateien'!I1 & \"Auftraege24_1891_1893.pdf#page=11\",\"Buch 24 Seite 11\")","v":"Buch 24 Seite 11"},1]
["A24.11.40","1891.09.29","Muzzani (A.Piatti & Cia.)","Borgotaro","IT","V",1,"Repetitionstheodolit",{"$f":"HYPERLINK('PDF-Dateien'!I1 & \"1878-PC-Instrumente.pdf#page=13\",\"199#13\")","v":"199#13"},null,{"$f":"HYPERLINK('PDF-Dateien'!I1 & \"Auftraege24_1891_1893.pdf#page=11\",\"Buch 24 Seite 11\")","v":"Buch 24 Seite 11"}]
["A24.11.44","1891.09.29","Morgenthaler N., Ing.","Klein Dietwil","CH","R",1,"Repetitionstheodolit","?xy",null,{"$f":"HYPERLINK('PDF-Dateien'!I1 & \"Auftraege24_1891_1893.pdf#page=11\",\"Buch 24 Seite 11\")","v":"Buch 24 Seite 11"},1]
["A24.11.48","1891.09.29","Morgenthaler N., Ing.","Klein Dietwil","CH","R",1,"Bautheodolit",{"$f":"HYPERLINK('PDF-Dateien'!I1 & \"1878-PC-Instrumente.pdf#page=11\",\"162#11\")","v":"162#11"},null,{"$f":"HYPERLINK('PDF-Dateien'!I1 & \"Auftraege24_1891_1893.pdf#page=11\",\"Buch 24 Seite 11\")","v":"Buch 24 Seite 11"}]
["A24.11.52","1891.09.29","Depart. Trav. Publ.","Lausanne","CH","R",1,"Bautheodolit",{"$f":"HYPERLINK('PDF-Dateien'!I1 & \"1878-PC-Instrumente.pdf#page=11\",\"162#11\")","v":"162#11"},null,{"$f":"HYPERLINK('PDF-Dateien'!I1 & \"Auftraege24_1891_1893.pdf#page=11\",\"Buch 24 Seite 11\")","v":"Buch 24 Seite 11"}]
["A24.11.56","1891.09.29","Glaser J.","Airolo","CH","R",1,"Repetitionstheodolit","?xy",null,{"$f":"HYPERLINK('PDF-Dateien'!I1 & \"Auftraege24_1891_1893.pdf#page=11\",\"Buch 24 Seite 11\")","v":"Buch 24 Seite 11"},1]
["A24.11.60","1891.10.12","Wenner Ing.","Leissigen","CH","V",1,"Baulibelle","?xy",null,{"$f":"HYPERLINK('PDF-Dateien'!I1 & \"Auftraege24_1891_1893.pdf#page=11\",\"Buch 24 Seite 11\")","v":"Buch 24 Seite 11"},1]
["A24.11.64","1891.10.20","Calderoni","?xy","?xy","V",4,"Nivellier nach Starke","?xy",null,{"$f":"HYPERLINK('PDF-Dateien'!I1 & \"Auftraege24_1891_1893.pdf#page=11\",\"Buch 24 Seite 11\")","v":"Buch 24 Seite 11"},3]
["A24.11.68","1891.10.20","Sbisa Pietro","Rom","IT","V",1,"Repetitionstheodolit",{"$f":"HYPERLINK('PDF-Dateien'!I1 & \"1878-PC-Instrumente.pdf#page=12\",\"172#12\")","v":"172#12"},null,{"$f":"HYPERLINK('PDF-Dateien'!I1 & \"Auftraege24_1891_1893.pdf#page=11\",\"Buch 24 Seite 11\")","v":"Buch 24 Seite 11"}]
["A24.11.72","1891.10.20","Sbisa Pietro","Rom","IT","V",1,"Repetitionstheodolit",{"$f":"HYPERLINK('PDF-Dateien'!I1 & \"1878-PC-Instrumente.pdf#page=12\",\"178#12\")","v":"178#12"},null,{"$f":"HYPERLINK('PDF-Dateien'!I1 & \"Auftraege24_1891_1893.pdf#page=11\",\"Buch 24 Seite 11\")","v":"Buch 24 Seite 11"}]
["A24.11.76","1891.11.04","Ritz F., Ing.","Luterbach","CH","V",1,"Bautheodolit",{"$f":"HYPERLINK('PDF-Dateien'!I1 & \"1878-PC-Instrumente.pdf#page=11\",\"163#11\")","v":"163#11"},null,{"$f":"HYPERLINK('PDF-Dateien'!I1 & \"Auftraege24_1891_1893.pdf#page=11\",\"Buch 24 Seite 11\")","v":"Buch 24 Seite 11"}]
["A24.17.05","1892.01.22","Lindenmann H. , eidg. Top.","Bern","CH","R",1,"Messtisch-Aufsatz","?xy",null,{"$f":"HYPERLINK('PDF-Dateien'!I1 & \"Auftraege24_1891_1893.pdf#page=17\",\"Buch 24 Seite 17\")","v":"Buch 24 Seite 17"},1]
["A24.17.10","1892.01.22","Coulin, eidg. Top.","Bern","CH","V",1,"Höhenkreis","?xy",null,{"$f":"HYPERLINK('PDF-Dateien'!I1 & \"Auftraege24_1891_1893.pdf#page=17\",\"Buch 24 Seite 17\")","v":"Buch 24 Seite 17"},1]
["A24.17.15","1892.01.22","Hafner Ing.","Langenthal","CH","V",1,"Messtisch",{"$f":"HYPERLINK('PDF-Dateien'!I1 & \"1878-PC-Instrumente.pdf#page=3\",\"40#3\")","v":"40#3"},"ohne Tellerstativ",{"$f":"HYPERLINK('PDF-Dateien'!I1 & \"Auftraege24_1891_1893.pdf#page=17\",\"Buch 24 Seite 17\")","v":"Buch 24 Seite 17"}]
["A24.17.20","1892.01.22","Hafner Ing.","Langenthal","CH","V",1,"Messtisch-Aufsatz","?xy","grosse Sorte, nach neuster Konstruktion",{"$f":"HYPERLINK('PDF-Dateien'!I1 & \"Auftraege24_1891_1893.pdf#page=17\",\"Buch 24 Seite 17\")","v":"Buch 24 Seite 17"},1]
["A24.17.25","1892.01.22","Nobili Corni","Tamagno","IT","V",1,"Winkelkegel",{"$f":"HYPERLINK('PDF-Dateien'!I1 & \"1878-PC-Instrumente.pdf#page=1\",\"7#1\")","v":"7#1"},"konische Winkeltrommel",{"$f":"HYPERLINK('PDF-Dateien'!I1 & \"Auftraege24_1891_1893.pdf#page=17\",\"Buch 24 Seite 17\")","v":"Buch 24 Seite 17"}]
["A24.17.30","1892.02.02","Tschumi Prof.","Genf","CH","V",1,"einfacher Winkelmesser ",{"$f":"HYPERLINK('PDF-Dateien'!I1 & \"1878-PC-Instrumente.pdf#page=2\",\"24#2\")","v":"24#2"},"oder Astrolabium mit Fernrohr, auch Forstwinkelmesser genannt",{"$f":"HYPERLINK('PDF-Dateien'!I1 & \"Auftraege24_1891_1893.pdf#page=17\",\"Buch 24 Seite 17\")","v":"Buch 24 Seite 17"}]
["A24.17.35","1892.02.02","Birkin","Riwne","UA","V",1,"Taschen-Nivellier-Instrument",{"$f":"HYPERLINK('PDF-Dateien'!I1 & \"1878-PC-Instrumente.pdf#page=8\",\"110#8\")","v":"110#8"},"oder Stampfers Nivellier-Fernrohr\n(Riwne oder russisch Rowno)",{"$f":"HYPERLINK('PDF-Dateien'!I1 & \"Auftraege24_1891_1893.pdf#page=17\",\"Buch 24 Seite 17\")","v":"Buch 24 Seite 17"}]
["A24.17.40","1892.02.02","Birkin","Riwne","UA","V",1,"Nivellierinstrument",{"$f":"HYPERLINK('PDF-Dateien'!I1 & \"1878-PC-Instrumente.pdf#page=10\",\"150#10\")","v":"150#10"},null,{"$f":"HYPERLINK('PDF-Dateien'!I1 & \"Auftraege24_1891_1893.pdf#page=17\",\"Buch 24 Seite 17\")","v":"Buch 24 Seite 17"}]
["A24.17.45","1892.02.02","Birkin","Riwne","UA","V",1,"Nivellier- und Distanzlatte",{"$f":"HYPERLINK('PDF-Dateien'!I1 & \"1878-PC-Instrumente.pdf#page=7\",\"90#7\")","v":"90#7"},null,{"$f":"HYPERLINK('PDF-Dateien'!I1 & \"Auftraege24_1891_1893.pdf#page=17\",\"Buch 24 Seite 17\")","v":"Buch 24 Seite 17"}]
["A24.17.50","1892.02.02","Birkin","Riwne","UA","V",1,"Nivellierlatte",{"$f":"HYPERLINK('PDF-Dateien'!I1 & \"1878-PC-Instrumente.pdf#page=7\",\"91#7\")","v":"91#7"},null,{"$f":"HYPERLINK('PDF-Dateien'!I1 & \"Auftraege24_1891_1893.pdf#page=17\",\"Buch 24 Seite 17\")","v":"Buch 24 Seite 17"}]
["A24.17.55","1892.02.15","Eckersley, Godfrey & Liddelow","Athen","GR","V",8,"Messtisch-Ring","?xy",null,{"$f":"HYPERLINK('PDF-Dateien'!I1 & \"Auftraege24_1891_1893.pdf#page=17\",\"Buch 24 Seite 17\")","v":"Buch 24 Seite 17"},1]
["A24.17.60","1892.02.15","Stocker Gottlieb Ing.","Zürich-Aussersihl","CH","V",1,"Nivellierinstrument",{"$f":"HYPERLINK('PDF-Dateien'!I1 & \"1878-PC-Instrumente.pdf#page=8\",\"120#8\")","v":"120#8"},null,{"$f":"HYPERLINK('PDF-Dateien'!I1 & \"Auftraege24_1891_1893.pdf#page=17\",\"Buch 24 Seite 17\")","v":"Buch 24 Seite 17"}]
["A24.17.65","1892.02.15","Royal-Railway Departement","Bangkok","TH","V",3,"Repetitionstheodolit",{"$f":"HYPERLINK('PDF-Dateien'!I1 & \"1878-PC-Instrumente.pdf#page=12\",\"186#12\")","v":"186#12"},null,{"$f":"HYPERLINK('PDF-Dateien'!I1 & \"Auftraege24_1891_1893.pdf#page=17\",\"Buch 24 Seite 17\")","v":"Buch 24 Seite 17"}]
["A24.17.70","1892.02.15","Royal-Railway Departement","Bangkok","TH","V",1,"Boussole",{"$f":"HYPERLINK('PDF-Dateien'!I1 & \"1878-PC-Instrumente.pdf#page=16\",\"266#16\")","v":"266#16"},"mit Stativ",{"$f":"HYPERLINK('PDF-Dateien'!I1 & \"Auftraege24_1891_1893.pdf#page=17\",\"Buch 24 Seite 17\")","v":"Buch 24 Seite 17"}]
["A24.17.75","1892.02.15","Blanc, C. Geometer","Lutry","CH","R",1,"Messtisch-Kopf","?xy",null,{"$f":"HYPERLINK('PDF-Dateien'!I1 & \"Auftraege24_1891_1893.pdf#page=17\",\"Buch 24 Seite 17\")","v":"Buch 24 Seite 17"},1]
["A24.17.80","1892.02.15","Vermessungsbureau Kt.Bern","Bern","CH","R",1,"Tellerstativ","?xy",null,{"$f":"HYPERLINK('PDF-Dateien'!I1 & \"Auftraege24_1891_1893.pdf#page=17\",\"Buch 24 Seite 17\")","v":"Buch 24 Seite 17"},1]
["A24.18.11","1892.02.18","Schwabe","Moskau","RU","V",60,"Theodolit","?xy","Transittheodolit nach System Breithaupt",{"$f":"HYPERLINK('PDF-Dateien'!I1 & \"Auftraege24_1891_1893.pdf#page=18\",\"Buch 24 Seite 18\")","v":"Buch 24 Seite 18"},1]
["A24.18.22","1892.02.18","Glardon Alf., Ing.","Vallorbe","CH","V",1,"Bautheodolit",{"$f":"HYPERLINK('PDF-Dateien'!I1 & \"1878-PC-Instrumente.pdf#page=11\",\"163#11\")","v":"163#11"},null,{"$f":"HYPERLINK('PDF-Dateien'!I1 & \"Auftraege24_1891_1893.pdf#page=18\",\"Buch 24 Seite 18\")","v":"Buch 24 Seite 18"}]
["A24.18.33","1892.02.18","Deutsch","Wald Ottoberg","CH","R",1,"Nivellierinstrument","?xy",null,{"$f":"HYPERLINK('PDF-Dateien'!I1 & \"Auftraege24_1891_1893.pdf#page=18\",\"Buch 24 Seite 18\")","v":"Buch 24 Seite 18"},1]
["A24.18.44","1892.02.18","Fischer F.L.","Freiburg i/B","DE","V",1,"Winkelkegel",{"$f":"HYPERLINK('PDF-Dateien'!I1 & \"1878-PC-Instrumente.pdf#page=1\",\"5#1\")","v":"5#1"},"konische Winkeltrommel",{"$f":"HYPERLINK('PDF-Dateien'!I1 & \"Auftraege24_1891_1893.pdf#page=18\",\"Buch 24 Seite 18\")","v":"Buch 24 Seite 18"}]
["A24.18.55","1892.02.18","Sona Ing.","Locarno","CH","V",1,"Nivellierinstrument",{"$f":"HYPERLINK('PDF-Dateien'!I1 & \"1878-PC-Instrumente.pdf#page=10\",\"150#10\")","v":"150#10"},null,{"$f":"HYPERLINK('PDF-Dateien'!I1 & \"Auftraege24_1891_1893.pdf#page=18\",\"Buch 24 Seite 18\")","v":"Buch 24 Seite 18"}]
["A24.18.66","1892.02.29","Feldmess-Verwaltung des Kuban'schen Kreises","Krasnodar","RU","V",2,"Repetitionstheodolit",{"$f":"HYPERLINK('PDF-Dateien'!I1 & \"1878-PC-Instrumente.pdf#page=14\",\"213#14\")","v":"213#14"},"Fernrohre mit orthoskopischen Okularen",{"$f":"HYPERLINK('PDF-Dateien'!I1 & \"Auftraege24_1891_1893.pdf#page=18\",\"Buch 24 Seite 18\")","v":"Buch 24 Seite 18"}]
["A24.18.77","1892.02.29","Cazaux, Geom. du serv. Top.","Algier","AG","V",1,"Messtisch-Aufsatz",{"$f":"HYPERLINK('PDF-Dateien'!I1 & \"1878-PC-Instrumente.pdf#page=4\",\"47#4\")","v":"47#4"},null,{"$f":"HYPERLINK('PDF-Dateien'!I1 & \"Auftraege24_1891_1893.pdf#page=18\",\"Buch 24 Seite 18\")","v":"Buch 24 Seite 18"}]
["A24.18.88","1892.02.29","Traveaux du port de la ville, Ing. Bernatzky","Novorossiysk","RU","V",1,"Repetitionstheodolit",{"$f":"HYPERLINK('PDF-Dateien'!I1 & \"1878-PC-Instrumente.pdf#page=14\",\"214#14\")","v":"214#14"},"astronomischer-",{"$f":"HYPERLINK('PDF-Dateien'!I1 & \"Auftraege24_1891_1893.pdf#page=18\",\"Buch 24 Seite 18\")","v":"Buch 24 Seite 18"}]
["A24.19.05","1892.02.29","Vermessungsbureau Kt.Bern","Bern","CH","V",1,"Tachymeter",{"$f":"HYPERLINK('PDF-Dateien'!I1 & \"1878-PC-Instrumente.pdf#page=13\",\"206#13\")","v":"206#13"},null,{"$f":"HYPERLINK('PDF-Dateien'!I1 & \"Auftraege24_1891_1893.pdf#page=19\",\"Buch 24 Seite 19\")","v":"Buch 24 Seite 19"}]
["A24.19.10","1892.02.29","Imfeld Ing.","Zürich","CH","V",1,"Messtisch-Köpfchen","?xy","ganz klein, nach dem Hochgebirgsmodell",{"$f":"HYPERLINK('PDF-Dateien'!I1 & \"Auftraege24_1891_1893.pdf#page=19\",\"Buch 24 Seite 19\")","v":"Buch 24 Seite 19"},1]
["A24.19.15","1892.02.29","Traveaux publics, Gianella","Bellinzona","CH","V",1,"Taschen-Nivellier-Instrument",{"$f":"HYPERLINK('PDF-Dateien'!I1 & \"1878-PC-Instrumente.pdf#page=8\",\"110#8\")","v":"110#8"},"nach Stampfer",{"$f":"HYPERLINK('PDF-Dateien'!I1 & \"Auftraege24_1891_1893.pdf#page=19\",\"Buch 24 Seite 19\")","v":"Buch 24 Seite 19"}]
["A24.19.20","1892.02.29","Traveaux publics, Gianella","Bellinzona","CH","V",1,"Horizontalkreis",{"$f":"HYPERLINK('PDF-Dateien'!I1 & \"1878-PC-Instrumente.pdf#page=5\",\"65#5\")","v":"65#5"},null,{"$f":"HYPERLINK('PDF-Dateien'!I1 & \"Auftraege24_1891_1893.pdf#page=19\",\"Buch 24 Seite 19\")","v":"Buch 24 Seite 19"}]
["A24.19.25","1892.02.29","Bonzon A., Geometer","Bex","CH","V",1,"Massstab 1 m",{"$f":"HYPERLINK('PDF-Dateien'!I1 & \"1878-PC-Instrumente.pdf#page=7\",\"94#7\")","v":"94#7"},null,{"$f":"HYPERLINK('PDF-Dateien'!I1 & \"Auftraege24_1891_1893.pdf#page=19\",\"Buch 24 Seite 19\")","v":"Buch 24 Seite 19"}]
["A24.19.30","1892.02.29","Gerlach","Warschau","PL","V",3,"Trigonometrischer Rechenstab",{"$f":"HYPERLINK('PDF-Dateien'!I1 & \"1878-PC-Instrumente.pdf#page=4\",\"61#4\")","v":"61#4"},"nach Wild, 360°",{"$f":"HYPERLINK('PDF-Dateien'!I1 & \"Auftraege24_1891_1893.pdf#page=19\",\"Buch 24 Seite 19\")","v":"Buch 24 Seite 19"}]
["A24.19.35","1892.02.29","Schelling Baumeister","Münsterlingen","CH","V",1,"Fernrohr, terrestrisch ","?xy","zu Nivellier-Instrument",{"$f":"HYPERLINK('PDF-Dateien'!I1 & \"Auftraege24_1891_1893.pdf#page=19\",\"Buch 24 Seite 19\")","v":"Buch 24 Seite 19"},1]
["A24.19.40","1892.02.29","Crausaz Simon Ing.","Fribourg","CH","V",1,"Messtisch-Stativ",{"$f":"HYPERLINK('PDF-Dateien'!I1 & \"1878-PC-Instrumente.pdf#page=3\",\"37#3\")","v":"37#3"},null,{"$f":"HYPERLINK('PDF-Dateien'!I1 & \"Auftraege24_1891_1893.pdf#page=19\",\"Buch 24 Seite 19\")","v":"Buch 24 Seite 19"}]
["A24.19.45","1892.02.29","Crausaz Simon Ing.","Fribourg","CH","V",1,"Prismenkreuz",{"$f":"HYPERLINK('PDF-Dateien'!I1 & \"1878-PC-Instrumente.pdf#page=2\",\"34#2\")","v":"34#2"},null,{"$f":"HYPERLINK('PDF-Dateien'!I1 & \"Auftraege24_1891_1893.pdf#page=19\",\"Buch 24 Seite 19\")","v":"Buch 24 Seite 19"}]
["A24.19.50","1892.02.29","Lussy A.","Vevey","CH","R",1,"Nivellierlatte","?xy",null,{"$f":"HYPERLINK('PDF-Dateien'!I1 & \"Auftraege24_1891_1893.pdf#page=19\",\"Buch 24 Seite 19\")","v":"Buch 24 Seite 19"},1]
["A24.19.55","1892.02.29","Förster J. Peter","Winterthur","CH","V",1,"Nivellierinstrument",{"$f":"HYPERLINK('PDF-Dateien'!I1 & \"1878-PC-Instrumente.pdf#page=9\",\"146#9\")","v":"146#9"},"inkl. Tellerstativ und Reversionslibelle",{"$f":"HYPERLINK('PDF-Dateien'!I1 & \"Auftraege24_1891_1893.pdf#page=19\",\"Buch 24 Seite 19\")","v":"Buch 24 Seite 19"}]
["A24.19.60","1892.02.29","Vripp & Söhne","Delft","NL","V",2,"Nivellierinstrument",{"$f":"HYPERLINK('PDF-Dateien'!I1 & \"1878-PC-Instrumente.pdf#page=9\",\"131#9\")","v":"131#9"},null,{"$f":"HYPERLINK('PDF-Dateien'!I1 & \"Auftraege24_1891_1893.pdf#page=19\",\"Buch 24 Seite 19\")","v":"Buch 24 Seite 19"}]
["A24.19.65","1892.02.29","Matzinger J.J. Ing.","Basel","CH","V",2,"Winkel","?xy","aus Aluminium",{"$f":"HYPERLINK('PDF-Dateien'!I1 & \"Auftraege24_1891_1893.pdf#page=19\",\"Buch 24 Seite 19\")","v":"Buch 24 Seite 19"},1]
["A24.19.70","1892.03.09","Vripp & Söhne","Delft","NL","V",3,"Boussolen-Instrument","?xy","nach Zeichnung",{"$f":"HYPERLINK('PDF-Dateien'!I1 & \"Auftraege24_1891_1893.pdf#page=19\",\"Buch 24 Seite 19\")","v":"Buch 24 Seite 19"},1]
["A24.19.75","1892.03.09","Förster J. Peter","Winterthur","CH","V",1,"Nivellierinstrument",{"$f":"HYPERLINK('PDF-Dateien'!I1 & \"1878-PC-Instrumente.pdf#page=10\",\"150#10\")","v":"150#10"},null,{"$f":"HYPERLINK('PDF-Dateien'!I1 & \"Auftraege24_1891_1893.pdf#page=19\",\"Buch 24 Seite 19\")","v":"Buch 24 Seite 19"}]
["A24.19.80","1892.03.09","Aramburo","Madrid","ES","V",1,"Repetitionstheodolit",{"$f":"HYPERLINK('PDF-Dateien'!I1 & \"1878-PC-Instrumente.pdf#page=12\",\"186#12\")","v":"186#12"},"400°",{"$f":"HYPERLINK('PDF-Dateien'!I1 & \"Auftraege24_1891_1893.pdf#page=19\",\"Buch 24 Seite 19\")","v":"Buch 24 Seite 19"}]
["A24.19.85","1892.03.09","Fric Joseph & Jean","Prag","CZ","V",1,"Verwandlungsinstrument",{"$f":"HYPERLINK('PDF-Dateien'!I1 & \"1878-PC-Instrumente.pdf#page=17\",\"281#17\")","v":"281#17"},null,{"$f":"HYPERLINK('PDF-Dateien'!I1 & \"Auftraege24_1891_1893.pdf#page=19\",\"Buch 24 Seite 19\")","v":"Buch 24 Seite 19"}]
["A24.20.07","1892.03.18","Hosbein Julius","Brodina","RO","V",1,"Stativ","?xy",null,{"$f":"HYPERLINK('PDF-Dateien'!I1 & \"Auftraege24_1891_1893.pdf#page=20\",\"Buch 24 Seite 20\")","v":"Buch 24 Seite 20"},1]
["A24.20.14","1892.03.18","Sbisa","Rom","IT","V",6,"Niveauglas","?xy",null,{"$f":"HYPERLINK('PDF-Dateien'!I1 & \"Auftraege24_1891_1893.pdf#page=20\",\"Buch 24 Seite 20\")","v":"Buch 24 Seite 20"},1]
["A24.20.21","1892.03.18","Grothe","London","GB","V",2,"Trigonometrischer Rechenstab",{"$f":"HYPERLINK('PDF-Dateien'!I1 & \"1878-PC-Instrumente.pdf#page=4\",\"61#4\")","v":"61#4"},"nach Wild, 360°",{"$f":"HYPERLINK('PDF-Dateien'!I1 & \"Auftraege24_1891_1893.pdf#page=20\",\"Buch 24 Seite 20\")","v":"Buch 24 Seite 20"}]
["A24.20.28","1892.03.18","Gerlach","Warschau","PL","V",1,"Repetitionstheodolit",{"$f":"HYPERLINK('PDF-Dateien'!I1 & \"1878-PC-Instrumente.pdf#page=12\",\"172#12\")","v":"172#12"},null,{"$f":"HYPERLINK('PDF-Dateien'!I1 & \"Auftraege24_1891_1893.pdf#page=20\",\"Buch 24 Seite 20\")","v":"Buch 24 Seite 20"}]
["A24.20.35","1892.03.18","Mikonios Ing.","Payerne","CH","V",1,"Nivellierinstrument",{"$f":"HYPERLINK('PDF-Dateien'!I1 & \"1878-PC-Instrumente.pdf#page=8\",\"123#8\")","v":"123#8"},null,{"$f":"HYPERLINK('PDF-Dateien'!I1 & \"Auftraege24_1891_1893.pdf#page=20\",\"Buch 24 Seite 20\")","v":"Buch 24 Seite 20"}]
["A24.20.42","1892.04.01","Wildberger R.","Chur","CH","V",1,"Trigonometrischer Rechenstab",{"$f":"HYPERLINK('PDF-Dateien'!I1 & \"1878-PC-Instrumente.pdf#page=4\",\"61#4\")","v":"61#4"},"400°",{"$f":"HYPERLINK('PDF-Dateien'!I1 & \"Auftraege24_1891_1893.pdf#page=20\",\"Buch 24 Seite 20\")","v":"Buch 24 Seite 20"}]
["A24.20.49","1892.04.01","Wildberger & Weber","Chur","CH","V",1,"Messtisch-Aufsatz","?xy","nach neuster Konstruktion",{"$f":"HYPERLINK('PDF-Dateien'!I1 & \"Auftraege24_1891_1893.pdf#page=20\",\"Buch 24 Seite 20\")","v":"Buch 24 Seite 20"},1]
["A24.20.56","1892.04.01","Wildberger & Weber","Chur","CH","V",1,"Messtisch-Stativ",{"$f":"HYPERLINK('PDF-Dateien'!I1 & \"1878-PC-Instrumente.pdf#page=3\",\"36#3\")","v":"36#3"},null,{"$f":"HYPERLINK('PDF-Dateien'!I1 & \"Auftraege24_1891_1893.pdf#page=20\",\"Buch 24 Seite 20\")","v":"Buch 24 Seite 20"}]
["A24.20.63","1892.04.01","Schoeb Ing.","Constatine","AG","V",1,"Deklinatorium","?xy","http://deacademic.com/dic.nsf/dewiki/312168",{"$f":"HYPERLINK('PDF-Dateien'!I1 & \"Auftraege24_1891_1893.pdf#page=20\",\"Buch 24 Seite 20\")","v":"Buch 24 Seite 20"},1]
["A24.20.70","1892.04.01","Dupont-Büeche","Genf","CH","V",1,"Messstahlband 10m",{"$f":"HYPERLINK('PDF-Dateien'!I1 & \"1878-PC-Instrumente.pdf#page=6\",\"82#6\")","v":"82#6"},null,{"$f":"HYPERLINK('PDF-Dateien'!I1 & \"Auftraege24_1891_1893.pdf#page=20\",\"Buch 24 Seite 20\")","v":"Buch 24 Seite 20"}]
["A24.20.77","1892.04.01","Traveaux Publics","?","?","R",1,"Nivellierinstrument",{"$f":"HYPERLINK('PDF-Dateien'!I1 & \"1878-PC-Instrumente.pdf#page=11\",\"156#11\")","v":"156#11"},null,{"$f":"HYPERLINK('PDF-Dateien'!I1 & \"Auftraege24_1891_1893.pdf#page=20\",\"Buch 24 Seite 20\")","v":"Buch 24 Seite 20"}]
["A24.20.84","1892.04.01","Bruyant E.","Bologhine Algier","AG","V",1,"Messtisch-Aufsatz",{"$f":"HYPERLINK('PDF-Dateien'!I1 & \"1878-PC-Instrumente.pdf#page=4\",\"48#4\")","v":"48#4"},"bis 1962 hiess die Gemeinde St.Eugène",{"$f":"HYPERLINK('PDF-Dateien'!I1 & \"Auftraege24_1891_1893.pdf#page=20\",\"Buch 24 Seite 20\")","v":"Buch 24 Seite 20"}]
["A24.21.06","1892.04.01","Techn. Schule, \nFasting O.W.Ing.","Bergen","NO","V",2,"Bautheodolit",{"$f":"HYPERLINK('PDF-Dateien'!I1 & \"1878-PC-Instrumente.pdf#page=11\",\"163#11\")","v":"163#11"},null,{"$f":"HYPERLINK('PDF-Dateien'!I1 & \"Auftraege24_1891_1893.pdf#page=21\",\"Buch 24 Seite 21\")","v":"Buch 24 Seite 21"}]
["A24.21.12","1892.04.01","Techn. Schule, \nFasting O.W.Ing.","Bergen","NO","V",1,"Nivellierinstrument",{"$f":"HYPERLINK('PDF-Dateien'!I1 & \"1878-PC-Instrumente.pdf#page=8\",\"121#8\")","v":"121#8"},null,{"$f":"HYPERLINK('PDF-Dateien'!I1 & \"Auftraege24_1891_1893.pdf#page=21\",\"Buch 24 Seite 21\")","v":"Buch 24 Seite 21"}]
["A24.21.18","1892.04.01","Techn. Schule, \nFasting O.W.Ing.","Bergen","NO","V",1,"Messtisch-Aufsatz","?xy","grosse Sorte, nach neuster Konstruktion",{"$f":"HYPERLINK('PDF-Dateien'!I1 & \"Auftraege24_1891_1893.pdf#page=21\",\"Buch 24 Seite 21\")","v":"Buch 24 Seite 21"},1]
["A24.21.24","1892.04.11","Zurflüh J. Ing.\nThalwil-Zug Bahn","Sihlbrugg","CH","V",1,"Nivellierinstrument",{"$f":"HYPERLINK('PDF-Dateien'!I1 & \"1878-PC-Instrumente.pdf#page=10\",\"150#10\")","v":"150#10"},null,{"$f":"HYPERLINK('PDF-Dateien'!I1 & \"Auftraege24_1891_1893.pdf#page=21\",\"Buch 24 Seite 21\")","v":"Buch 24 Seite 21"}]
["A24.21.30","1892.04.11","Rydzewski F. Ing.","Tiflis","GG","V",2,"Präzisionsmire",{"$f":"HYPERLINK('PDF-Dateien'!I1 & \"1878-PC-Instrumente.pdf#page=7\",\"89#7\")","v":"89#7"},null,{"$f":"HYPERLINK('PDF-Dateien'!I1 & \"Auftraege24_1891_1893.pdf#page=21\",\"Buch 24 Seite 21\")","v":"Buch 24 Seite 21"}]
["A24.21.36","1892.04.11","Traveaux Publics","Lausanne","CH","V",1,"Niveau d'Egault",{"$f":"HYPERLINK('PDF-Dateien'!I1 & \"1878-PC-Instrumente.pdf#page=9\",\"138#9\")","v":"138#9"},null,{"$f":"HYPERLINK('PDF-Dateien'!I1 & \"Auftraege24_1891_1893.pdf#page=21\",\"Buch 24 Seite 21\")","v":"Buch 24 Seite 21"}]
["A24.21.42","1892.04.11","Smith G.","Aalesund","NO","V",1,"Reflexions-Prisma",{"$f":"HYPERLINK('PDF-Dateien'!I1 & \"1878-PC-Instrumente.pdf#page=2\",\"33#2\")","v":"33#2"},null,{"$f":"HYPERLINK('PDF-Dateien'!I1 & \"Auftraege24_1891_1893.pdf#page=21\",\"Buch 24 Seite 21\")","v":"Buch 24 Seite 21"}]
["A24.21.48","1892.04.11","Gerlach G.","Warschau","PL","V",2,"Repetitionstheodolit",{"$f":"HYPERLINK('PDF-Dateien'!I1 & \"1878-PC-Instrumente.pdf#page=12\",\"180#12\")","v":"180#12"},null,{"$f":"HYPERLINK('PDF-Dateien'!I1 & \"Auftraege24_1891_1893.pdf#page=21\",\"Buch 24 Seite 21\")","v":"Buch 24 Seite 21"}]
["A24.21.54","1892.04.22","Eidg.topogr. Bureau","Bern","CH","V",1,"Messtisch-Aufsatz",{"$f":"HYPERLINK('PDF-Dateien'!I1 & \"1878-PC-Instrumente.pdf#page=3\",\"36#3\")","v":"36#3"},"nach neuster Konstruktion",{"$f":"HYPERLINK('PDF-Dateien'!I1 & \"Auftraege24_1891_1893.pdf#page=21\",\"Buch 24 Seite 21\")","v":"Buch 24 Seite 21"}]
["A24.21.60","1892.04.22","Dünner U.","Singapore","SN","V",1,"Boussole nach Schmalkalder",{"$f":"HYPERLINK('PDF-Dateien'!I1 & \"1878-PC-Instrumente.pdf#page=17\",\"273#17\")","v":"273#17"},null,{"$f":"HYPERLINK('PDF-Dateien'!I1 & \"Auftraege24_1891_1893.pdf#page=21\",\"Buch 24 Seite 21\")","v":"Buch 24 Seite 21"}]
["A24.21.66","1892.04.22","Dünner U.","Singapore","SN","V",1,"Messkette 20 m",{"$f":"HYPERLINK('PDF-Dateien'!I1 & \"1878-PC-Instrumente.pdf#page=6\",\"80#6\")","v":"80#6"},null,{"$f":"HYPERLINK('PDF-Dateien'!I1 & \"Auftraege24_1891_1893.pdf#page=21\",\"Buch 24 Seite 21\")","v":"Buch 24 Seite 21"}]
["A24.21.72","1892.04.22","Maschinenbauanstalt","Golzern","CH","V",1,"Lineallibelle",{"$f":"HYPERLINK('PDF-Dateien'!I1 & \"1878-PC-Instrumente.pdf#page=6\",\"71#6\")","v":"71#6"},"nach Angaben",{"$f":"HYPERLINK('PDF-Dateien'!I1 & \"Auftraege24_1891_1893.pdf#page=21\",\"Buch 24 Seite 21\")","v":"Buch 24 Seite 21"}]
["A24.21.78","1892.04.22","Oetling & Cie., Alex.","Hamburg","DE","V",2,"Einfacher Winkelmesser \n",{"$f":"HYPERLINK('PDF-Dateien'!I1 & \"1878-PC-Instrumente.pdf#page=2\",\"23#2\")","v":"23#2"},"oder Astrolabium mit Fernrohr, auch Forstwinkelmesser genannt",{"$f":"HYPERLINK('PDF-Dateien'!I1 & \"Auftraege24_1891_1893.pdf#page=21\",\"Buch 24 Seite 21\")","v":"Buch 24 Seite 21"}]
["A24.21.84","1892.04.22","Oetling & Cie., Alex.","Hamburg","DE","V",1,"Niveau Lenoir",{"$f":"HYPERLINK('PDF-Dateien'!I1 & \"1878-PC-Instrumente.pdf#page=9\",\"134#9\")","v":"134#9"},"Seetüchtige Verpackung",{"$f":"HYPERLINK('PDF-Dateien'!I1 & \"Auftraege24_1891_1893.pdf#page=21\",\"Buch 24 Seite 21\")","v":"Buch 24 Seite 21"}]
["A24.22.06","1892.04.22","Maschinenfabrik Bern","Bern","CH","V",1,"Stahmessband 50m",{"$f":"HYPERLINK('PDF-Dateien'!I1 & \"1878-PC-Instrumente.pdf#page=6\",\"82#6\")","v":"82#6"},null,{"$f":"HYPERLINK('PDF-Dateien'!I1 & \"Auftraege24_1891_1893.pdf#page=22\",\"Buch 24 Seite 22\")","v":"Buch 24 Seite 22"}]
["A24.22.12","1892.04.22","Maschinenfabrik Bern","Bern","CH","V",1,"Spule mit Eisenbeschlägen",{"$f":"HYPERLINK('PDF-Dateien'!I1 & \"1878-PC-Instrumente.pdf#page=6\",\"82#6\")","v":"82#6"},null,{"$f":"HYPERLINK('PDF-Dateien'!I1 & \"Auftraege24_1891_1893.pdf#page=22\",\"Buch 24 Seite 22\")","v":"Buch 24 Seite 22"}]
["A24.22.18","1892.04.22","Zwygart A. , Geometer","Rickenbach BL","CH","V",1,"Messtisch-Stativ, mittleres, mit Ring",{"$f":"HYPERLINK('PDF-Dateien'!I1 & \"1878-PC-Instrumente.pdf#page=3\",\"36#3\")","v":"36#3"},null,{"$f":"HYPERLINK('PDF-Dateien'!I1 & \"Auftraege24_1891_1893.pdf#page=22\",\"Buch 24 Seite 22\")","v":"Buch 24 Seite 22"}]
["A24.22.24","1892.04.22","Zwygart A. , Geometer","Rickenbach BL","CH","V",1,"Messtisch-Aufsatz",{"$f":"HYPERLINK('PDF-Dateien'!I1 & \"1878-PC-Instrumente.pdf#page=4\",\"53#4\")","v":"53#4"},"nach neuster Konstruktion 400°",{"$f":"HYPERLINK('PDF-Dateien'!I1 & \"Auftraege24_1891_1893.pdf#page=22\",\"Buch 24 Seite 22\")","v":"Buch 24 Seite 22"}]
["A24.22.30","1892.05.03","Möller Joh.","Bochum","DE","V",1,"50 cm-Kathete aus Stahl","?xy",null,{"$f":"HYPERLINK('PDF-Dateien'!I1 & \"Auftraege24_1891_1893.pdf#page=22\",\"Buch 24 Seite 22\")","v":"Buch 24 Seite 22"},1]
["A24.22.36","1892.05.03","Labarbera G. fils","Athen","GR","R",1,"Fernrohr","?xy","neu 1 Glasdistanzmesser",{"$f":"HYPERLINK('PDF-Dateien'!I1 & \"Auftraege24_1891_1893.pdf#page=22\",\"Buch 24 Seite 22\")","v":"Buch 24 Seite 22"},1]
["A24.22.42","1892.05.03","Labarbera G. fils","Athen","GR","R",1,"Bautheodolit","?xy","Vollst.demont. und reinigen, neue Teilung, neuer Nonius, neuer Glasdistanzm., neues Reiterlib.glas",{"$f":"HYPERLINK('PDF-Dateien'!I1 & \"Auftraege24_1891_1893.pdf#page=22\",\"Buch 24 Seite 22\")","v":"Buch 24 Seite 22"},1]
["A24.22.48","1892.05.03","Labarbera G. fils","Athen","GR","R",1,"Nivellierinstrument","?xy","Vollst. demontieren und reinigen",{"$f":"HYPERLINK('PDF-Dateien'!I1 & \"Auftraege24_1891_1893.pdf#page=22\",\"Buch 24 Seite 22\")","v":"Buch 24 Seite 22"},1]
["A24.22.54","1892.05.03","Hafner Ing.","Langenthal","CH","V",1,"Okular zu Fernrohr 13/12","?xy",null,{"$f":"HYPERLINK('PDF-Dateien'!I1 & \"Auftraege24_1891_1893.pdf#page=22\",\"Buch 24 Seite 22\")","v":"Buch 24 Seite 22"},1]
["A24.22.60","1892.05.03","Laboratoral de Tisicà, D.Negreano Direktor","Bukarest","RO","V",1,"Messtisch-Aufsatz",{"$f":"HYPERLINK('PDF-Dateien'!I1 & \"1878-PC-Instrumente.pdf#page=4\",\"53#4\")","v":"53#4"},"grosse Sorte, nach neuster Konstruktion",{"$f":"HYPERLINK('PDF-Dateien'!I1 & \"Auftraege24_1891_1893.pdf#page=22\",\"Buch 24 Seite 22\")","v":"Buch 24 Seite 22"}]
["A24.22.66","1892.05.27","Bau-und Strassenwesen, C.Berry","Chur","CH","R",1,"Winkelkegel, konische Winkeltrommel","?xy",null,{"$f":"HYPERLINK('PDF-Dateien'!I1 & \"Auftraege24_1891_1893.pdf#page=22\",\"Buch 24 Seite 22\")","v":"Buch 24 Seite 22"},1]
["A24.22.72","1892.05.27","Ammann Th., Ing.","Tägerwilen, Schloss Herteln","CH","V",1,"Nivellierinstrument",{"$f":"HYPERLINK('PDF-Dateien'!I1 & \"1878-PC-Instrumente.pdf#page=10\",\"150#10\")","v":"150#10"},null,{"$f":"HYPERLINK('PDF-Dateien'!I1 & \"Auftraege24_1891_1893.pdf#page=22\",\"Buch 24 Seite 22\")","v":"Buch 24 Seite 22"}]
["A24.22.78","1892.05.27","Eidg.topogr. Bureau","Bern","CH","R",1,"Messapparatur komplet nach Grobet","?xy",null,{"$f":"HYPERLINK('PDF-Dateien'!I1 & \"Auftraege24_1891_1893.pdf#page=22\",\"Buch 24 Seite 22\")","v":"Buch 24 Seite 22"},1]
["A24.22.84","1892.05.27","Royal-Railway Dep.","Bangkok","TH","V",2,"Boussole mit Fernrohr 10/8",{"$f":"HYPERLINK('PDF-Dateien'!I1 & \"1878-PC-Instrumente.pdf#page=16\",\"263#16\")","v":"263#16"},null,{"$f":"HYPERLINK('PDF-Dateien'!I1 & \"Auftraege24_1891_1893.pdf#page=22\",\"Buch 24 Seite 22\")","v":"Buch 24 Seite 22"}]
["A24.22.90","1892.05.27","Royal-Railway Dep.","Bangkok","TH","V",5,"Boussole nach Schmalkader",{"$f":"HYPERLINK('PDF-Dateien'!I1 & \"1878-PC-Instrumente.pdf#page=17\",\"273#17\")","v":"273#17"},null,{"$f":"HYPERLINK('PDF-Dateien'!I1 & \"Auftraege24_1891_1893.pdf#page=22\",\"Buch 24 Seite 22\")","v":"Buch 24 Seite 22"}]
["A24.23.09","1892.05.28","Lussy E., Ing.","Stans","CH","V",1,"Messtisch",{"$f":"HYPERLINK('PDF-Dateien'!I1 & \"1878-PC-Instrumente.pdf#page=3\",\"40#3\")","v":"40#3"},"* Kiste zu den Metallteilen \n* Tischblatt 60/66 [thomasNu?xy]",{"$f":"HYPERLINK('PDF-Dateien'!I1 & \"Auftraege24_1891_1893.pdf#page=23\",\"Buch 24 Seite 23\")","v":"Buch 24 Seite 23"},1]
["A24.23.18","1892.05.28","Lussy E., Ing.","Stans","CH","V",1,"Messtisch-Aufsatz",{"$f":"HYPERLINK('PDF-Dateien'!I1 & \"1878-PC-Instrumente.pdf#page=4\",\"56#4\")","v":"56#4"},"* Fernrohr 12/11 Ab 1/2 korrigierbare Distanzmessung - in Lagern frei\n* Höhenkreis 16 cm, doppelt ?xy Nonius 1/3° 19=20\n* Lineal 54 cm\n* Stützenlibelle\n* Leiterlibelle auf dem Fernrohr [thomasNu?xy]",{"$f":"HYPERLINK('PDF-Dateien'!I1 & \"Auftraege24_1891_1893.pdf#page=23\",\"Buch 24 Seite 23\")","v":"Buch 24 Seite 23"},1]
["A24.23.27","1892.05.28","Sievers, Graf Georg","Tartu (ehemals Dorpat)","EE","V",1,"Nivellierinstrument",{"$f":"HYPERLINK('PDF-Dateien'!I1 & \"1878-PC-Instrumente.pdf#page=8\",\"118#8\")","v":"118#8"},null,{"$f":"HYPERLINK('PDF-Dateien'!I1 & \"Auftraege24_1891_1893.pdf#page=23\",\"Buch 24 Seite 23\")","v":"Buch 24 Seite 23"}]
["A24.23.36","1892.05.28","Karcher C.F.","Zürich-Oberstrass","CH","V",1,"Nivellierinstrument",{"$f":"HYPERLINK('PDF-Dateien'!I1 & \"1878-PC-Instrumente.pdf#page=9\",\"132#9\")","v":"132#9"},null,{"$f":"HYPERLINK('PDF-Dateien'!I1 & \"Auftraege24_1891_1893.pdf#page=23\",\"Buch 24 Seite 23\")","v":"Buch 24 Seite 23"}]
["A24.23.45","1892.05.28","Dir. der öffent. Bauten des Kt. Bern","Bern","CH","V",1,"Stromgeschwindigkeits-Messer, auch Woltmann'scher Flügel",{"$f":"HYPERLINK('PDF-Dateien'!I1 & \"1878-PC-Instrumente.pdf#page=\",\"293\")","v":"293"},null,{"$f":"HYPERLINK('PDF-Dateien'!I1 & \"Auftraege24_1891_1893.pdf#page=23\",\"Buch 24 Seite 23\")","v":"Buch 24 Seite 23"},null,1]
["A24.23.54","1892.05.30","Topogr.Abt. d. Generalstabes Generalleutnant Stebnitzky","St.Petersburg","RU","V",3,"Nivelliertheodolit","?xy",null,{"$f":"HYPERLINK('PDF-Dateien'!I1 & \"Auftraege24_1891_1893.pdf#page=23\",\"Buch 24 Seite 23\")","v":"Buch 24 Seite 23"},1]
["A24.23.63","1892.05.30","Vögeli J.J. Stadtgeometer","Biel","CH","V",1,"Repetitionstheodolit",{"$f":"HYPERLINK('PDF-Dateien'!I1 & \"1878-PC-Instrumente.pdf#page=12\",\"182#12\")","v":"182#12"},null,{"$f":"HYPERLINK('PDF-Dateien'!I1 & \"Auftraege24_1891_1893.pdf#page=23\",\"Buch 24 Seite 23\")","v":"Buch 24 Seite 23"}]
["A24.23.72","1892.05.30","Stammbach Prof.","Winterthur","CH","V",2,"Repetitionstheodolit",{"$f":"HYPERLINK('PDF-Dateien'!I1 & \"1878-PC-Instrumente.pdf#page=12\",\"182#12\")","v":"182#12"},null,{"$f":"HYPERLINK('PDF-Dateien'!I1 & \"Auftraege24_1891_1893.pdf#page=23\",\"Buch 24 Seite 23\")","v":"Buch 24 Seite 23"}]
["A24.23.81","1892.05.30","Calderoni","Budapest","HU","V",7,"Nivellierinstrument nach Stampfer-Starke","?xy","kleine Sorte, wahrscheinlich Nr.153",{"$f":"HYPERLINK('PDF-Dateien'!I1 & \"Auftraege24_1891_1893.pdf#page=23\",\"Buch 24 Seite 23\")","v":"Buch 24 Seite 23"},1]
["A24.23.90","1892.05.30","Calderoni","Budapest","HU","V",1,"Nivellierinstrumente nach Stampfer-Starke","?xy","grosse Sorte, wahrscheinlich Nr. 154",{"$f":"HYPERLINK('PDF-Dateien'!I1 & \"Auftraege24_1891_1893.pdf#page=23\",\"Buch 24 Seite 23\")","v":"Buch 24 Seite 23"},1]
["A24.24.05","1892.06.15","Banabanoff T.","Sofia","BG","V",1,"Zylinderkreuzschlitten, klein, achteckig","?xy","wahrscheinlich Nr.1 oder 2\nmit Etui und Stock",{"$f":"HYPERLINK('PDF-Dateien'!I1 & \"Auftraege24_1891_1893.pdf#page=24\",\"Buch 24 Seite 24\")","v":"Buch 24 Seite 24"},1]
["A24.24.10","1892.06.15","Banabanoff T.","Sofia","BG","V",1,"Einfacher Winkelmesser oder Astrolabium mit Fernrohr",{"$f":"HYPERLINK('PDF-Dateien'!I1 & \"1878-PC-Instrumente.pdf#page=2\",\"24#2\")","v":"24#2"},"auch Forstwinkelmesser genannt",{"$f":"HYPERLINK('PDF-Dateien'!I1 & \"Auftraege24_1891_1893.pdf#page=24\",\"Buch 24 Seite 24\")","v":"Buch 24 Seite 24"}]
["A24.24.15","1892.06.15","Emch Ing.","Bern","CH","V",1,"Repetitionstheodolit",{"$f":"HYPERLINK('PDF-Dateien'!I1 & \"1878-PC-Instrumente.pdf#page=12\",\"182#12\")","v":"182#12"},null,{"$f":"HYPERLINK('PDF-Dateien'!I1 & \"Auftraege24_1891_1893.pdf#page=24\",\"Buch 24 Seite 24\")","v":"Buch 24 Seite 24"}]
["A24.24.20","1892.06.15","Tobler","Agnano","IT","V",1,"Stahl","?xy","Flachstahl 4x45x80 mm",{"$f":"HYPERLINK('PDF-Dateien'!I1 & \"Auftraege24_1891_1893.pdf#page=24\",\"Buch 24 Seite 24\")","v":"Buch 24 Seite 24"},1]
["A24.24.25","1892.07.28","Lussy E., Ing.","Stans","CH","V",1,"Bautheodolit",{"$f":"HYPERLINK('PDF-Dateien'!I1 & \"1878-PC-Instrumente.pdf#page=11\",\"163#11\")","v":"163#11"},null,{"$f":"HYPERLINK('PDF-Dateien'!I1 & \"Auftraege24_1891_1893.pdf#page=24\",\"Buch 24 Seite 24\")","v":"Buch 24 Seite 24"}]
["A24.24.30","1892.07.28","Lussy E., Ing.","Stans","CH","V",1,"Niveau d'Egault",{"$f":"HYPERLINK('PDF-Dateien'!I1 & \"1878-PC-Instrumente.pdf#page=9\",\"142#9\")","v":"142#9"},null,{"$f":"HYPERLINK('PDF-Dateien'!I1 & \"Auftraege24_1891_1893.pdf#page=24\",\"Buch 24 Seite 24\")","v":"Buch 24 Seite 24"}]
["A24.24.35","1892.07.28","Müller Alfred","Gotthard Hospiz","CH","V",1,"Stahl","?xy","Stahl-Dreieck",{"$f":"HYPERLINK('PDF-Dateien'!I1 & \"Auftraege24_1891_1893.pdf#page=24\",\"Buch 24 Seite 24\")","v":"Buch 24 Seite 24"},1]
["A24.24.40","1892.07.28","Forster, J.Peter","Winterthur","CH","V",1,"Koordinatograph",{"$f":"HYPERLINK('PDF-Dateien'!I1 & \"1878-PC-Instrumente.pdf#page=17\",\"281#17\")","v":"281#17"},null,{"$f":"HYPERLINK('PDF-Dateien'!I1 & \"Auftraege24_1891_1893.pdf#page=24\",\"Buch 24 Seite 24\")","v":"Buch 24 Seite 24"}]
["A24.24.45","1892.08.09","Eidg.topogr. Bureau","Bern","CH","V",1,"Präzisionsmire","?xy","nach Zeichnung",{"$f":"HYPERLINK('PDF-Dateien'!I1 & \"Auftraege24_1891_1893.pdf#page=24\",\"Buch 24 Seite 24\")","v":"Buch 24 Seite 24"},1]
["A24.24.50","1892.08.09","Eidg.topogr. Bureau","Bern","CH","V",1,"Normalmeter","?xy","nach Zeichnung",{"$f":"HYPERLINK('PDF-Dateien'!I1 & \"Auftraege24_1891_1893.pdf#page=24\",\"Buch 24 Seite 24\")","v":"Buch 24 Seite 24"},1]
["A24.24.55","1892.08.09","Williberger, J. und Weber","Chur","CH","V",1,"Rechenschieber","?xy","wahrscheinlich Nr. 61",{"$f":"HYPERLINK('PDF-Dateien'!I1 & \"Auftraege24_1891_1893.pdf#page=24\",\"Buch 24 Seite 24\")","v":"Buch 24 Seite 24"},1]
["A24.24.60","1892.08.09","Bernasconi Ing. Baumeister","Chiasso","CH","V",1,"Niveau Lenoir",{"$f":"HYPERLINK('PDF-Dateien'!I1 & \"1878-PC-Instrumente.pdf#page=9\",\"134#9\")","v":"134#9"},null,{"$f":"HYPERLINK('PDF-Dateien'!I1 & \"Auftraege24_1891_1893.pdf#page=24\",\"Buch 24 Seite 24\")","v":"Buch 24 Seite 24"}]
["A24.24.65","1892.08.09","Bey, Osman Oberstleutnant","Schöneck","DE","V",1,"Boussole nach Schmalkader",{"$f":"HYPERLINK('PDF-Dateien'!I1 & \"1878-PC-Instrumente.pdf#page=17\",\"274#17\")","v":"274#17"},null,{"$f":"HYPERLINK('PDF-Dateien'!I1 & \"Auftraege24_1891_1893.pdf#page=24\",\"Buch 24 Seite 24\")","v":"Buch 24 Seite 24"}]
["A24.24.70","1892.08.09","Brax, F. Geometer Top.","Constantine","DZ","V",1,"Messtisch-Aufsatz",{"$f":"HYPERLINK('PDF-Dateien'!I1 & \"1878-PC-Instrumente.pdf#page=4\",\"47#4\")","v":"47#4"},"Stadt in Algerien",{"$f":"HYPERLINK('PDF-Dateien'!I1 & \"Auftraege24_1891_1893.pdf#page=24\",\"Buch 24 Seite 24\")","v":"Buch 24 Seite 24"}]
["A24.24.75","1892.08.27","Amore, Salvatore","Palermo","IT","V",1,"Kreuzscheibe",{"$f":"HYPERLINK('PDF-Dateien'!I1 & \"1878-PC-Instrumente.pdf#page=1\",\"4#1\")","v":"4#1"},null,{"$f":"HYPERLINK('PDF-Dateien'!I1 & \"Auftraege24_1891_1893.pdf#page=24\",\"Buch 24 Seite 24\")","v":"Buch 24 Seite 24"}]
["A24.24.80","1892.08.27","Langenthal-Huttwil Bahnen, Morgenthaler, N. Ing.","Langenthal","CH","V",1,"Bautheodolit",{"$f":"HYPERLINK('PDF-Dateien'!I1 & \"1878-PC-Instrumente.pdf#page=11\",\"163#11\")","v":"163#11"},null,{"$f":"HYPERLINK('PDF-Dateien'!I1 & \"Auftraege24_1891_1893.pdf#page=24\",\"Buch 24 Seite 24\")","v":"Buch 24 Seite 24"}]
["A24.25.04","1892.08.27","Heider & Schoch","Erdöd","HU","V",1,"Winkelspiegel",{"$f":"HYPERLINK('PDF-Dateien'!I1 & \"1878-PC-Instrumente.pdf#page=2\",\"29#2\")","v":"29#2"},null,{"$f":"HYPERLINK('PDF-Dateien'!I1 & \"Auftraege24_1891_1893.pdf#page=25\",\"Buch 24 Seite 25\")","v":"Buch 24 Seite 25"}]
["A24.25.08","1892.08.27","Heider & Schoch","Erdöd","HU","V",2,"Kreuzscheibe",{"$f":"HYPERLINK('PDF-Dateien'!I1 & \"1878-PC-Instrumente.pdf#page=1\",\"2#1\")","v":"2#1"},"kleine Sorte",{"$f":"HYPERLINK('PDF-Dateien'!I1 & \"Auftraege24_1891_1893.pdf#page=25\",\"Buch 24 Seite 25\")","v":"Buch 24 Seite 25"}]
["A24.25.12","1892.08.27","Heider & Schoch","Erdöd","HU","V",2,"Kreuzscheibe",{"$f":"HYPERLINK('PDF-Dateien'!I1 & \"1878-PC-Instrumente.pdf#page=1\",\"4#1\")","v":"4#1"},"grosse Sorte",{"$f":"HYPERLINK('PDF-Dateien'!I1 & \"Auftraege24_1891_1893.pdf#page=25\",\"Buch 24 Seite 25\")","v":"Buch 24 Seite 25"}]
["A24.25.16","1892.08.27","Heider & Schoch","Erdöd","HU","V",1,"Winkeltrommel",{"$f":"HYPERLINK('PDF-Dateien'!I1 & \"1878-PC-Instrumente.pdf#page=1\",\"9#1\")","v":"9#1"},"mit Dosenlibelle",{"$f":"HYPERLINK('PDF-Dateien'!I1 & \"Auftraege24_1891_1893.pdf#page=25\",\"Buch 24 Seite 25\")","v":"Buch 24 Seite 25"}]
["A24.25.20","1892.08.27","Heider & Schoch","Erdöd","HU","V",1,"Messstahlband",{"$f":"HYPERLINK('PDF-Dateien'!I1 & \"1878-PC-Instrumente.pdf#page=6\",\"82#6\")","v":"82#6"},"20 m",{"$f":"HYPERLINK('PDF-Dateien'!I1 & \"Auftraege24_1891_1893.pdf#page=25\",\"Buch 24 Seite 25\")","v":"Buch 24 Seite 25"}]
["A24.25.24","1892.08.27","Heider & Schoch","Erdöd","HU","V",2,"Rollenbandmass",{"$f":"HYPERLINK('PDF-Dateien'!I1 & \"1878-PC-Instrumente.pdf#page=7\",\"84#7\")","v":"84#7"},"10 m, inkl. 2 Reservebänder",{"$f":"HYPERLINK('PDF-Dateien'!I1 & \"Auftraege24_1891_1893.pdf#page=25\",\"Buch 24 Seite 25\")","v":"Buch 24 Seite 25"}]
["A24.25.28","1892.08.27","Heider & Schoch","Erdöd","HU","V",2,"Rollenbandmass",{"$f":"HYPERLINK('PDF-Dateien'!I1 & \"1878-PC-Instrumente.pdf#page=7\",\"84#7\")","v":"84#7"},"20m, inkl. 2 Reservebänder",{"$f":"HYPERLINK('PDF-Dateien'!I1 & \"Auftraege24_1891_1893.pdf#page=25\",\"Buch 24 Seite 25\")","v":"Buch 24 Seite 25"}]
["A24.25.32","1892.08.27","Mollenkopf","Stuttgart","DE","V",2,"Libellenprüfapparat","?xy","nach Brief",{"$f":"HYPERLINK('PDF-Dateien'!I1 & \"Auftraege24_1891_1893.pdf#page=25\",\"Buch 24 Seite 25\")","v":"Buch 24 Seite 25"},1]
["A24.25.36","1892.08.27","Gautschy, E.","Lausanne","CH","V",1,"Niveau d'Egault",{"$f":"HYPERLINK('PDF-Dateien'!I1 & \"1878-PC-Instrumente.pdf#page=9\",\"139#9\")","v":"139#9"},null,{"$f":"HYPERLINK('PDF-Dateien'!I1 & \"Auftraege24_1891_1893.pdf#page=25\",\"Buch 24 Seite 25\")","v":"Buch 24 Seite 25"}]
["A24.25.40","1892.08.27","Estève, Alfred","Constantine","DZ","V",1,"Messtisch-Aufsatz",{"$f":"HYPERLINK('PDF-Dateien'!I1 & \"1878-PC-Instrumente.pdf#page=4\",\"47#4\")","v":"47#4"},null,{"$f":"HYPERLINK('PDF-Dateien'!I1 & \"Auftraege24_1891_1893.pdf#page=25\",\"Buch 24 Seite 25\")","v":"Buch 24 Seite 25"}]
["A24.25.44","1892.08.27","Strassen- & Bauinspektion","Chur","CH","V",1,"Horizontalkreis",{"$f":"HYPERLINK('PDF-Dateien'!I1 & \"1878-PC-Instrumente.pdf#page=5\",\"64#5\")","v":"64#5"},null,{"$f":"HYPERLINK('PDF-Dateien'!I1 & \"Auftraege24_1891_1893.pdf#page=25\",\"Buch 24 Seite 25\")","v":"Buch 24 Seite 25"}]
["A24.25.48","1892.08.27","Lindenmeyer","Vevey","CH","V",1,"Nivellierinstrument, Pendel-",{"$f":"HYPERLINK('PDF-Dateien'!I1 & \"1878-PC-Instrumente.pdf#page=7\",\"103#7\")","v":"103#7"},null,{"$f":"HYPERLINK('PDF-Dateien'!I1 & \"Auftraege24_1891_1893.pdf#page=25\",\"Buch 24 Seite 25\")","v":"Buch 24 Seite 25"}]
["A24.25.52","1892.09.17","Sauer, E. Architekt","Liestal","CH","V",1,"Nivellierinstrument",{"$f":"HYPERLINK('PDF-Dateien'!I1 & \"1878-PC-Instrumente.pdf#page=10\",\"150#10\")","v":"150#10"},null,{"$f":"HYPERLINK('PDF-Dateien'!I1 & \"Auftraege24_1891_1893.pdf#page=25\",\"Buch 24 Seite 25\")","v":"Buch 24 Seite 25"}]
["A24.25.56","1892.09.17","Ludolph, Wilhelm, Nautisches Institut","Bremerhaven","DE","V",1,"Boussole nach Schmalkader",{"$f":"HYPERLINK('PDF-Dateien'!I1 & \"1878-PC-Instrumente.pdf#page=17\",\"273#17\")","v":"273#17"},null,{"$f":"HYPERLINK('PDF-Dateien'!I1 & \"Auftraege24_1891_1893.pdf#page=25\",\"Buch 24 Seite 25\")","v":"Buch 24 Seite 25"}]
["A24.25.60","1892.09.17","Petetin, Leon, Geometer","En Gare Champagn. Jura France","FR","V",1,"Boussole",{"$f":"HYPERLINK('PDF-Dateien'!I1 & \"1878-PC-Instrumente.pdf#page=16\",\"263#16\")","v":"263#16"},null,{"$f":"HYPERLINK('PDF-Dateien'!I1 & \"Auftraege24_1891_1893.pdf#page=25\",\"Buch 24 Seite 25\")","v":"Buch 24 Seite 25"}]
["A24.25.64","1892.09.17","Griffey, G. Entrepreneur","Baulmes","CH","V",1,"Niveau d'Egault",{"$f":"HYPERLINK('PDF-Dateien'!I1 & \"1878-PC-Instrumente.pdf#page=9\",\"141#9\")","v":"141#9"},null,{"$f":"HYPERLINK('PDF-Dateien'!I1 & \"Auftraege24_1891_1893.pdf#page=25\",\"Buch 24 Seite 25\")","v":"Buch 24 Seite 25"}]
["A24.25.68","1892.09.17","Bellorini, E.","Renens","CH","V",1,"Niveau d'Egault",{"$f":"HYPERLINK('PDF-Dateien'!I1 & \"1878-PC-Instrumente.pdf#page=9\",\"138#9\")","v":"138#9"},null,{"$f":"HYPERLINK('PDF-Dateien'!I1 & \"Auftraege24_1891_1893.pdf#page=25\",\"Buch 24 Seite 25\")","v":"Buch 24 Seite 25"}]
["A24.25.72","1892.09.17","Bellorini, E.","Renens","CH","V",1,"Nivellierlatte",{"$f":"HYPERLINK('PDF-Dateien'!I1 & \"1878-PC-Instrumente.pdf#page=7\",\"91#7\")","v":"91#7"},"4 m, mit Zielscheibe",{"$f":"HYPERLINK('PDF-Dateien'!I1 & \"Auftraege24_1891_1893.pdf#page=25\",\"Buch 24 Seite 25\")","v":"Buch 24 Seite 25"}]
["A24.25.76","1892.09.17","Favre, L.A.","L'Isle (VD)","CH","V",1,"Lineallibelle","?xy","korrigiert",{"$f":"HYPERLINK('PDF-Dateien'!I1 & \"Auftraege24_1891_1893.pdf#page=25\",\"Buch 24 Seite 25\")","v":"Buch 24 Seite 25"},1]
["A24.25.80","1892.09.17","Favre, L.A.","L'Isle (VD)","CH","V",1,"Lineallibelle","?xy","nicht korrigiert",{"$f":"HYPERLINK('PDF-Dateien'!I1 & \"Auftraege24_1891_1893.pdf#page=25\",\"Buch 24 Seite 25\")","v":"Buch 24 Seite 25"},1]
["A24.25.84","1892.09.17","Spano, G.","Neapel","IT","V",4,"Kreis","?xy",null,{"$f":"HYPERLINK('PDF-Dateien'!I1 & \"Auftraege24_1891_1893.pdf#page=25\",\"Buch 24 Seite 25\")","v":"Buch 24 Seite 25"},1]
["A24.26.04","1892.10.07","Ausstellung ","Chicago","US","V",1,"Repetitions theodolit 6\" 360° ",{"$f":"HYPERLINK('PDF-Dateien'!I1 & \"1878-PC-Instrumente.pdf#page=13\",\"189#13\")","v":"189#13"},"*Fernrohr 13/10 Ab 2/5, auf der Okularseite durchschlagbar  ?xy abbalanciert.                                        *Horizontalkreis 6\" 1/6° 59=60 = ?xy\n*Vertikalkreis 5\" 2 flieg. Nonien 1/6° 59=60=10\"\n*Axenlibelle, Stützenlibelle\n*Kiste und Stativ     Fr. 650.-\n*Limbusdecke mit Schutzgläsern   Fr. 22.-\n*Reiterlibelle    Fr. 30.-\n*korrigierbarer Distanzesser   Fr. 15.-",{"$f":"HYPERLINK('PDF-Dateien'!I1 & \"Auftraege24_1891_1893.pdf#page=26\",\"Buch 24 Seite 26\")","v":"Buch 24 Seite 26"},1]
["A24.26.08","1892.10.07","Ausstellung ","Chicago","US","V",1,"Tachymeter 400°  Fr. 1000.-",{"$f":"HYPERLINK('PDF-Dateien'!I1 & \"1878-PC-Instrumente.pdf#page=13\",\"208#13\")","v":"208#13"},"*annallaktisches ?xy Rohr 15/10 Ab 1/4\n*Parrolinse Focus 121 m/m, Diam 16 m/m\n*Horiz. Kreis 20 cm 1/4° 2 Nonien 49=50=50\"\n*Vertic. Kreis 17 cm 1/4  1 Nonius 49=50\n*Reversionslibelle\n*Kiste und Stativ",{"$f":"HYPERLINK('PDF-Dateien'!I1 & \"Auftraege24_1891_1893.pdf#page=26\",\"Buch 24 Seite 26\")","v":"Buch 24 Seite 26"},1]
["A24.26.12","1892.10.07","Ausstellung ","Chicago","US","V",1,"Bautheodolit 360°",{"$f":"HYPERLINK('PDF-Dateien'!I1 & \"1878-PC-Instrumente.pdf#page=11\",\"165#11\")","v":"165#11"},"*Fernrohr 16/13 Ab 2/5 in Axenlagern\n*Horiz. Kreis 15 cm 1 Nonius 1/3° 39=40=30\"\n*Höhenbogen 10 cm Rad. 1 \"   dito\n*Kiste und Stativ  Fr. 470.-\n*feste Distanzfäden 1:100  Fr 15.-\n",{"$f":"HYPERLINK('PDF-Dateien'!I1 & \"Auftraege24_1891_1893.pdf#page=26\",\"Buch 24 Seite 26\")","v":"Buch 24 Seite 26"}]
["A24.26.16","1892.10.07","Ausstellung ","Chicago","US","V",1,"Transit genau wie die Moskauer Fr 590 ?  netto",null,null,{"$f":"HYPERLINK('PDF-Dateien'!I1 & \"Auftraege24_1891_1893.pdf#page=26\",\"Buch 24 Seite 26\")","v":"Buch 24 Seite 26"}]
["A24.26.20","1892.10.07","Ausstellung ","Chicago","US","V",1,"Tachygraphometer Starke, in Paris        Fr. 1172.-",null,"schon ausgestellt",{"$f":"HYPERLINK('PDF-Dateien'!I1 & \"Auftraege24_1891_1893.pdf#page=26\",\"Buch 24 Seite 26\")","v":"Buch 24 Seite 26"}]
["A24.26.24","1892.10.07","Ausstellung ","Chicago","US","V",1,"Präzisions Nivellierinstrument",{"$f":"HYPERLINK('PDF-Dateien'!I1 & \"1878-PC-Instrumente.pdf#page=9\",\"148#9\")","v":"148#9"},"*Fernrohr 18/4 Ab 1/3 mit Glasdistanzmesser 1:10\n*Reiterlibelle in Mahagonigehäuse\n*Zentrischer Libellenspiegel\n*Dreiangelstativ mit Tuchhosen\n*Kammerlibelle 3\"-4\" Sensib.\n*Kiste Fr. 525.-",{"$f":"HYPERLINK('PDF-Dateien'!I1 & \"Auftraege24_1891_1893.pdf#page=26\",\"Buch 24 Seite 26\")","v":"Buch 24 Seite 26"}]
["A24.26.28","1892.10.07","Ausstellung ","Chicago","US","V",1,"kl Aufsatz neuster Construction\n",null,"*Fernrohr 11/9 Ab 2/5\n*Vertikalkreis 14 cm  1/3° 19=20, Peripherieteilung\n*Nonius mit Lupe und Blende Limbusdecken\n*Kreis quadrantenweise bezeichnet\n*Kollimationslibelle am senkrechten Noniusarm\n*Libelle auf dem Stützenfuss Fr. 230.-\n*Lineal 50 cm mit ?xy lineal Fr. 20.-\n*Korrigierbarer Distanzmesser  Fr. 15.-\n*Reiterlibelle  Fr. 25.-\n*Declin. Metall  Fr. 28.-\n*Lineallibelle 28 cm Fr. 12.-\n*topographischer Rechenschieber Wild  Fr. 30.-\n*Zuschlag für Peripherieteilung und Limbusdecke Fr. 35.-\n\n",{"$f":"HYPERLINK('PDF-Dateien'!I1 & \"Auftraege24_1891_1893.pdf#page=26\",\"Buch 24 Seite 26\")","v":"Buch 24 Seite 26"},1]
["A24.26.32","1892.10.07","Ausstellung ","Chicago","US","V",1,"Messtisch Fr. 160.-",{"$f":"HYPERLINK('PDF-Dateien'!I1 & \"1878-PC-Instrumente.pdf#page=3\",\"40#3\")","v":"40#3"},null,{"$f":"HYPERLINK('PDF-Dateien'!I1 & \"Auftraege24_1891_1893.pdf#page=26\",\"Buch 24 Seite 26\")","v":"Buch 24 Seite 26"}]
["A24.26.36","1892.10.07","Ausstellung ","Chicago","US","V",1,"Nivellierinstrument Fr. 230",{"$f":"HYPERLINK('PDF-Dateien'!I1 & \"1878-PC-Instrumente.pdf#page=10\",\"149#10\")","v":"149#10"},null,{"$f":"HYPERLINK('PDF-Dateien'!I1 & \"Auftraege24_1891_1893.pdf#page=26\",\"Buch 24 Seite 26\")","v":"Buch 24 Seite 26"}]
["A24.26.40","1892.10.07","Ausstellung ","Chicago","US","V",1,"Nivellierinstrument Fr. 190.-",{"$f":"HYPERLINK('PDF-Dateien'!I1 & \"1878-PC-Instrumente.pdf#page=9\",\"138#9\")","v":"138#9"},null,{"$f":"HYPERLINK('PDF-Dateien'!I1 & \"Auftraege24_1891_1893.pdf#page=26\",\"Buch 24 Seite 26\")","v":"Buch 24 Seite 26"}]
["A24.26.44","1892.10.07","Gaz et Eaux, Directeur Mathys","La Chaux de Fonds","CH","V",1,"Nivellierinstrument  Elev.",{"$f":"HYPERLINK('PDF-Dateien'!I1 & \"1878-PC-Instrumente.pdf#page=10\",\"150#10\")","v":"150#10"},"*Fernrohr 13/12 Ab 1/2 'xy + Faden\n*Elev. Schraube ohne Trommel\n*Statif und Kiste\n* Dosenlibelle am Balken fest Fr. 270.-",{"$f":"HYPERLINK('PDF-Dateien'!I1 & \"Auftraege24_1891_1893.pdf#page=26\",\"Buch 24 Seite 26\")","v":"Buch 24 Seite 26"}]
["A24.26.48","1892.10.17","Lehmann Ingenieur","Laufenburg","CH","V",null,null,null,"*Zu seinem Reduktionstheodolit 12/9 Ab 2/5\nein spezieller Glasdistanzenmesser mit stark gezogenen Linien.\n*mit den 4 Korrekturschrauben und Unterlagsscheibchen",{"$f":"HYPERLINK('PDF-Dateien'!I1 & \"Auftraege24_1891_1893.pdf#page=26\",\"Buch 24 Seite 26\")","v":"Buch 24 Seite 26"}]
["A24.26.52","1892.10.17","G. Zürcher, Kreisförster","Sumiswald","CH","V",1,"Dosenlibelle",{"$f":"HYPERLINK('PDF-Dateien'!I1 & \"1878-PC-Instrumente.pdf#page=7\",\"93#7\")","v":"93#7"},"*Winkelplatte ohne Korrektion\n*Plättchen für in die Latte\n*2 Handschrauben",{"$f":"HYPERLINK('PDF-Dateien'!I1 & \"Auftraege24_1891_1893.pdf#page=26\",\"Buch 24 Seite 26\")","v":"Buch 24 Seite 26"}]
["A24.26.56","1892.10.17","V. Broggi, ","Göschenen","CH","V",1,"Nivellierinstrument",{"$f":"HYPERLINK('PDF-Dateien'!I1 & \"1878-PC-Instrumente.pdf#page=8\",\"120#8\")","v":"120#8"},"*Fernrohr 10/10 Ab1/2, einf + faden, in Lagern frei\n*Reiterlibelle\n*Sechseckzapfenstativ     Fr. 170.-\n",{"$f":"HYPERLINK('PDF-Dateien'!I1 & \"Auftraege24_1891_1893.pdf#page=26\",\"Buch 24 Seite 26\")","v":"Buch 24 Seite 26"}]
["A24.26.60","1892.10.17","Tiefbauamt Mannheim, A. Schuster","Mannheim","DE","V","1\n1","Nivellierinstrument\nZusammenlegbare Latte 3m Fr. 35.-\n",{"$f":"HYPERLINK('PDF-Dateien'!I1 & \"1878-PC-Instrumente.pdf#page=8\",\"124#8\")","v":"124#8"},"*Fernrohr 13/12 Ab 1/2, einf + faden, in Lagern fest\n*Korrigierbare Libelle über In Lager fest ohne Hotizontalklemme und Mikrometerschraube\n*Dreifuss mit Nivellierschrauben\nfranzösischer Anzug und französisches Stativ Fr. 205.-",{"$f":"HYPERLINK('PDF-Dateien'!I1 & \"Auftraege24_1891_1893.pdf#page=26\",\"Buch 24 Seite 26\")","v":"Buch 24 Seite 26"}]
["A24.26.64","1892.11.10","W.E. Hieronymi, Architekt","Ausseersihl","CH","V",1,"Bautheodolit 360°",{"$f":"HYPERLINK('PDF-Dateien'!I1 & \"1878-PC-Instrumente.pdf#page=11\",\"163#11\")","v":"163#11"},"*Fernrohr 13/12 An 1/2 feste Distanzf.\n*Teilungen 1/3°  19=20\nHöhenlupe    Fr. 406.-  ist bezahlt",{"$f":"HYPERLINK('PDF-Dateien'!I1 & \"Auftraege24_1891_1893.pdf#page=26\",\"Buch 24 Seite 26\")","v":"Buch 24 Seite 26"}]
["A24.26.68","1892.11.10","Lavanchy et Neuhaus Architekt","Montreux","CH","V",1,"Niveau Lenoir",{"$f":"HYPERLINK('PDF-Dateien'!I1 & \"1878-PC-Instrumente.pdf#page=9\",\"135#9\")","v":"135#9"},"*Kreis 17 1/2 cm, Fernrohr 10/10 Ab 1/2\n*Schieber   Fr. 160.-",{"$f":"HYPERLINK('PDF-Dateien'!I1 & \"Auftraege24_1891_1893.pdf#page=26\",\"Buch 24 Seite 26\")","v":"Buch 24 Seite 26"}]
["A24.26.72","1892.11.10","Josef Regel","Travnik","BIH","V",1,"Tischblatt  55/60  Fr. 14.-",null,null,{"$f":"HYPERLINK('PDF-Dateien'!I1 & \"Auftraege24_1891_1893.pdf#page=26\",\"Buch 24 Seite 26\")","v":"Buch 24 Seite 26"}]
["A24.26.76","1892.11.10","G. Coradi","Unterstrass","CH","V",1,"Repetitionstheodolit 7\" 16/11 Ab 1/3",{"$f":"HYPERLINK('PDF-Dateien'!I1 & \"1878-PC-Instrumente.pdf#page=13\",\"190#13\")","v":"190#13"},"*Fernrohr 16/18 Ab 1/3, einf und feinste Faden\n*Horizontalkreis 5\", 2 fl. Nonien\n*Teilungen 1/5° 400°  99=100=20\"\nBezifferungen entgegengesetzt dem Uhrzeiger beim Horizontalkreis. Beim Höhenkreis ist Null unten, wenn das Fernrohr horizontal steht. Nonius I beim Okular zeigt dann auf 300, Nonius II auf 100 also sitzt der Höhenkreis links. Fernrohr auf Okularseite durchschlagbar, abbalanciert\n*Axenlibelle, Stützenlibelle\n*Stativ und Kiste  Fr. 840.-\n*Feste Libelle korrigiert auf der Vorderhälfte des Fernrohrs  Fr. 20.-\n*Limbusdecke über dem Horizontalkreis  Fr. 15.-\n*Linbusdecke über Vertikalkreis  Fr. 25.-\nGlas =?xy  Fr. 6.-\nSeetüchtig verpackt, Deckel jedoch nicht zugelötet franco Zürich Fr. 25.- Bis Ende Januar 93",{"$f":"HYPERLINK('PDF-Dateien'!I1 & \"Auftraege24_1891_1893.pdf#page=26\",\"Buch 24 Seite 26\")","v":"Buch 24 Seite 26"},1]
["A24.27.05","1892.12.20","Forst Inspektorat des Kanton Graubündens - Ed. Tscharner",null,"CH","V",1,"Winkelspiegel Fr. 36.-",{"$f":"HYPERLINK('PDF-Dateien'!I1 & \"1878-PC-Instrumente.pdf#page=2\",\"31#2\")","v":"31#2"},null,{"$f":"HYPERLINK('PDF-Dateien'!I1 & \"Auftraege24_1891_1893.pdf#page=27\",\"Buch 24 Seite 27\")","v":"Buch 24 Seite 27"}]
["A24.27.10","1892.12.20","Forst Inspektorat des Kanton Graubündens - Ed. Tscharner",null,"CH","V",1,"Prismenkreuz Fr. 45.-",{"$f":"HYPERLINK('PDF-Dateien'!I1 & \"1878-PC-Instrumente.pdf#page=2\",\"34#2\")","v":"34#2"},null,{"$f":"HYPERLINK('PDF-Dateien'!I1 & \"Auftraege24_1891_1893.pdf#page=27\",\"Buch 24 Seite 27\")","v":"Buch 24 Seite 27"}]
["A24.27.15","1892.12.20","Forst Inspektorat des Kanton Graubündens - Ed. Tscharner",null,"CH","V",6,"Papierklammern  à 3.-  Fr. 18",null,null,{"$f":"HYPERLINK('PDF-Dateien'!I1 & \"Auftraege24_1891_1893.pdf#page=27\",\"Buch 24 Seite 27\")","v":"Buch 24 Seite 27"}]
["A24.27.20","1892.12.20","Dr. Schwabe","Berlin","DE","V",1,"Bautheodolit",{"$f":"HYPERLINK('PDF-Dateien'!I1 & \"1878-PC-Instrumente.pdf#page=11\",\"163#11\")","v":"163#11"},"*Fernrohr 13/12 Ab 1/2 feste Distsanzf. 1:100\n*Teilungen 1/3° 19=20\n*Auf der Aöhidade 2 Libellen\n*Reiterlibellen\n*Höhenlupe\n*Nur Stationsteller und Fussschrauben Fr. 400.-",{"$f":"HYPERLINK('PDF-Dateien'!I1 & \"Auftraege24_1891_1893.pdf#page=27\",\"Buch 24 Seite 27\")","v":"Buch 24 Seite 27"}]
["A24.27.25","1892.12.26","Tiefbauamt IV, Ing. A. Stadelmann","Zürich","CH","V",1,"Bautheodolit",{"$f":"HYPERLINK('PDF-Dateien'!I1 & \"1878-PC-Instrumente.pdf#page=11\",\"164#11\")","v":"164#11"},"*Fernrohr 13/12 Ab 1/2 in Achsenlager, einf+?xy\n*Horizontalkreis und Vertikalbogen 1/3° 19=20\n*Höhenlupe  Fr. 450.-\n",{"$f":"HYPERLINK('PDF-Dateien'!I1 & \"Auftraege24_1891_1893.pdf#page=27\",\"Buch 24 Seite 27\")","v":"Buch 24 Seite 27"},1]
["A24.27.30","1892.12.26","Tiefbauamt IV, Ing. A. Stadelmann","Zürich","CH","V",1,"Nivellierinstrument",{"$f":"HYPERLINK('PDF-Dateien'!I1 & \"1878-PC-Instrumente.pdf#page=9\",\"147#9\")","v":"147#9"},"*Fernrohr 14/13 Ab 1/2 in Lagern frei, einf + ?xy\n*Elev.schraube ohne Trommel\n*Dreiangelstück mit Kugelpfannen\n*Reiterlibelle Fr. 360.-\n",{"$f":"HYPERLINK('PDF-Dateien'!I1 & \"Auftraege24_1891_1893.pdf#page=27\",\"Buch 24 Seite 27\")","v":"Buch 24 Seite 27"},1]
["A24.27.35","1892.12.26","Tiefbauamt IV, Ing. A. Stadelmann","Zürich","CH","V",1,"konische Winkeltrommel",{"$f":"HYPERLINK('PDF-Dateien'!I1 & \"1878-PC-Instrumente.pdf#page=1\",\"6#1\")","v":"6#1"},"*Zapfenwerk\n*Teilung 1/2° 14=15 =2'\n*Kiste und Stock  Fr. 55.-",{"$f":"HYPERLINK('PDF-Dateien'!I1 & \"Auftraege24_1891_1893.pdf#page=27\",\"Buch 24 Seite 27\")","v":"Buch 24 Seite 27"}]
["A24.27.40","1892.12.26","Tiefbauamt IV, Ing. A. Stadelmann","Zürich","CH","V",1,"Prisma 90° Fr. 15.-",{"$f":"HYPERLINK('PDF-Dateien'!I1 & \"1878-PC-Instrumente.pdf#page=2\",\"32#2\")","v":"32#2"},null,{"$f":"HYPERLINK('PDF-Dateien'!I1 & \"Auftraege24_1891_1893.pdf#page=27\",\"Buch 24 Seite 27\")","v":"Buch 24 Seite 27"}]
["A24.27.45","1892.12.26","Tiefbauamt IV, Ing. A. Stadelmann","Zürich","CH","V",1,"Planimeter Fr. 60.-","284b",null,{"$f":"HYPERLINK('PDF-Dateien'!I1 & \"Auftraege24_1891_1893.pdf#page=27\",\"Buch 24 Seite 27\")","v":"Buch 24 Seite 27"},null,1]
["A24.27.50","1892.12.26","Tiefbauamt IV, Ing. A. Stadelmann","Zürich","CH","V",1,"*Stugzbeschlag ?xy, offen, Meretr. ?xy , \nEtui dazu Fr. 19.-",{"$f":"HYPERLINK('PDF-Dateien'!I1 & \"1878-PC-Instrumente.pdf#page=6\",\"74#6\")","v":"74#6"},null,{"$f":"HYPERLINK('PDF-Dateien'!I1 & \"Auftraege24_1891_1893.pdf#page=27\",\"Buch 24 Seite 27\")","v":"Buch 24 Seite 27"},1]
["A24.27.55","1892.12.31","S. Buryan Ing.(bei Oberst Konrad Bleuler)","Zürich","CH","V",1,"Repetitionstheodolit 6\" 400°",null,"*Fernrohr 13/10 orthog. Okul ?xy Ab1/3, korrigierbare Distanz Leitstab unten am Okularrohr\n*Horizontalkreis  6\"  2 Nonien 1/5° 400° 99=100\n*Vertikalkreis 5\" 2 fliegende Nonien  1/5° 400° 99=100\n*Axenlibelle, Stützenlibelle, Reiterlibelle\n*Limbusdecke mit Schutzgläsern\n\"Prismenokular mit Sonnenglas\n*Metalltellerstativ mit gespaltenen Füssen\n*Instrument schwarz gebeizt Fr. 760.-",{"$f":"HYPERLINK('PDF-Dateien'!I1 & \"Auftraege24_1891_1893.pdf#page=27\",\"Buch 24 Seite 27\")","v":"Buch 24 Seite 27"},1]
["A24.27.60","1892.12.31","S. Buryan Ing.(bei Oberst Konrad Bleuler)","Zürich","CH","V",1,"Messtisch mit Metalltellerstastiv Fr. 175.-",{"$f":"HYPERLINK('PDF-Dateien'!I1 & \"1878-PC-Instrumente.pdf#page=3\",\"40#3\")","v":"40#3"},"*Tischblatt 60/54 mit Ring Fr. 19.-\n*Gegenringzum Verschieben des Tischblattes Fr. 10.-\n*Kiste für Metallteile Fr. 15.-",{"$f":"HYPERLINK('PDF-Dateien'!I1 & \"Auftraege24_1891_1893.pdf#page=27\",\"Buch 24 Seite 27\")","v":"Buch 24 Seite 27"}]
["A24.27.65","1892.12.31","S. Buryan Ing.(bei Oberst Konrad Bleuler)","Zürich","CH","V",1,"grosser Aufsatz neuster Konstruktion",null,"*Fernrohr 13/12 Ab 1/2 korrigierbare Distanzmessung\n*Leitstab unten am Okularrohr\n*Prismenokular mit Sonnenglas\n*Kreis 12 cm Diameter, Peripherieteilung 400° 1/4° 24=25\nNonienstelllung unter 45° zwischen Horizont und Zenith, gegen das Okular\nBezifferung quadrantenweise\n*Kreis mit Schutzdeckel, Nonius mit Lupe\n*Kollimationslibelle, Reiterlibelle\n*Libelle auf dem Stützenfuss\nKorrektion für die vertikale Aufsteigung\n*Lineal 60 cm mit Parallellineal\n*Kiste mit üblichem Zubehör  Fr. 381.-\n*Declin xy? Metall  Fr. 28.-\n*Lineallibelle 21 cm Fr. 16.-\n*Lotgabel  Fr. 4.80\n*Senkel Fr. 3.-\n* 4 Papierklammern  Fr. 12.-\n* 1 Rechenschieber Wild 400°  Frt. 30.-\n* Anleitung dazu  Fr. 1.-\n* 1 m30 cm/argt  200  1000 und 500 250 Fr.16.-\n*1 Haaz mit Hülse 5\" argt  Fr. 8.50\n*Aufsatz zum aufsetzen auf den Messtisch. Instrument schwarz gebeizt\nBis Ende 93",{"$f":"HYPERLINK('PDF-Dateien'!I1 & \"Auftraege24_1891_1893.pdf#page=27\",\"Buch 24 Seite 27\")","v":"Buch 24 Seite 27"}]
["A24.27.70","1892.12.31","Eugène Colomb, Architekt","Neuchâtel","CH","V",1,"Nivellierinstrument",{"$f":"HYPERLINK('PDF-Dateien'!I1 & \"1878-PC-Instrumente.pdf#page=8\",\"112#8\")","v":"112#8"},"Fernrohr 10/10 Ab 1/2 einf +\nin Lagern fest\n*Korrigierbare Libelle über den Lagern fest\n*4 horiz. Nivellierschrauben\n*Stativ mit Metallkopf   Fr. 120.-",{"$f":"HYPERLINK('PDF-Dateien'!I1 & \"Auftraege24_1891_1893.pdf#page=27\",\"Buch 24 Seite 27\")","v":"Buch 24 Seite 27"}]
["A24.27.75","1893.01.07","Antonio Jensen","Christiania","DK","V",1,"Nivellierinstrument",{"$f":"HYPERLINK('PDF-Dateien'!I1 & \"1878-PC-Instrumente.pdf#page=8\",\"120#8\")","v":"120#8"},"*terrestrisches Fernrohr 10/6 kurz Del. Xy? 2/5 in Lagern frei, +\n*Reiterlibelle\n*Stativ mit Metallkopf\n*Kiste  Fr. 180.-",{"$f":"HYPERLINK('PDF-Dateien'!I1 & \"Auftraege24_1891_1893.pdf#page=27\",\"Buch 24 Seite 27\")","v":"Buch 24 Seite 27"}]
["A24.27.80","1893.01.07","Feldmess Verwaltung im Ter'schen Bezirk Stadt Wladikawkas",null,"RU","V",1,"astronomischer Repetitionstheodolit",{"$f":"HYPERLINK('PDF-Dateien'!I1 & \"1878-PC-Instrumente.pdf#page=14\",\"213#14\")","v":"213#14"},"*exzentrisches Fernrohr 13/10 orthose xy? Decl.cAb 2/5, einf + feinste Faden\n*Prisemnokular, Sonnenglas, Feldbeleuchtung\n*Horizontalkreis 6\"\n*Vertikalkreis 5\" mit verstellbarer Alhidade 1/6° 59=60\n*Achsenlibelle mit 2 Stoppschrauben entgegengesetzt für die vertikale Korrektur, Libellenglas offen mit 2 Bügelchen gehalten\"*Vertikalalhidadenlibelle\n*Sicherheitsfernrohr 10/9 Ab 3/5\n*Stativ und Kiste Fr. 1000.-\nZuschlag für das orthose xy? Okular Fr. 12.-\n*Limbusdecke mit Schutzgläsern Fr. 20.-\n*2 Reserven Libellengläser für Achsenlibelle Fr.30.-\"",{"$f":"HYPERLINK('PDF-Dateien'!I1 & \"Auftraege24_1891_1893.pdf#page=27\",\"Buch 24 Seite 27\")","v":"Buch 24 Seite 27"}]
["A24.27.85","1893.01.07","E. Grohmann","Seriphos","GR","V",1,"kl. Tachymeter (aus Vorrat Katasterbüro\n Bern zurück)",{"$f":"HYPERLINK('PDF-Dateien'!I1 & \"1878-PC-Instrumente.pdf#page=13\",\"206#13\")","v":"206#13"},"*anallat. Xy? Fernrohr 12/9 Ab 2/7\n*Horizontalkreis 15 cm 2 Nonien\n*Vertikalkreis 13 cm 1 Nonius 400° 1/2°49=50\n*Kiste und Stativ  Fr. 600.-\n",{"$f":"HYPERLINK('PDF-Dateien'!I1 & \"Auftraege24_1891_1893.pdf#page=27\",\"Buch 24 Seite 27\")","v":"Buch 24 Seite 27"}]
["A24.28.06","1893.01.17","Ing. Blumer","Bellinzona","CH","V",1,"Nivellierinstrument Elev.",{"$f":"HYPERLINK('PDF-Dateien'!I1 & \"1878-PC-Instrumente.pdf#page=10\",\"150#10\")","v":"150#10"},"Fernrohr 13/12 inf +\n*Elevationsschraube ohne Trommel\n*Dsenlibelle am Balken\n*Kiste so knapp wie möglich\n*Stativ                                                  Fr. 270",{"$f":"HYPERLINK('PDF-Dateien'!I1 & \"Auftraege24_1891_1893.pdf#page=28\",\"Buch 24 Seite 28\")","v":"Buch 24 Seite 28"}]
["A24.28.12","1893.01.17","L'ingegnere capo Platey in Campoligure per Società italiana per le Strade ferrate del Mediterraneo","?","IT","V",1,"Mikroskop-theodolit aber ohne Höhenkreis",{"$f":"HYPERLINK('PDF-Dateien'!I1 & \"1878-PC-Instrumente.pdf#page=13\",\"199#13\")","v":"199#13"},"Fernrohr 16/13 Ab 2/5 & 1/3, gerades Fernrohr\n*2 Reserve Glaskreuze mit dopp. Vertikallinien\n*Horizontalkreis 10\" 1/15° 360\n*Mikroskope mit Mikrometer zur direkten Ablesung von 2\"\n*Achsenlibelle, Stützenlibelle\n*Kein Vertikalkreis aber Vertikalklemmhebel& Mikrometer\n*Kiste & Stativ              1930.-\n*Reiterlinelle                     35.-\n*Objektiv Spiegel              15.-\n*Limbusdecke                    50.-\n*xy?                                     15.-\n*Ursprungszeugnis            -.50\n*Oberbau: Zeichnung Repetitionstheodolit 10\" Bern\n*Unterbau: Zeichnung Repetitionstheodolit Petersburg 1888 mit Weglassung des Sicherheitsfernrohrs\n*Der obere Körner am Vertikalzapfen soll stehen bleiben, darf also nicht viel über den Gabelstützenboden hervorragen",{"$f":"HYPERLINK('PDF-Dateien'!I1 & \"Auftraege24_1891_1893.pdf#page=28\",\"Buch 24 Seite 28\")","v":"Buch 24 Seite 28"}]
["A24.28.18","1893.02.08","Kreis Schumen",null,"BG","V",1,"Theodolit 4\" 360° ohne Repetition",{"$f":"HYPERLINK('PDF-Dateien'!I1 & \"1878-PC-Instrumente.pdf#page=12\",\"181#12\")","v":"181#12"},"Fernrohr 10/8 Ab 1/2 Gabelstütze durchschlagbar,+\n*Horizontalkreis 4\" 1/3° 39=40=30\" 2 Nonien, Limbusdecke\n*Vertikalkreis 3\"  1/3°  19=20=1'  1Nonius\n*Achsenlibelle, Stützenlibelle\n*Kiste und Stativ                                    388.-\n*1 Dreiteilige Auszuglatte 4 1/2m         55.-\n*2 xy? 89                                                      5.10\n*1 Reisschiene No. 7                                  3.-\n*2 Winkel 45° No 10                                  4.10\n*xy?                                                               9.60\n*Total                                                         465.-",{"$f":"HYPERLINK('PDF-Dateien'!I1 & \"Auftraege24_1891_1893.pdf#page=28\",\"Buch 24 Seite 28\")","v":"Buch 24 Seite 28"}]
["A24.28.24","1893.02.08","Prof. W.B. Haag","Minneapolis, Minnesota","US","V",1,"Nivellierinstrument",{"$f":"HYPERLINK('PDF-Dateien'!I1 & \"1878-PC-Instrumente.pdf#page=8\",\"120#8\")","v":"120#8"},"Fernrohr 10/10 Ab 1/2, einfach +\n*Reiterlibelle                       170.-",{"$f":"HYPERLINK('PDF-Dateien'!I1 & \"Auftraege24_1891_1893.pdf#page=28\",\"Buch 24 Seite 28\")","v":"Buch 24 Seite 28"}]
["A24.28.30","1893.02.08","Prof. W.B. Haag","Minneapolis, Minnesota","US","V",1,"Pantometer ",{"$f":"HYPERLINK('PDF-Dateien'!I1 & \"1878-PC-Instrumente.pdf#page=1\",\"10#1\")","v":"10#1"},"grosse Sorte mit Bussole\n*Dreifussstativ                        53.-",{"$f":"HYPERLINK('PDF-Dateien'!I1 & \"Auftraege24_1891_1893.pdf#page=28\",\"Buch 24 Seite 28\")","v":"Buch 24 Seite 28"}]
["A24.28.36","1893.02.08","Prof. W.B. Haag","Minneapolis, Minnesota","US","V",1,"Schmalkalder Bussole",{"$f":"HYPERLINK('PDF-Dateien'!I1 & \"1878-PC-Instrumente.pdf#page=17\",\"273#17\")","v":"273#17"},"mit Stock                                  60.-\n* 10%; Kiste mit Blech         283.- Total",{"$f":"HYPERLINK('PDF-Dateien'!I1 & \"Auftraege24_1891_1893.pdf#page=28\",\"Buch 24 Seite 28\")","v":"Buch 24 Seite 28"}]
["A24.28.42","1893.02.08","Kommando der 6. Infanteriedivision in Widdin, Oberstleutnant Jvanoff","Sofia","BG","V",1,"grosser Aufsatz neuster Konstruktion",null,"Fernrohr 13/12 Ab 1/2, feste Distanz  1:100\n*Kreis 12 cm  1/3° 19=20=1' Quadrantweise beziffert\n*Kollimationslibelle, Reiterlibelle, Stützenfusslibelle\n*Korrektion für vertikale Aufsteigung\n*Lineal 60 cm ohne Parallellineal               240.-\n*xy? Metall                                                       28.-\n*Lineallibelle 21 cm                                         16.-\n*Lotgabel                                                             4.20\n*Handlupe                                                           3.50\n*Senkel                                                                 3.50\n*4 Papierklammern                                           12.-\n*1 Rechenschieber Wild 360° mit Anleitung 31.-\n*1 m 30 / argt  cm  200 1000 500 250            16.-\n*1 Horiz 5\"  argt                                                    5.2\n*Aufsatz zum Aufsetzen auf den Messtisch",{"$f":"HYPERLINK('PDF-Dateien'!I1 & \"Auftraege24_1891_1893.pdf#page=28\",\"Buch 24 Seite 28\")","v":"Buch 24 Seite 28"}]
["A24.28.48","1893.02.08","Kommando der 6. Infanteriedivision in Widdin, Oberstleutnant Jvanoff","Sofia","BG","V",1,"Messtisch  160.-",{"$f":"HYPERLINK('PDF-Dateien'!I1 & \"1878-PC-Instrumente.pdf#page=3\",\"40#3\")","v":"40#3"},"Kiste dazu                                                      15.-\n*2 Tischblätter 50/50                                  28.-\n*1 Extraring                                                    4.-\n*2 Wachstuchüberzüge                              16.-\n",{"$f":"HYPERLINK('PDF-Dateien'!I1 & \"Auftraege24_1891_1893.pdf#page=28\",\"Buch 24 Seite 28\")","v":"Buch 24 Seite 28"}]
["A24.28.54","1893.02.08","Kommando der 6. Infanteriedivision in Widdin, Oberstleutnant Jvanoff","Sofia","BG","V",2,"Prismenkonsolen",{"$f":"HYPERLINK('PDF-Dateien'!I1 & \"1878-PC-Instrumente.pdf#page=17\",\"275#17\")","v":"275#17"},"Kugelkniegelenk, Libelle unter dem Bussolen xy?\nVert.mier. schraube\n*Kiste und Stativ                                         320.- ",{"$f":"HYPERLINK('PDF-Dateien'!I1 & \"Auftraege24_1891_1893.pdf#page=28\",\"Buch 24 Seite 28\")","v":"Buch 24 Seite 28"}]
["A24.28.60","1893.02.08","Kommando der 6. Infanteriedivision in Widdin, Oberstleutnant Jvanoff","Sofia","BG","V",1,"Schmalkalder Bussole   60.-",{"$f":"HYPERLINK('PDF-Dateien'!I1 & \"1878-PC-Instrumente.pdf#page=17\",\"273#17\")","v":"273#17"},null,{"$f":"HYPERLINK('PDF-Dateien'!I1 & \"Auftraege24_1891_1893.pdf#page=28\",\"Buch 24 Seite 28\")","v":"Buch 24 Seite 28"}]
["A24.28.66","1893.02.08","Kommando der 6. Infanteriedivision in Widdin, Oberstleutnant Jvanoff","Sofia","BG","V",1,"Aufsatz",{"$f":"HYPERLINK('PDF-Dateien'!I1 & \"1878-PC-Instrumente.pdf#page=4\",\"52#4\")","v":"52#4"},"Fernrohr 10/8 Ab 1/2 in Ringen am Kreis fest\n*Vollkreis 12 cm  1/3  19=20 doppelgehend\n*Lineal 42 cm                                              155.-\n*Lineallibelle 21 cm Lotgabel, Senkel, \n4 Papierklammern, Dekl. M.,\nHandlupe, Rechenschieber Wild, m30/a            cm  200 1000 500 250, Horiz 5\" argt        118.90",{"$f":"HYPERLINK('PDF-Dateien'!I1 & \"Auftraege24_1891_1893.pdf#page=28\",\"Buch 24 Seite 28\")","v":"Buch 24 Seite 28"}]
["A24.28.72","1893.02.08","Kommando der 6. Infanteriedivision in Widdin, Oberstleutnant Jvanoff","Sofia","BG","V",1,"kleiner Messtisch    110.-",{"$f":"HYPERLINK('PDF-Dateien'!I1 & \"1878-PC-Instrumente.pdf#page=3\",\"35#3\")","v":"35#3"},"2 Tischblätter 54/60 ohne Ringe                  28.-\n*Ledersack über dem Messtisch                    6.70\n                                                                        1380.50\n* Emb                                                                  16.-\n                                                                         1396.50",{"$f":"HYPERLINK('PDF-Dateien'!I1 & \"Auftraege24_1891_1893.pdf#page=28\",\"Buch 24 Seite 28\")","v":"Buch 24 Seite 28"}]
["A24.28.78","1893.02.08","Eidgenössisches Oberbauinspektorat ","Bern","CH","V",1,"Nivellierinstrument Elevation schraube",{"$f":"HYPERLINK('PDF-Dateien'!I1 & \"1878-PC-Instrumente.pdf#page=10\",\"150#10\")","v":"150#10"},"Fernrohr 13/12 Ab 1/2 inf. +\n*Elev.schraube ohne Trommel\n*Stativ mit gesp. Füssen \n(wurde mit gew. Füssen ausgeführt)    290.-\n\n",{"$f":"HYPERLINK('PDF-Dateien'!I1 & \"Auftraege24_1891_1893.pdf#page=28\",\"Buch 24 Seite 28\")","v":"Buch 24 Seite 28"}]
["A24.28.84","1893.02.08","Eidgenössisches Oberbauinspektorat ","Bern","CH","V",1,"Präzisionsmire nach Zeichnung",null,"Länge 3 m\n*Emb",{"$f":"HYPERLINK('PDF-Dateien'!I1 & \"Auftraege24_1891_1893.pdf#page=28\",\"Buch 24 Seite 28\")","v":"Buch 24 Seite 28"}]
["A24.29.05","1893.02.09","Aebi, Rossi und Krieger","Schaffhausen","CH","V",1,"Repetitionstheodolit 6\" 400°",{"$f":"HYPERLINK('PDF-Dateien'!I1 & \"1878-PC-Instrumente.pdf#page=12\",\"186#12\")","v":"186#12"},"Fernrohr 13/10 Ab 2/5, +, durchschlagbar\n*Horizontalkreis 6\"  1/5°  99=100  2 Nonien\n*Vertikalkreis 4\" 1/5°  19=20 1 Nonius\n*Achsenlibelle, Stützenlibelle                            610.-\n*Limbusd. Mit Gläsern                                          22.-",{"$f":"HYPERLINK('PDF-Dateien'!I1 & \"Auftraege24_1891_1893.pdf#page=29\",\"Buch 24 Seite 29\")","v":"Buch 24 Seite 29"}]
["A24.29.10","1893.02.09","Aebi, Rossi und Krieger","Schaffhausen","CH","V",1,"Nivellierinstrument",{"$f":"HYPERLINK('PDF-Dateien'!I1 & \"1878-PC-Instrumente.pdf#page=9\",\"127#9\")","v":"127#9"},"Fernrohr 10/10  Ab 1/2, +, in Lagern frei\n*Reiterlibelle\n*Horizontalklemme und Justierschraube        200.-",{"$f":"HYPERLINK('PDF-Dateien'!I1 & \"Auftraege24_1891_1893.pdf#page=29\",\"Buch 24 Seite 29\")","v":"Buch 24 Seite 29"}]
["A24.29.15","1893.02.09","Ed. Cucchiani Ingenieur","Bad Ragaz","CH","V",1,"Bautheodolit",{"$f":"HYPERLINK('PDF-Dateien'!I1 & \"1878-PC-Instrumente.pdf#page=11\",\"163#11\")","v":"163#11"},null,{"$f":"HYPERLINK('PDF-Dateien'!I1 & \"Auftraege24_1891_1893.pdf#page=29\",\"Buch 24 Seite 29\")","v":"Buch 24 Seite 29"}]

{"sheet":"PDF-Dateien","index":1,"n_rows":20,"n_cols":21,"rows_kept":20,"cut":false,"hidden":false,"merged":[]}
["Buch","DateiName","MinJahr","MaxJahr","MaxSeite",null,null,"DateiPfad","https://www.kern-aarau.ch/fileadmin/Studien/Auftraege/",null,null,null,null,null,null,"Preis-Courent Instrumente"]
[17,"Auftraege17_1878_1880.pdf",1878,1880,26,null,null,"Links zu PDF",{"$f":"HYPERLINK('PDF-Dateien'!I1 & \"(filename)\",\"(text)\")","v":"(text)"},null,null,"RevDate","2020-04-06","von Nr.","bis Nr.","Seite"]
[18,"Auftraege18_1880_1882.pdf",1880,1882,43,null,null,null,null,null,null,null,null,1,10,1]
[19,"Auftraege19_1882_1885.pdf",1882,1885,38,null,null,"Land","CH","Schweiz","Auftrag","V","Verkauf",{"$f":"O3+1","v":11},34,2,{"$f":"T(N4)","v":""}]
[20,"Auftraege20_1885_1887.pdf",1885,1887,34,null,null,null,"CZ","Tschechien",null,"A","Angebot",35,45,3,{"$f":"T(N5)","v":""}]
[21,"Auftraege21_1887_1888.pdf",1887,1888,34,null,null,null,"DE","Deutschland",null,"R","Reperatur",46,61,4,""]
[22,"Auftraege22_1888_1890.pdf",1888,1890,26,null,null,null,"EG","Ägypten",null,"K","Konsignation",62,65,5,""]
[23,"Auftraege23_1890_1891.pdf",1890,1891,37,null,null,null,"ES","Spanien",null,"?xy",null,66,83,6,""]
[24,"Auftraege24_1891_1893.pdf",1891,1893,34,null,null,null,"FR","Frankreich",null,null,null,84,104,7,""]
[26,"Auftraege26_1895_1898.pdf",1895,1898,46,null,null,null,"GB","England",null,null,null,105,125,8,""]
[27,"Auftraege27_1898_1899.pdf",1898,1899,32,null,null,null,"GR","Griechenland",null,null,null,126,148,9,""]
[28,"Auftraege28_1899_1900.pdf",1899,1900,36,null,null,null,"IT","Italien",null,null,null,149,155,10,""]
[29,"Auftraege29_1900_1902.pdf",1900,1902,33,null,null,null,"RO","Rumänien",null,null,null,156,171,11,""]
[30,"Auftraege30_1902_1903.pdf",1902,1903,42,null,null,null,"RU","Russland",null,null,null,172,187,12,""]
[31,"Auftraege31_1903_1905.pdf",1903,1905,59,null,null,null,"TR","Türkei",null,null,null,188,208,13,"",null,null,null,44]
[32,"Auftraege32_1905_1906.pdf",1905,1906,75,null,null,null,"?xy",null,null,null,null,209,224,14,""]
[33,"Auftraege33_1906_1907.pdf",1906,1907,50,null,null,null,null,null,null,null,null,225,246,15,""]
[34,"Auftraege34_1907_1909.pdf",1907,1909,79,null,null,null,null,null,null,null,null,247,267,16,""]
[35,"Auftraege35_1909_1910.pdf",1909,1910,68,null,null,null,null,null,null,null,null,268,285,17,""]
[null,null,null,null,null,null,null,null,null,null,null,null,null,286,297,18,"ecds3"]

{"sheet":"Nummern","index":2,"n_rows":726,"n_cols":5,"rows_kept":726,"cut":false,"hidden":false,"merged":[]}
["Buch-Seite","Link","Nummer","Datum","Bemerkung"]
["A17.02",{"$f":"HYPERLINK('PDF-Dateien'!I1 & \"Auftraege17_1878_1880.pdf#page=2\",\"A17#2\")","v":"A17#2"},null,"1878.06.14"]
["A17.03",{"$f":"HYPERLINK('PDF-Dateien'!I1 & \"Auftraege17_1878_1880.pdf#page=3\",\"A17#3\")","v":"A17#3"}]
["A17.04",{"$f":"HYPERLINK('PDF-Dateien'!I1 & \"Auftraege17_1878_1880.pdf#page=4\",\"A17#4\")","v":"A17#4"}]
["A17.05",{"$f":"HYPERLINK('PDF-Dateien'!I1 & \"Auftraege17_1878_1880.pdf#page=5\",\"A17#5\")","v":"A17#5"}]
["A17.06",{"$f":"HYPERLINK('PDF-Dateien'!I1 & \"Auftraege17_1878_1880.pdf#page=6\",\"A17#6\")","v":"A17#6"}]
["A17.07",{"$f":"HYPERLINK('PDF-Dateien'!I1 & \"Auftraege17_1878_1880.pdf#page=7\",\"A17#7\")","v":"A17#7"}]
["A17.08",{"$f":"HYPERLINK('PDF-Dateien'!I1 & \"Auftraege17_1878_1880.pdf#page=8\",\"A17#8\")","v":"A17#8"}]
["A17.09",{"$f":"HYPERLINK('PDF-Dateien'!I1 & \"Auftraege17_1878_1880.pdf#page=9\",\"A17#9\")","v":"A17#9"}]
["A17.10",{"$f":"HYPERLINK('PDF-Dateien'!I1 & \"Auftraege17_1878_1880.pdf#page=10\",\"A17#10\")","v":"A17#10"}]
["A17.11",{"$f":"HYPERLINK('PDF-Dateien'!I1 & \"Auftraege17_1878_1880.pdf#page=11\",\"A17#11\")","v":"A17#11"}]
["A17.12",{"$f":"HYPERLINK('PDF-Dateien'!I1 & \"Auftraege17_1878_1880.pdf#page=12\",\"A17#12\")","v":"A17#12"}]
["A17.13",{"$f":"HYPERLINK('PDF-Dateien'!I1 & \"Auftraege17_1878_1880.pdf#page=13\",\"A17#13\")","v":"A17#13"}]
["A17.14",{"$f":"HYPERLINK('PDF-Dateien'!I1 & \"Auftraege17_1878_1880.pdf#page=14\",\"A17#14\")","v":"A17#14"}]
["A17.15",{"$f":"HYPERLINK('PDF-Dateien'!I1 & \"Auftraege17_1878_1880.pdf#page=15\",\"A17#15\")","v":"A17#15"}]
["A17.16",{"$f":"HYPERLINK('PDF-Dateien'!I1 & \"Auftraege17_1878_1880.pdf#page=16\",\"A17#16\")","v":"A17#16"}]
["A17.17",{"$f":"HYPERLINK('PDF-Dateien'!I1 & \"Auftraege17_1878_1880.pdf#page=17\",\"A17#17\")","v":"A17#17"}]
["A17.18",{"$f":"HYPERLINK('PDF-Dateien'!I1 & \"Auftraege17_1878_1880.pdf#page=18\",\"A17#18\")","v":"A17#18"}]
["A17.19",{"$f":"HYPERLINK('PDF-Dateien'!I1 & \"Auftraege17_1878_1880.pdf#page=19\",\"A17#19\")","v":"A17#19"}]
["A17.20",{"$f":"HYPERLINK('PDF-Dateien'!I1 & \"Auftraege17_1878_1880.pdf#page=20\",\"A17#20\")","v":"A17#20"}]
["A17.21",{"$f":"HYPERLINK('PDF-Dateien'!I1 & \"Auftraege17_1878_1880.pdf#page=21\",\"A17#21\")","v":"A17#21"}]
["A17.22",{"$f":"HYPERLINK('PDF-Dateien'!I1 & \"Auftraege17_1878_1880.pdf#page=22\",\"A17#22\")","v":"A17#22"}]
["A17.23",{"$f":"HYPERLINK('PDF-Dateien'!I1 & \"Auftraege17_1878_1880.pdf#page=23\",\"A17#23\")","v":"A17#23"}]
["A17.24",{"$f":"HYPERLINK('PDF-Dateien'!I1 & \"Auftraege17_1878_1880.pdf#page=24\",\"A17#24\")","v":"A17#24"}]
["A17.25",{"$f":"HYPERLINK('PDF-Dateien'!I1 & \"Auftraege17_1878_1880.pdf#page=25\",\"A17#25\")","v":"A17#25"}]
["A17.26",{"$f":"HYPERLINK('PDF-Dateien'!I1 & \"Auftraege17_1878_1880.pdf#page=26\",\"A17#26\")","v":"A17#26"}]
["A18.02",{"$f":"HYPERLINK('PDF-Dateien'!I1 & \"Auftraege18_1880_1882.pdf#page=2\",\"A18#2\")","v":"A18#2"},null,"1880.07.04"]
["A18.03",{"$f":"HYPERLINK('PDF-Dateien'!I1 & \"Auftraege18_1880_1882.pdf#page=3\",\"A18#3\")","v":"A18#3"}]
["A18.04",{"$f":"HYPERLINK('PDF-Dateien'!I1 & \"Auftraege18_1880_1882.pdf#page=4\",\"A18#4\")","v":"A18#4"}]
["A18.05",{"$f":"HYPERLINK('PDF-Dateien'!I1 & \"Auftraege18_1880_1882.pdf#page=5\",\"A18#5\")","v":"A18#5"}]
["A18.06",{"$f":"HYPERLINK('PDF-Dateien'!I1 & \"Auftraege18_1880_1882.pdf#page=6\",\"A18#6\")","v":"A18#6"}]
["A18.07",{"$f":"HYPERLINK('PDF-Dateien'!I1 & \"Auftraege18_1880_1882.pdf#page=7\",\"A18#7\")","v":"A18#7"}]
["A18.08",{"$f":"HYPERLINK('PDF-Dateien'!I1 & \"Auftraege18_1880_1882.pdf#page=8\",\"A18#8\")","v":"A18#8"}]
["A18.09",{"$f":"HYPERLINK('PDF-Dateien'!I1 & \"Auftraege18_1880_1882.pdf#page=9\",\"A18#9\")","v":"A18#9"}]
["A18.10",{"$f":"HYPERLINK('PDF-Dateien'!I1 & \"Auftraege18_1880_1882.pdf#page=10\",\"A18#10\")","v":"A18#10"}]
["A18.11",{"$f":"HYPERLINK('PDF-Dateien'!I1 & \"Auftraege18_1880_1882.pdf#page=11\",\"A18#11\")","v":"A18#11"}]
["A18.12",{"$f":"HYPERLINK('PDF-Dateien'!I1 & \"Auftraege18_1880_1882.pdf#page=12\",\"A18#12\")","v":"A18#12"}]
["A18.13",{"$f":"HYPERLINK('PDF-Dateien'!I1 & \"Auftraege18_1880_1882.pdf#page=13\",\"A18#13\")","v":"A18#13"}]
["A18.14",{"$f":"HYPERLINK('PDF-Dateien'!I1 & \"Auftraege18_1880_1882.pdf#page=14\",\"A18#14\")","v":"A18#14"}]
["A18.15",{"$f":"HYPERLINK('PDF-Dateien'!I1 & \"Auftraege18_1880_1882.pdf#page=15\",\"A18#15\")","v":"A18#15"},null,null,"Siehe Seite 16 für den Kleber"]
["A18.17",{"$f":"HYPERLINK('PDF-Dateien'!I1 & \"Auftraege18_1880_1882.pdf#page=17\",\"A18#17\")","v":"A18#17"}]
["A18.18",{"$f":"HYPERLINK('PDF-Dateien'!I1 & \"Auftraege18_1880_1882.pdf#page=18\",\"A18#18\")","v":"A18#18"}]
["A18.19",{"$f":"HYPERLINK('PDF-Dateien'!I1 & \"Auftraege18_1880_1882.pdf#page=19\",\"A18#19\")","v":"A18#19"}]
["A18.20",{"$f":"HYPERLINK('PDF-Dateien'!I1 & \"Auftraege18_1880_1882.pdf#page=20\",\"A18#20\")","v":"A18#20"}]
["A18.21",{"$f":"HYPERLINK('PDF-Dateien'!I1 & \"Auftraege18_1880_1882.pdf#page=21\",\"A18#21\")","v":"A18#21"}]
["A18.22",{"$f":"HYPERLINK('PDF-Dateien'!I1 & \"Auftraege18_1880_1882.pdf#page=22\",\"A18#22\")","v":"A18#22"}]
["A18.23",{"$f":"HYPERLINK('PDF-Dateien'!I1 & \"Auftraege18_1880_1882.pdf#page=23\",\"A18#23\")","v":"A18#23"}]
["A18.24",{"$f":"HYPERLINK('PDF-Dateien'!I1 & \"Auftraege18_1880_1882.pdf#page=24\",\"A18#24\")","v":"A18#24"}]
["A18.25",{"$f":"HYPERLINK('PDF-Dateien'!I1 & \"Auftraege18_1880_1882.pdf#page=25\",\"A18#25\")","v":"A18#25"}]
["A18.26",{"$f":"HYPERLINK('PDF-Dateien'!I1 & \"Auftraege18_1880_1882.pdf#page=26\",\"A18#26\")","v":"A18#26"}]
["A18.27",{"$f":"HYPERLINK('PDF-Dateien'!I1 & \"Auftraege18_1880_1882.pdf#page=27\",\"A18#27\")","v":"A18#27"}]
["A18.28",{"$f":"HYPERLINK('PDF-Dateien'!I1 & \"Auftraege18_1880_1882.pdf#page=28\",\"A18#28\")","v":"A18#28"}]
["A18.29",{"$f":"HYPERLINK('PDF-Dateien'!I1 & \"Auftraege18_1880_1882.pdf#page=29\",\"A18#29\")","v":"A18#29"}]
["A18.30",{"$f":"HYPERLINK('PDF-Dateien'!I1 & \"Auftraege18_1880_1882.pdf#page=30\",\"A18#30\")","v":"A18#30"}]
["A18.31",{"$f":"HYPERLINK('PDF-Dateien'!I1 & \"Auftraege18_1880_1882.pdf#page=31\",\"A18#31\")","v":"A18#31"}]
["A18.32",{"$f":"HYPERLINK('PDF-Dateien'!I1 & \"Auftraege18_1880_1882.pdf#page=32\",\"A18#32\")","v":"A18#32"}]
["A18.33",{"$f":"HYPERLINK('PDF-Dateien'!I1 & \"Auftraege18_1880_1882.pdf#page=33\",\"A18#33\")","v":"A18#33"}]
["A18.34",{"$f":"HYPERLINK('PDF-Dateien'!I1 & \"Auftraege18_1880_1882.pdf#page=34\",\"A18#34\")","v":"A18#34"}]
["A18.35",{"$f":"HYPERLINK('PDF-Dateien'!I1 & \"Auftraege18_1880_1882.pdf#page=35\",\"A18#35\")","v":"A18#35"}]
["A18.36",{"$f":"HYPERLINK('PDF-Dateien'!I1 & \"Auftraege18_1880_1882.pdf#page=36\",\"A18#36\")","v":"A18#36"}]
["A18.37",{"$f":"HYPERLINK('PDF-Dateien'!I1 & \"Auftraege18_1880_1882.pdf#page=37\",\"A18#37\")","v":"A18#37"}]
["A18.38",{"$f":"HYPERLINK('PDF-Dateien'!I1 & \"Auftraege18_1880_1882.pdf#page=38\",\"A18#38\")","v":"A18#38"}]
["A18.39",{"$f":"HYPERLINK('PDF-Dateien'!I1 & \"Auftraege18_1880_1882.pdf#page=39\",\"A18#39\")","v":"A18#39"}]
["A18.40",{"$f":"HYPERLINK('PDF-Dateien'!I1 & \"Auftraege18_1880_1882.pdf#page=40\",\"A18#40\")","v":"A18#40"}]
["A18.41",{"$f":"HYPERLINK('PDF-Dateien'!I1 & \"Auftraege18_1880_1882.pdf#page=41\",\"A18#41\")","v":"A18#41"}]
["A18.42",{"$f":"HYPERLINK('PDF-Dateien'!I1 & \"Auftraege18_1880_1882.pdf#page=42\",\"A18#42\")","v":"A18#42"}]
["A18.43",{"$f":"HYPERLINK('PDF-Dateien'!I1 & \"Auftraege18_1880_1882.pdf#page=43\",\"A18#43\")","v":"A18#43"}]
["A19.02",{"$f":"HYPERLINK('PDF-Dateien'!I1 & \"Auftraege19_1882_1885.pdf#page=2\",\"A19#2\")","v":"A19#2"},null,"1882.08.01"]
["A19.03",{"$f":"HYPERLINK('PDF-Dateien'!I1 & \"Auftraege19_1882_1885.pdf#page=3\",\"A19#3\")","v":"A19#3"}]
["A19.04",{"$f":"HYPERLINK('PDF-Dateien'!I1 & \"Auftraege19_1882_1885.pdf#page=4\",\"A19#4\")","v":"A19#4"}]
["A19.05",{"$f":"HYPERLINK('PDF-Dateien'!I1 & \"Auftraege19_1882_1885.pdf#page=5\",\"A19#5\")","v":"A19#5"}]
["A19.06",{"$f":"HYPERLINK('PDF-Dateien'!I1 & \"Auftraege19_1882_1885.pdf#page=6\",\"A19#6\")","v":"A19#6"}]
["A19.07",{"$f":"HYPERLINK('PDF-Dateien'!I1 & \"Auftraege19_1882_1885.pdf#page=7\",\"A19#7\")","v":"A19#7"}]
["A19.08",{"$f":"HYPERLINK('PDF-Dateien'!I1 & \"Auftraege19_1882_1885.pdf#page=8\",\"A19#8\")","v":"A19#8"}]
["A19.09",{"$f":"HYPERLINK('PDF-Dateien'!I1 & \"Auftraege19_1882_1885.pdf#page=9\",\"A19#9\")","v":"A19#9"}]
["A19.10",{"$f":"HYPERLINK('PDF-Dateien'!I1 & \"Auftraege19_1882_1885.pdf#page=10\",\"A19#10\")","v":"A19#10"}]
["A19.11",{"$f":"HYPERLINK('PDF-Dateien'!I1 & \"Auftraege19_1882_1885.pdf#page=11\",\"A19#11\")","v":"A19#11"}]
["A19.12",{"$f":"HYPERLINK('PDF-Dateien'!I1 & \"Auftraege19_1882_1885.pdf#page=12\",\"A19#12\")","v":"A19#12"}]
["A19.13",{"$f":"HYPERLINK('PDF-Dateien'!I1 & \"Auftraege19_1882_1885.pdf#page=13\",\"A19#13\")","v":"A19#13"}]
["A19.14",{"$f":"HYPERLINK('PDF-Dateien'!I1 & \"Auftraege19_1882_1885.pdf#page=14\",\"A19#14\")","v":"A19#14"}]
["A19.15",{"$f":"HYPERLINK('PDF-Dateien'!I1 & \"Auftraege19_1882_1885.pdf#page=15\",\"A19#15\")","v":"A19#15"}]
["A19.16",{"$f":"HYPERLINK('PDF-Dateien'!I1 & \"Auftraege19_1882_1885.pdf#page=16\",\"A19#16\")","v":"A19#16"}]
["A19.17",{"$f":"HYPERLINK('PDF-Dateien'!I1 & \"Auftraege19_1882_1885.pdf#page=17\",\"A19#17\")","v":"A19#17"}]
["A19.18",{"$f":"HYPERLINK('PDF-Dateien'!I1 & \"Auftraege19_1882_1885.pdf#page=18\",\"A19#18\")","v":"A19#18"}]
["A19.19",{"$f":"HYPERLINK('PDF-Dateien'!I1 & \"Auftraege19_1882_1885.pdf#page=19\",\"A19#19\")","v":"A19#19"}]
["A19.20",{"$f":"HYPERLINK('PDF-Dateien'!I1 & \"Auftraege19_1882_1885.pdf#page=20\",\"A19#20\")","v":"A19#20"}]
["A19.21",{"$f":"HYPERLINK('PDF-Dateien'!I1 & \"Auftraege19_1882_1885.pdf#page=21\",\"A19#21\")","v":"A19#21"}]
["A19.22",{"$f":"HYPERLINK('PDF-Dateien'!I1 & \"Auftraege19_1882_1885.pdf#page=22\",\"A19#22\")","v":"A19#22"}]
["A19.23",{"$f":"HYPERLINK('PDF-Dateien'!I1 & \"Auftraege19_1882_1885.pdf#page=23\",\"A19#23\")","v":"A19#23"}]
["A19.24",{"$f":"HYPERLINK('PDF-Dateien'!I1 & \"Auftraege19_1882_1885.pdf#page=24\",\"A19#24\")","v":"A19#24"}]
["A19.25",{"$f":"HYPERLINK('PDF-Dateien'!I1 & \"Auftraege19_1882_1885.pdf#page=25\",\"A19#25\")","v":"A19#25"}]
["A19.26",{"$f":"HYPERLINK('PDF-Dateien'!I1 & \"Auftraege19_1882_1885.pdf#page=26\",\"A19#26\")","v":"A19#26"}]
["A19.27",{"$f":"HYPERLINK('PDF-Dateien'!I1 & \"Auftraege19_1882_1885.pdf#page=27\",\"A19#27\")","v":"A19#27"}]
["A19.28",{"$f":"HYPERLINK('PDF-Dateien'!I1 & \"Auftraege19_1882_1885.pdf#page=28\",\"A19#28\")","v":"A19#28"}]
["A19.29",{"$f":"HYPERLINK('PDF-Dateien'!I1 & \"Auftraege19_1882_1885.pdf#page=29\",\"A19#29\")","v":"A19#29"}]
["A19.30",{"$f":"HYPERLINK('PDF-Dateien'!I1 & \"Auftraege19_1882_1885.pdf#page=30\",\"A19#30\")","v":"A19#30"}]
["A19.31",{"$f":"HYPERLINK('PDF-Dateien'!I1 & \"Auftraege19_1882_1885.pdf#page=31\",\"A19#31\")","v":"A19#31"}]
["A19.32",{"$f":"HYPERLINK('PDF-Dateien'!I1 & \"Auftraege19_1882_1885.pdf#page=32\",\"A19#32\")","v":"A19#32"}]
["A19.33",{"$f":"HYPERLINK('PDF-Dateien'!I1 & \"Auftraege19_1882_1885.pdf#page=33\",\"A19#33\")","v":"A19#33"}]
["A19.34",{"$f":"HYPERLINK('PDF-Dateien'!I1 & \"Auftraege19_1882_1885.pdf#page=34\",\"A19#34\")","v":"A19#34"}]
["A19.35",{"$f":"HYPERLINK('PDF-Dateien'!I1 & \"Auftraege19_1882_1885.pdf#page=35\",\"A19#35\")","v":"A19#35"}]
["A19.36",{"$f":"HYPERLINK('PDF-Dateien'!I1 & \"Auftraege19_1882_1885.pdf#page=36\",\"A19#36\")","v":"A19#36"}]
["A19.37",{"$f":"HYPERLINK('PDF-Dateien'!I1 & \"Auftraege19_1882_1885.pdf#page=37\",\"A19#37\")","v":"A19#37"}]
["A19.38",{"$f":"HYPERLINK('PDF-Dateien'!I1 & \"Auftraege19_1882_1885.pdf#page=38\",\"A19#38\")","v":"A19#38"}]
["A20.02",{"$f":"HYPERLINK('PDF-Dateien'!I1 & \"Auftraege20_1885_1887.pdf#page=2\",\"A20#2\")","v":"A20#2"},null,"1885.01.06"]
["A20.03",{"$f":"HYPERLINK('PDF-Dateien'!I1 & \"Auftraege20_1885_1887.pdf#page=3\",\"A20#3\")","v":"A20#3"}]
["A20.04",{"$f":"HYPERLINK('PDF-Dateien'!I1 & \"Auftraege20_1885_1887.pdf#page=4\",\"A20#4\")","v":"A20#4"}]
["A20.05",{"$f":"HYPERLINK('PDF-Dateien'!I1 & \"Auftraege20_1885_1887.pdf#page=5\",\"A20#5\")","v":"A20#5"}]
["A20.06",{"$f":"HYPERLINK('PDF-Dateien'!I1 & \"Auftraege20_1885_1887.pdf#page=6\",\"A20#6\")","v":"A20#6"}]
["A20.07",{"$f":"HYPERLINK('PDF-Dateien'!I1 & \"Auftraege20_1885_1887.pdf#page=7\",\"A20#7\")","v":"A20#7"}]
["A20.08",{"$f":"HYPERLINK('PDF-Dateien'!I1 & \"Auftraege20_1885_1887.pdf#page=8\",\"A20#8\")","v":"A20#8"}]
["A20.09",{"$f":"HYPERLINK('PDF-Dateien'!I1 & \"Auftraege20_1885_1887.pdf#page=9\",\"A20#9\")","v":"A20#9"}]
["A20.10",{"$f":"HYPERLINK('PDF-Dateien'!I1 & \"Auftraege20_1885_1887.pdf#page=10\",\"A20#10\")","v":"A20#10"}]
["A20.11",{"$f":"HYPERLINK('PDF-Dateien'!I1 & \"Auftraege20_1885_1887.pdf#page=11\",\"A20#11\")","v":"A20#11"}]
["A20.12",{"$f":"HYPERLINK('PDF-Dateien'!I1 & \"Auftraege20_1885_1887.pdf#page=12\",\"A20#12\")","v":"A20#12"}]
["A20.13",{"$f":"HYPERLINK('PDF-Dateien'!I1 & \"Auftraege20_1885_1887.pdf#page=13\",\"A20#13\")","v":"A20#13"}]
["A20.14",{"$f":"HYPERLINK('PDF-Dateien'!I1 & \"Auftraege20_1885_1887.pdf#page=14\",\"A20#14\")","v":"A20#14"}]
["A20.15",{"$f":"HYPERLINK('PDF-Dateien'!I1 & \"Auftraege20_1885_1887.pdf#page=15\",\"A20#15\")","v":"A20#15"}]
["A20.16",{"$f":"HYPERLINK('PDF-Dateien'!I1 & \"Auftraege20_1885_1887.pdf#page=16\",\"A20#16\")","v":"A20#16"}]
["A20.17",{"$f":"HYPERLINK('PDF-Dateien'!I1 & \"Auftraege20_1885_1887.pdf#page=17\",\"A20#17\")","v":"A20#17"}]
["A20.18",{"$f":"HYPERLINK('PDF-Dateien'!I1 & \"Auftraege20_1885_1887.pdf#page=18\",\"A20#18\")","v":"A20#18"}]
["A20.19",{"$f":"HYPERLINK('PDF-Dateien'!I1 & \"Auftraege20_1885_1887.pdf#page=19\",\"A20#19\")","v":"A20#19"}]
["A20.20",{"$f":"HYPERLINK('PDF-Dateien'!I1 & \"Auftraege20_1885_1887.pdf#page=20\",\"A20#20\")","v":"A20#20"}]
["A20.21",{"$f":"HYPERLINK('PDF-Dateien'!I1 & \"Auftraege20_1885_1887.pdf#page=21\",\"A20#21\")","v":"A20#21"}]
["A20.22",{"$f":"HYPERLINK('PDF-Dateien'!I1 & \"Auftraege20_1885_1887.pdf#page=22\",\"A20#22\")","v":"A20#22"}]
["A20.23",{"$f":"HYPERLINK('PDF-Dateien'!I1 & \"Auftraege20_1885_1887.pdf#page=23\",\"A20#23\")","v":"A20#23"}]
["A20.24",{"$f":"HYPERLINK('PDF-Dateien'!I1 & \"Auftraege20_1885_1887.pdf#page=24\",\"A20#24\")","v":"A20#24"}]
["A20.25",{"$f":"HYPERLINK('PDF-Dateien'!I1 & \"Auftraege20_1885_1887.pdf#page=25\",\"A20#25\")","v":"A20#25"}]
["A20.26",{"$f":"HYPERLINK('PDF-Dateien'!I1 & \"Auftraege20_1885_1887.pdf#page=26\",\"A20#26\")","v":"A20#26"}]
["A20.27",{"$f":"HYPERLINK('PDF-Dateien'!I1 & \"Auftraege20_1885_1887.pdf#page=27\",\"A20#27\")","v":"A20#27"}]
["A20.28",{"$f":"HYPERLINK('PDF-Dateien'!I1 & \"Auftraege20_1885_1887.pdf#page=28\",\"A20#28\")","v":"A20#28"}]
["A20.29",{"$f":"HYPERLINK('PDF-Dateien'!I1 & \"Auftraege20_1885_1887.pdf#page=29\",\"A20#29\")","v":"A20#29"}]
["A20.30",{"$f":"HYPERLINK('PDF-Dateien'!I1 & \"Auftraege20_1885_1887.pdf#page=30\",\"A20#30\")","v":"A20#30"}]
["A20.31",{"$f":"HYPERLINK('PDF-Dateien'!I1 & \"Auftraege20_1885_1887.pdf#page=31\",\"A20#31\")","v":"A20#31"}]
["A20.32",{"$f":"HYPERLINK('PDF-Dateien'!I1 & \"Auftraege20_1885_1887.pdf#page=32\",\"A20#32\")","v":"A20#32"}]
["A20.33",{"$f":"HYPERLINK('PDF-Dateien'!I1 & \"Auftraege20_1885_1887.pdf#page=33\",\"A20#33\")","v":"A20#33"}]
["A20.34",{"$f":"HYPERLINK('PDF-Dateien'!I1 & \"Auftraege20_1885_1887.pdf#page=34\",\"A20#34\")","v":"A20#34"}]
["A21.02",{"$f":"HYPERLINK('PDF-Dateien'!I1 & \"Auftraege21_1887_1888.pdf#page=2\",\"A21#2\")","v":"A21#2"},null,"1887.01.01"]
["A21.03",{"$f":"HYPERLINK('PDF-Dateien'!I1 & \"Auftraege21_1887_1888.pdf#page=3\",\"A21#3\")","v":"A21#3"}]
["A21.04",{"$f":"HYPERLINK('PDF-Dateien'!I1 & \"Auftraege21_1887_1888.pdf#page=4\",\"A21#4\")","v":"A21#4"}]
["A21.05",{"$f":"HYPERLINK('PDF-Dateien'!I1 & \"Auftraege21_1887_1888.pdf#page=5\",\"A21#5\")","v":"A21#5"}]
["A21.06",{"$f":"HYPERLINK('PDF-Dateien'!I1 & \"Auftraege21_1887_1888.pdf#page=6\",\"A21#6\")","v":"A21#6"}]
["A21.07",{"$f":"HYPERLINK('PDF-Dateien'!I1 & \"Auftraege21_1887_1888.pdf#page=7\",\"A21#7\")","v":"A21#7"}]
["A21.08",{"$f":"HYPERLINK('PDF-Dateien'!I1 & \"Auftraege21_1887_1888.pdf#page=8\",\"A21#8\")","v":"A21#8"}]
["A21.09",{"$f":"HYPERLINK('PDF-Dateien'!I1 & \"Auftraege21_1887_1888.pdf#page=9\",\"A21#9\")","v":"A21#9"}]
["A21.10",{"$f":"HYPERLINK('PDF-Dateien'!I1 & \"Auftraege21_1887_1888.pdf#page=10\",\"A21#10\")","v":"A21#10"}]
["A21.11",{"$f":"HYPERLINK('PDF-Dateien'!I1 & \"Auftraege21_1887_1888.pdf#page=11\",\"A21#11\")","v":"A21#11"}]
["A21.12",{"$f":"HYPERLINK('PDF-Dateien'!I1 & \"Auftraege21_1887_1888.pdf#page=12\",\"A21#12\")","v":"A21#12"}]
["A21.13",{"$f":"HYPERLINK('PDF-Dateien'!I1 & \"Auftraege21_1887_1888.pdf#page=13\",\"A21#13\")","v":"A21#13"}]
["A21.14",{"$f":"HYPERLINK('PDF-Dateien'!I1 & \"Auftraege21_1887_1888.pdf#page=14\",\"A21#14\")","v":"A21#14"}]
["A21.15",{"$f":"HYPERLINK('PDF-Dateien'!I1 & \"Auftraege21_1887_1888.pdf#page=15\",\"A21#15\")","v":"A21#15"}]
["A21.16",{"$f":"HYPERLINK('PDF-Dateien'!I1 & \"Auftraege21_1887_1888.pdf#page=16\",\"A21#16\")","v":"A21#16"}]
["A21.17",{"$f":"HYPERLINK('PDF-Dateien'!I1 & \"Auftraege21_1887_1888.pdf#page=17\",\"A21#17\")","v":"A21#17"}]
["A21.18",{"$f":"HYPERLINK('PDF-Dateien'!I1 & \"Auftraege21_1887_1888.pdf#page=18\",\"A21#18\")","v":"A21#18"}]
["A21.19",{"$f":"HYPERLINK('PDF-Dateien'!I1 & \"Auftraege21_1887_1888.pdf#page=19\",\"A21#19\")","v":"A21#19"}]
["A21.20",{"$f":"HYPERLINK('PDF-Dateien'!I1 & \"Auftraege21_1887_1888.pdf#page=20\",\"A21#20\")","v":"A21#20"}]
["A21.21",{"$f":"HYPERLINK('PDF-Dateien'!I1 & \"Auftraege21_1887_1888.pdf#page=21\",\"A21#21\")","v":"A21#21"}]
["A21.22",{"$f":"HYPERLINK('PDF-Dateien'!I1 & \"Auftraege21_1887_1888.pdf#page=22\",\"A21#22\")","v":"A21#22"}]
["A21.23",{"$f":"HYPERLINK('PDF-Dateien'!I1 & \"Auftraege21_1887_1888.pdf#page=23\",\"A21#23\")","v":"A21#23"}]
["A21.24",{"$f":"HYPERLINK('PDF-Dateien'!I1 & \"Auftraege21_1887_1888.pdf#page=24\",\"A21#24\")","v":"A21#24"}]
["A21.25",{"$f":"HYPERLINK('PDF-Dateien'!I1 & \"Auftraege21_1887_1888.pdf#page=25\",\"A21#25\")","v":"A21#25"}]
["A21.26",{"$f":"HYPERLINK('PDF-Dateien'!I1 & \"Auftraege21_1887_1888.pdf#page=26\",\"A21#26\")","v":"A21#26"}]
["A21.27",{"$f":"HYPERLINK('PDF-Dateien'!I1 & \"Auftraege21_1887_1888.pdf#page=27\",\"A21#27\")","v":"A21#27"}]
["A21.28",{"$f":"HYPERLINK('PDF-Dateien'!I1 & \"Auftraege21_1887_1888.pdf#page=28\",\"A21#28\")","v":"A21#28"}]
["A21.29",{"$f":"HYPERLINK('PDF-Dateien'!I1 & \"Auftraege21_1887_1888.pdf#page=29\",\"A21#29\")","v":"A21#29"}]
["A21.30",{"$f":"HYPERLINK('PDF-Dateien'!I1 & \"Auftraege21_1887_1888.pdf#page=30\",\"A21#30\")","v":"A21#30"}]
["A21.31",{"$f":"HYPERLINK('PDF-Dateien'!I1 & \"Auftraege21_1887_1888.pdf#page=31\",\"A21#31\")","v":"A21#31"}]
["A21.32",{"$f":"HYPERLINK('PDF-Dateien'!I1 & \"Auftraege21_1887_1888.pdf#page=32\",\"A21#32\")","v":"A21#32"}]
["A21.33",{"$f":"HYPERLINK('PDF-Dateien'!I1 & \"Auftraege21_1887_1888.pdf#page=33\",\"A21#33\")","v":"A21#33"}]
["A21.34",{"$f":"HYPERLINK('PDF-Dateien'!I1 & \"Auftraege21_1887_1888.pdf#page=34\",\"A21#34\")","v":"A21#34"}]
["A22.02",{"$f":"HYPERLINK('PDF-Dateien'!I1 & \"Auftraege22_1888_1890.pdf#page=2\",\"A22#2\")","v":"A22#2"},null,"1888.11.20"]
["A22.03",{"$f":"HYPERLINK('PDF-Dateien'!I1 & \"Auftraege22_1888_1890.pdf#page=3\",\"A22#3\")","v":"A22#3"},null,"1888.11.17"]
["A22.04",{"$f":"HYPERLINK('PDF-Dateien'!I1 & \"Auftraege22_1888_1890.pdf#page=4\",\"A22#4\")","v":"A22#4"},null,"1888.12.12"]
["A22.05",{"$f":"HYPERLINK('PDF-Dateien'!I1 & \"Auftraege22_1888_1890.pdf#page=5\",\"A22#5\")","v":"A22#5"},null,"1889.01.02"]
["A22.06",{"$f":"HYPERLINK('PDF-Dateien'!I1 & \"Auftraege22_1888_1890.pdf#page=6\",\"A22#6\")","v":"A22#6"},null,"1889.01.07"]
["A22.07",{"$f":"HYPERLINK('PDF-Dateien'!I1 & \"Auftraege22_1888_1890.pdf#page=7\",\"A22#7\")","v":"A22#7"},null,"1889.01.20"]
["A22.08",{"$f":"HYPERLINK('PDF-Dateien'!I1 & \"Auftraege22_1888_1890.pdf#page=8\",\"A22#8\")","v":"A22#8"},null,"1889.02.09"]
["A22.09",{"$f":"HYPERLINK('PDF-Dateien'!I1 & \"Auftraege22_1888_1890.pdf#page=9\",\"A22#9\")","v":"A22#9"},null,"1889.02.18"]
["A22.10",{"$f":"HYPERLINK('PDF-Dateien'!I1 & \"Auftraege22_1888_1890.pdf#page=10\",\"A22#10\")","v":"A22#10"},null,"1889.03.01"]
["A22.11",{"$f":"HYPERLINK('PDF-Dateien'!I1 & \"Auftraege22_1888_1890.pdf#page=11\",\"A22#11\")","v":"A22#11"},null,"1889.03.23"]
["A22.12",{"$f":"HYPERLINK('PDF-Dateien'!I1 & \"Auftraege22_1888_1890.pdf#page=12\",\"A22#12\")","v":"A22#12"},null,"1889.04.02"]
["A22.13",{"$f":"HYPERLINK('PDF-Dateien'!I1 & \"Auftraege22_1888_1890.pdf#page=13\",\"A22#13\")","v":"A22#13"},null,"1889.04.11"]
["A22.14",{"$f":"HYPERLINK('PDF-Dateien'!I1 & \"Auftraege22_1888_1890.pdf#page=14\",\"A22#14\")","v":"A22#14"},null,"1889.05.04"]
["A22.15",{"$f":"HYPERLINK('PDF-Dateien'!I1 & \"Auftraege22_1888_1890.pdf#page=15\",\"A22#15\")","v":"A22#15"},null,"1889.06.04"]
["A22.16",{"$f":"HYPERLINK('PDF-Dateien'!I1 & \"Auftraege22_1888_1890.pdf#page=16\",\"A22#16\")","v":"A22#16"},null,"1889.07.02"]
["A22.17",{"$f":"HYPERLINK('PDF-Dateien'!I1 & \"Auftraege22_1888_1890.pdf#page=17\",\"A22#17\")","v":"A22#17"},null,"1889.07.08"]
["A22.18",{"$f":"HYPERLINK('PDF-Dateien'!I1 & \"Auftraege22_1888_1890.pdf#page=18\",\"A22#18\")","v":"A22#18"},null,"1889.07.18"]
["A22.19",{"$f":"HYPERLINK('PDF-Dateien'!I1 & \"Auftraege22_1888_1890.pdf#page=19\",\"A22#19\")","v":"A22#19"},null,"1889.08.14"]
["A22.20",{"$f":"HYPERLINK('PDF-Dateien'!I1 & \"Auftraege22_1888_1890.pdf#page=20\",\"A22#20\")","v":"A22#20"},null,"1889.09.16"]
["A22.21",{"$f":"HYPERLINK('PDF-Dateien'!I1 & \"Auftraege22_1888_1890.pdf#page=21\",\"A22#21\")","v":"A22#21"},null,"1889.10.01"]
["A22.22",{"$f":"HYPERLINK('PDF-Dateien'!I1 & \"Auftraege22_1888_1890.pdf#page=22\",\"A22#22\")","v":"A22#22"},null,"1889.10.25"]
["A22.23",{"$f":"HYPERLINK('PDF-Dateien'!I1 & \"Auftraege22_1888_1890.pdf#page=23\",\"A22#23\")","v":"A22#23"},null,"1889.11.07"]
["A22.24",{"$f":"HYPERLINK('PDF-Dateien'!I1 & \"Auftraege22_1888_1890.pdf#page=24\",\"A22#24\")","v":"A22#24"},null,"1889.11.22"]
["A22.25",{"$f":"HYPERLINK('PDF-Dateien'!I1 & \"Auftraege22_1888_1890.pdf#page=25\",\"A22#25\")","v":"A22#25"},null,"1889.12.06"]
["A22.26",{"$f":"HYPERLINK('PDF-Dateien'!I1 & \"Auftraege22_1888_1890.pdf#page=26\",\"A22#26\")","v":"A22#26"},null,"1889.12.19"]
["A23.02",{"$f":"HYPERLINK('PDF-Dateien'!I1 & \"Auftraege23_1890_1891.pdf#page=2\",\"A23#2\")","v":"A23#2"},null,"1890.01.03"]
["A23.03",{"$f":"HYPERLINK('PDF-Dateien'!I1 & \"Auftraege23_1890_1891.pdf#page=3\",\"A23#3\")","v":"A23#3"},null,"1890.01.10"]
["A23.04",{"$f":"HYPERLINK('PDF-Dateien'!I1 & \"Auftraege23_1890_1891.pdf#page=4\",\"A23#4\")","v":"A23#4"},null,"1890.01.21"]
["A23.05",{"$f":"HYPERLINK('PDF-Dateien'!I1 & \"Auftraege23_1890_1891.pdf#page=5\",\"A23#5\")","v":"A23#5"},null,"1890.02.04"]
["A23.06",{"$f":"HYPERLINK('PDF-Dateien'!I1 & \"Auftraege23_1890_1891.pdf#page=6\",\"A23#6\")","v":"A23#6"},null,"1890.02.19"]
["A23.07",{"$f":"HYPERLINK('PDF-Dateien'!I1 & \"Auftraege23_1890_1891.pdf#page=7\",\"A23#7\")","v":"A23#7"},null,"1890.03.03"]
["A23.08",{"$f":"HYPERLINK('PDF-Dateien'!I1 & \"Auftraege23_1890_1891.pdf#page=8\",\"A23#8\")","v":"A23#8"},null,"1890.03.06"]
["A23.09",{"$f":"HYPERLINK('PDF-Dateien'!I1 & \"Auftraege23_1890_1891.pdf#page=9\",\"A23#9\")","v":"A23#9"},null,"1890.03.31"]
["A23.10",{"$f":"HYPERLINK('PDF-Dateien'!I1 & \"Auftraege23_1890_1891.pdf#page=10\",\"A23#10\")","v":"A23#10"},null,"1890.04.17"]
["A23.11",{"$f":"HYPERLINK('PDF-Dateien'!I1 & \"Auftraege23_1890_1891.pdf#page=11\",\"A23#11\")","v":"A23#11"},null,"1890.05.09"]
["A23.12",{"$f":"HYPERLINK('PDF-Dateien'!I1 & \"Auftraege23_1890_1891.pdf#page=12\",\"A23#12\")","v":"A23#12"},null,"1890.05.24"]
["A23.13",{"$f":"HYPERLINK('PDF-Dateien'!I1 & \"Auftraege23_1890_1891.pdf#page=13\",\"A23#13\")","v":"A23#13"},null,"1890.06.09"]
["A23.14",{"$f":"HYPERLINK('PDF-Dateien'!I1 & \"Auftraege23_1890_1891.pdf#page=14\",\"A23#14\")","v":"A23#14"},null,"1890.06.12"]
["A23.15",{"$f":"HYPERLINK('PDF-Dateien'!I1 & \"Auftraege23_1890_1891.pdf#page=15\",\"A23#15\")","v":"A23#15"},null,"1890.06.21"]
["A23.16",{"$f":"HYPERLINK('PDF-Dateien'!I1 & \"Auftraege23_1890_1891.pdf#page=16\",\"A23#16\")","v":"A23#16"},null,"1890.07.07"]
["A23.17",{"$f":"HYPERLINK('PDF-Dateien'!I1 & \"Auftraege23_1890_1891.pdf#page=17\",\"A23#17\")","v":"A23#17"},null,"1890.08.04"]
["A23.18",{"$f":"HYPERLINK('PDF-Dateien'!I1 & \"Auftraege23_1890_1891.pdf#page=18\",\"A23#18\")","v":"A23#18"},null,"1890.09.10"]
["A23.19",{"$f":"HYPERLINK('PDF-Dateien'!I1 & \"Auftraege23_1890_1891.pdf#page=19\",\"A23#19\")","v":"A23#19"},null,"1890.10.04"]
["A23.20",{"$f":"HYPERLINK('PDF-Dateien'!I1 & \"Auftraege23_1890_1891.pdf#page=20\",\"A23#20\")","v":"A23#20"},null,"1890.10.10"]
["A23.21",{"$f":"HYPERLINK('PDF-Dateien'!I1 & \"Auftraege23_1890_1891.pdf#page=21\",\"A23#21\")","v":"A23#21"},null,"1890.10.25"]
["A23.22",{"$f":"HYPERLINK('PDF-Dateien'!I1 & \"Auftraege23_1890_1891.pdf#page=22\",\"A23#22\")","v":"A23#22"},null,"1890.11.03"]
["A23.23",{"$f":"HYPERLINK('PDF-Dateien'!I1 & \"Auftraege23_1890_1891.pdf#page=23\",\"A23#23\")","v":"A23#23"},null,"1890.11.24"]
["A23.24",{"$f":"HYPERLINK('PDF-Dateien'!I1 & \"Auftraege23_1890_1891.pdf#page=24\",\"A23#24\")","v":"A23#24"},null,"1890.12.11"]
["A23.25",{"$f":"HYPERLINK('PDF-Dateien'!I1 & \"Auftraege23_1890_1891.pdf#page=25\",\"A23#25\")","v":"A23#25"},null,"1890.12.22"]
["A23.26",{"$f":"HYPERLINK('PDF-Dateien'!I1 & \"Auftraege23_1890_1891.pdf#page=26\",\"A23#26\")","v":"A23#26"},null,"1891.01.17"]
["A23.27",{"$f":"HYPERLINK('PDF-Dateien'!I1 & \"Auftraege23_1890_1891.pdf#page=27\",\"A23#27\")","v":"A23#27"},null,"1891.02.03"]
["A23.28",{"$f":"HYPERLINK('PDF-Dateien'!I1 & \"Auftraege23_1890_1891.pdf#page=28\",\"A23#28\")","v":"A23#28"},null,"1891.02.12"]
["A23.29",{"$f":"HYPERLINK('PDF-Dateien'!I1 & \"Auftraege23_1890_1891.pdf#page=29\",\"A23#29\")","v":"A23#29"},null,"1891.02.21"]
["A23.30",{"$f":"HYPERLINK('PDF-Dateien'!I1 & \"Auftraege23_1890_1891.pdf#page=30\",\"A23#30\")","v":"A23#30"},null,"1891.03.14"]
["A23.31",{"$f":"HYPERLINK('PDF-Dateien'!I1 & \"Auftraege23_1890_1891.pdf#page=31\",\"A23#31\")","v":"A23#31"},null,"1891.03.19"]
["A23.32",{"$f":"HYPERLINK('PDF-Dateien'!I1 & \"Auftraege23_1890_1891.pdf#page=32\",\"A23#32\")","v":"A23#32"},null,"1891.03.30"]
["A23.33",{"$f":"HYPERLINK('PDF-Dateien'!I1 & \"Auftraege23_1890_1891.pdf#page=33\",\"A23#33\")","v":"A23#33"},null,"1891.04.02"]
["A23.34",{"$f":"HYPERLINK('PDF-Dateien'!I1 & \"Auftraege23_1890_1891.pdf#page=34\",\"A23#34\")","v":"A23#34"},null,"1891.04.20"]
["A23.35",{"$f":"HYPERLINK('PDF-Dateien'!I1 & \"Auftraege23_1890_1891.pdf#page=35\",\"A23#35\")","v":"A23#35"},null,"1891.05.08"]
["A23.36",{"$f":"HYPERLINK('PDF-Dateien'!I1 & \"Auftraege23_1890_1891.pdf#page=36\",\"A23#36\")","v":"A23#36"},null,"1891.06.03"]
["A23.37",{"$f":"HYPERLINK('PDF-Dateien'!I1 & \"Auftraege23_1890_1891.pdf#page=37\",\"A23#37\")","v":"A23#37"},null,"1891.06.17"]
["A24.02",{"$f":"HYPERLINK('PDF-Dateien'!I1 & \"Auftraege24_1891_1893.pdf#page=2\",\"A24#2\")","v":"A24#2"},null,"1891.06.24"]
["A24.03",{"$f":"HYPERLINK('PDF-Dateien'!I1 & \"Auftraege24_1891_1893.pdf#page=3\",\"A24#3\")","v":"A24#3"},null,"1891.07.06"]
["A24.05",{"$f":"HYPERLINK('PDF-Dateien'!I1 & \"Auftraege24_1891_1893.pdf#page=5\",\"A24#5\")","v":"A24#5"},null,"1891.07.07","Einlagen auf Seite 4"]
["A24.07",{"$f":"HYPERLINK('PDF-Dateien'!I1 & \"Auftraege24_1891_1893.pdf#page=7\",\"A24#7\")","v":"A24#7"},null,"1891.07.15","Einlagen auf Seite 6"]
["A24.08",{"$f":"HYPERLINK('PDF-Dateien'!I1 & \"Auftraege24_1891_1893.pdf#page=8\",\"A24#8\")","v":"A24#8"},null,"1891.07.28"]
["A24.09",{"$f":"HYPERLINK('PDF-Dateien'!I1 & \"Auftraege24_1891_1893.pdf#page=9\",\"A24#9\")","v":"A24#9"},null,"1891.09.01"]
["A24.10",{"$f":"HYPERLINK('PDF-Dateien'!I1 & \"Auftraege24_1891_1893.pdf#page=10\",\"A24#10\")","v":"A24#10"},null,"1891.09.15"]
["A24.11",{"$f":"HYPERLINK('PDF-Dateien'!I1 & \"Auftraege24_1891_1893.pdf#page=11\",\"A24#11\")","v":"A24#11"},null,"1891.09.28"]
["A24.12",{"$f":"HYPERLINK('PDF-Dateien'!I1 & \"Auftraege24_1891_1893.pdf#page=12\",\"A24#12\")","v":"A24#12"},null,"1891.11.04"]
["A24.13",{"$f":"HYPERLINK('PDF-Dateien'!I1 & \"Auftraege24_1891_1893.pdf#page=13\",\"A24#13\")","v":"A24#13"},null,"1891.12.03"]
["A24.14",{"$f":"HYPERLINK('PDF-Dateien'!I1 & \"Auftraege24_1891_1893.pdf#page=14\",\"A24#14\")","v":"A24#14"},null,"1892.01.12"]
["A24.15",{"$f":"HYPERLINK('PDF-Dateien'!I1 & \"Auftraege24_1891_1893.pdf#page=15\",\"A24#15\")","v":"A24#15"},null,"1892.01.21"]
["A24.16",{"$f":"HYPERLINK('PDF-Dateien'!I1 & \"Auftraege24_1891_1893.pdf#page=16\",\"A24#16\")","v":"A24#16"},null,"1892.01.22"]
["A24.17",{"$f":"HYPERLINK('PDF-Dateien'!I1 & \"Auftraege24_1891_1893.pdf#page=17\",\"A24#17\")","v":"A24#17"},null,"1892.01.22"]
["A24.18",{"$f":"HYPERLINK('PDF-Dateien'!I1 & \"Auftraege24_1891_1893.pdf#page=18\",\"A24#18\")","v":"A24#18"},null,"1892.02.15"]
["A24.19",{"$f":"HYPERLINK('PDF-Dateien'!I1 & \"Auftraege24_1891_1893.pdf#page=19\",\"A24#19\")","v":"A24#19"},null,"1892.02.29"]
["A24.20",{"$f":"HYPERLINK('PDF-Dateien'!I1 & \"Auftraege24_1891_1893.pdf#page=20\",\"A24#20\")","v":"A24#20"},null,"1892.03.18"]
["A24.21",{"$f":"HYPERLINK('PDF-Dateien'!I1 & \"Auftraege24_1891_1893.pdf#page=21\",\"A24#21\")","v":"A24#21"},null,"1892.04.01"]
["A24.22",{"$f":"HYPERLINK('PDF-Dateien'!I1 & \"Auftraege24_1891_1893.pdf#page=22\",\"A24#22\")","v":"A24#22"},null,"1892.04.22"]
["A24.23",{"$f":"HYPERLINK('PDF-Dateien'!I1 & \"Auftraege24_1891_1893.pdf#page=23\",\"A24#23\")","v":"A24#23"},null,"1892.05.28"]
["A24.24",{"$f":"HYPERLINK('PDF-Dateien'!I1 & \"Auftraege24_1891_1893.pdf#page=24\",\"A24#24\")","v":"A24#24"},null,"1892.06.15"]
["A24.25",{"$f":"HYPERLINK('PDF-Dateien'!I1 & \"Auftraege24_1891_1893.pdf#page=25\",\"A24#25\")","v":"A24#25"},null,"1892.08.27"]
["A24.26",{"$f":"HYPERLINK('PDF-Dateien'!I1 & \"Auftraege24_1891_1893.pdf#page=26\",\"A24#26\")","v":"A24#26"},null,"1892.10.07"]
["A24.27",{"$f":"HYPERLINK('PDF-Dateien'!I1 & \"Auftraege24_1891_1893.pdf#page=27\",\"A24#27\")","v":"A24#27"},null,"1892.12.20"]
["A24.28",{"$f":"HYPERLINK('PDF-Dateien'!I1 & \"Auftraege24_1891_1893.pdf#page=28\",\"A24#28\")","v":"A24#28"},null,"1893.01.17"]
["A24.29",{"$f":"HYPERLINK('PDF-Dateien'!I1 & \"Auftraege24_1891_1893.pdf#page=29\",\"A24#29\")","v":"A24#29"},null,"1893.02.09"]
["A24.30",{"$f":"HYPERLINK('PDF-Dateien'!I1 & \"Auftraege24_1891_1893.pdf#page=30\",\"A24#30\")","v":"A24#30"},null,"1893.03.03"]
["A24.31",{"$f":"HYPERLINK('PDF-Dateien'!I1 & \"Auftraege24_1891_1893.pdf#page=31\",\"A24#31\")","v":"A24#31"},null,"1893.03.29"]
["A24.32",{"$f":"HYPERLINK('PDF-Dateien'!I1 & \"Auftraege24_1891_1893.pdf#page=32\",\"A24#32\")","v":"A24#32"},null,"1893.05.09"]
["A24.33",{"$f":"HYPERLINK('PDF-Dateien'!I1 & \"Auftraege24_1891_1893.pdf#page=33\",\"A24#33\")","v":"A24#33"},null,"1893.06.07"]
["A24.34",{"$f":"HYPERLINK('PDF-Dateien'!I1 & \"Auftraege24_1891_1893.pdf#page=34\",\"A24#34\")","v":"A24#34"},null,"1893.07.04"]
["A26.02",{"$f":"HYPERLINK('PDF-Dateien'!I1 & \"Auftraege26_1895_1898.pdf#page=2\",\"A26#2\")","v":"A26#2"},117,"1895.12.16","Notiz zu Nr.121 auf Seite 3, Verweis auf Nr.131"]
["A26.04",{"$f":"HYPERLINK('PDF-Dateien'!I1 & \"Auftraege26_1895_1898.pdf#page=4\",\"A26#4\")","v":"A26#4"},122,"1896.01.03","Notiz zu Nr.123 auf Seite 3, Verweis auf Nr.136"]
["A26.05",{"$f":"HYPERLINK('PDF-Dateien'!I1 & \"Auftraege26_1895_1898.pdf#page=5\",\"A26#5\")","v":"A26#5"},131,"1896.01.21"]
["A26.06",{"$f":"HYPERLINK('PDF-Dateien'!I1 & \"Auftraege26_1895_1898.pdf#page=6\",\"A26#6\")","v":"A26#6"},139,"1896.02.03"]
["A26.07",{"$f":"HYPERLINK('PDF-Dateien'!I1 & \"Auftraege26_1895_1898.pdf#page=7\",\"A26#7\")","v":"A26#7"},149,"1896.02.18"]
["A26.08",{"$f":"HYPERLINK('PDF-Dateien'!I1 & \"Auftraege26_1895_1898.pdf#page=8\",\"A26#8\")","v":"A26#8"},160,"1896.03.16"]
["A26.09",{"$f":"HYPERLINK('PDF-Dateien'!I1 & \"Auftraege26_1895_1898.pdf#page=9\",\"A26#9\")","v":"A26#9"},172,"1896.03.26"]
["A26.11",{"$f":"HYPERLINK('PDF-Dateien'!I1 & \"Auftraege26_1895_1898.pdf#page=11\",\"A26#11\")","v":"A26#11"},187,"1896.04.15","Notiz zu Nr.193 auf Seite 10"]
["A26.12",{"$f":"HYPERLINK('PDF-Dateien'!I1 & \"Auftraege26_1895_1898.pdf#page=12\",\"A26#12\")","v":"A26#12"},196,"1896.04.27"]
["A26.13",{"$f":"HYPERLINK('PDF-Dateien'!I1 & \"Auftraege26_1895_1898.pdf#page=13\",\"A26#13\")","v":"A26#13"},212,"1896.05.16"]
["A26.14",{"$f":"HYPERLINK('PDF-Dateien'!I1 & \"Auftraege26_1895_1898.pdf#page=14\",\"A26#14\")","v":"A26#14"},224,"1896.06.08"]
["A26.15",{"$f":"HYPERLINK('PDF-Dateien'!I1 & \"Auftraege26_1895_1898.pdf#page=15\",\"A26#15\")","v":"A26#15"},238,"1896.08.10"]
["A26.17",{"$f":"HYPERLINK('PDF-Dateien'!I1 & \"Auftraege26_1895_1898.pdf#page=17\",\"A26#17\")","v":"A26#17"},251,"1896.09.07","Notiz zu Nr.262 auf Seite 16, Auftrag Nr.193"]
["A26.18",{"$f":"HYPERLINK('PDF-Dateien'!I1 & \"Auftraege26_1895_1898.pdf#page=18\",\"A26#18\")","v":"A26#18"},266,"1896.09.30"]
["A26.19",{"$f":"HYPERLINK('PDF-Dateien'!I1 & \"Auftraege26_1895_1898.pdf#page=19\",\"A26#19\")","v":"A26#19"},279,"1896.11.26"]
["A26.20",{"$f":"HYPERLINK('PDF-Dateien'!I1 & \"Auftraege26_1895_1898.pdf#page=20\",\"A26#20\")","v":"A26#20"},291,"1896.12.16"]
["A26.21",{"$f":"HYPERLINK('PDF-Dateien'!I1 & \"Auftraege26_1895_1898.pdf#page=21\",\"A26#21\")","v":"A26#21"},297,"1897.01.12"]
["A26.22",{"$f":"HYPERLINK('PDF-Dateien'!I1 & \"Auftraege26_1895_1898.pdf#page=22\",\"A26#22\")","v":"A26#22"},307,"1897.01.28"]
["A26.23",{"$f":"HYPERLINK('PDF-Dateien'!I1 & \"Auftraege26_1895_1898.pdf#page=23\",\"A26#23\")","v":"A26#23"},319,"1897.02.13"]
["A26.24",{"$f":"HYPERLINK('PDF-Dateien'!I1 & \"Auftraege26_1895_1898.pdf#page=24\",\"A26#24\")","v":"A26#24"},330,"1897.03.03"]
["A26.25",{"$f":"HYPERLINK('PDF-Dateien'!I1 & \"Auftraege26_1895_1898.pdf#page=25\",\"A26#25\")","v":"A26#25"},344,"1897.03.15"]
["A26.27",{"$f":"HYPERLINK('PDF-Dateien'!I1 & \"Auftraege26_1895_1898.pdf#page=27\",\"A26#27\")","v":"A26#27"},357,"1897.03.30","Notiz zu Nr.131 auf Seite 26, Auftrag Nr.357"]
["A26.28",{"$f":"HYPERLINK('PDF-Dateien'!I1 & \"Auftraege26_1895_1898.pdf#page=28\",\"A26#28\")","v":"A26#28"},366,"1897.04.08"]
["A26.29",{"$f":"HYPERLINK('PDF-Dateien'!I1 & \"Auftraege26_1895_1898.pdf#page=29\",\"A26#29\")","v":"A26#29"},375,"1897.04.23"]
["A26.30",{"$f":"HYPERLINK('PDF-Dateien'!I1 & \"Auftraege26_1895_1898.pdf#page=30\",\"A26#30\")","v":"A26#30"},386,"1897.05.17"]
["A26.31",{"$f":"HYPERLINK('PDF-Dateien'!I1 & \"Auftraege26_1895_1898.pdf#page=31\",\"A26#31\")","v":"A26#31"},401,"1897.06.14"]
["A26.32",{"$f":"HYPERLINK('PDF-Dateien'!I1 & \"Auftraege26_1895_1898.pdf#page=32\",\"A26#32\")","v":"A26#32"},412,"1897.06.23"]
["A26.33",{"$f":"HYPERLINK('PDF-Dateien'!I1 & \"Auftraege26_1895_1898.pdf#page=33\",\"A26#33\")","v":"A26#33"},421,"1897.07.06"]
["A26.34",{"$f":"HYPERLINK('PDF-Dateien'!I1 & \"Auftraege26_1895_1898.pdf#page=34\",\"A26#34\")","v":"A26#34"},425,"1897.07.13"]
["A26.35",{"$f":"HYPERLINK('PDF-Dateien'!I1 & \"Auftraege26_1895_1898.pdf#page=35\",\"A26#35\")","v":"A26#35"},435,"1897.08.06"]
["A26.36",{"$f":"HYPERLINK('PDF-Dateien'!I1 & \"Auftraege26_1895_1898.pdf#page=36\",\"A26#36\")","v":"A26#36"},439,"1897.08.07"]
["A26.37",{"$f":"HYPERLINK('PDF-Dateien'!I1 & \"Auftraege26_1895_1898.pdf#page=37\",\"A26#37\")","v":"A26#37"},448,"1897.08.14"]
["A26.38",{"$f":"HYPERLINK('PDF-Dateien'!I1 & \"Auftraege26_1895_1898.pdf#page=38\",\"A26#38\")","v":"A26#38"},459,"1897.08.27"]
["A26.39",{"$f":"HYPERLINK('PDF-Dateien'!I1 & \"Auftraege26_1895_1898.pdf#page=39\",\"A26#39\")","v":"A26#39"},473,"1897.09.29"]
["A26.40",{"$f":"HYPERLINK('PDF-Dateien'!I1 & \"Auftraege26_1895_1898.pdf#page=40\",\"A26#40\")","v":"A26#40"},479,"1897.10.05"]
["A26.41",{"$f":"HYPERLINK('PDF-Dateien'!I1 & \"Auftraege26_1895_1898.pdf#page=41\",\"A26#41\")","v":"A26#41"},487,"1897.11.03"]
["A26.42",{"$f":"HYPERLINK('PDF-Dateien'!I1 & \"Auftraege26_1895_1898.pdf#page=42\",\"A26#42\")","v":"A26#42"},494,"1897.11.23"]
["A26.43",{"$f":"HYPERLINK('PDF-Dateien'!I1 & \"Auftraege26_1895_1898.pdf#page=43\",\"A26#43\")","v":"A26#43"},507,"1898.01.05"]
["A26.44",{"$f":"HYPERLINK('PDF-Dateien'!I1 & \"Auftraege26_1895_1898.pdf#page=44\",\"A26#44\")","v":"A26#44"},516,"1898.01.17"]
["A26.45",{"$f":"HYPERLINK('PDF-Dateien'!I1 & \"Auftraege26_1895_1898.pdf#page=45\",\"A26#45\")","v":"A26#45"},528,"1898.01.27","Übertrag auf Seite 46"]
["A27.02",{"$f":"HYPERLINK('PDF-Dateien'!I1 & \"Auftraege27_1898_1899.pdf#page=2\",\"A27#2\")","v":"A27#2"},531,"1898.01.28"]
["A27.03",{"$f":"HYPERLINK('PDF-Dateien'!I1 & \"Auftraege27_1898_1899.pdf#page=3\",\"A27#3\")","v":"A27#3"},535,"1898.02.03"]
["A27.04",{"$f":"HYPERLINK('PDF-Dateien'!I1 & \"Auftraege27_1898_1899.pdf#page=4\",\"A27#4\")","v":"A27#4"},544,"1898.02.05"]
["A27.05",{"$f":"HYPERLINK('PDF-Dateien'!I1 & \"Auftraege27_1898_1899.pdf#page=5\",\"A27#5\")","v":"A27#5"},549,"1898.02.11"]
["A27.06",{"$f":"HYPERLINK('PDF-Dateien'!I1 & \"Auftraege27_1898_1899.pdf#page=6\",\"A27#6\")","v":"A27#6"},553,"1898.02.24"]
["A27.07",{"$f":"HYPERLINK('PDF-Dateien'!I1 & \"Auftraege27_1898_1899.pdf#page=7\",\"A27#7\")","v":"A27#7"},564,"1898.02.27"]
["A27.08",{"$f":"HYPERLINK('PDF-Dateien'!I1 & \"Auftraege27_1898_1899.pdf#page=8\",\"A27#8\")","v":"A27#8"},578,"1898.03.23"]
["A27.09",{"$f":"HYPERLINK('PDF-Dateien'!I1 & \"Auftraege27_1898_1899.pdf#page=9\",\"A27#9\")","v":"A27#9"},588,"1898.04.11"]
["A27.10",{"$f":"HYPERLINK('PDF-Dateien'!I1 & \"Auftraege27_1898_1899.pdf#page=10\",\"A27#10\")","v":"A27#10"},597,"1898.04.22"]
["A27.11",{"$f":"HYPERLINK('PDF-Dateien'!I1 & \"Auftraege27_1898_1899.pdf#page=11\",\"A27#11\")","v":"A27#11"},609,"1898.05.12"]
["A27.12",{"$f":"HYPERLINK('PDF-Dateien'!I1 & \"Auftraege27_1898_1899.pdf#page=12\",\"A27#12\")","v":"A27#12"},618,"1898.05.30","Wechsel Nr.627 -> Nr.16'335"]
["A27.13",{"$f":"HYPERLINK('PDF-Dateien'!I1 & \"Auftraege27_1898_1899.pdf#page=13\",\"A27#13\")","v":"A27#13"},16339,"1898.06.23"]
["A27.14",{"$f":"HYPERLINK('PDF-Dateien'!I1 & \"Auftraege27_1898_1899.pdf#page=14\",\"A27#14\")","v":"A27#14"},16351,"1898.07.09"]
["A27.15",{"$f":"HYPERLINK('PDF-Dateien'!I1 & \"Auftraege27_1898_1899.pdf#page=15\",\"A27#15\")","v":"A27#15"},16362,"1898.07.13"]
["A27.17",{"$f":"HYPERLINK('PDF-Dateien'!I1 & \"Auftraege27_1898_1899.pdf#page=17\",\"A27#17\")","v":"A27#17"},16374,"1898.07.22","Einlage Seite 16: Simplon Tunnel"]
["A27.18",{"$f":"HYPERLINK('PDF-Dateien'!I1 & \"Auftraege27_1898_1899.pdf#page=18\",\"A27#18\")","v":"A27#18"},16410,"1898.07.27"]
["A27.20",{"$f":"HYPERLINK('PDF-Dateien'!I1 & \"Auftraege27_1898_1899.pdf#page=20\",\"A27#20\")","v":"A27#20"},16424,"1898.09.12","Einlage Seite 19: Simplon Tunnel"]
["A27.21",{"$f":"HYPERLINK('PDF-Dateien'!I1 & \"Auftraege27_1898_1899.pdf#page=21\",\"A27#21\")","v":"A27#21"},16434,"1898.09.22"]
["A27.22",{"$f":"HYPERLINK('PDF-Dateien'!I1 & \"Auftraege27_1898_1899.pdf#page=22\",\"A27#22\")","v":"A27#22"},16453,"1898.10.24"]
["A27.23",{"$f":"HYPERLINK('PDF-Dateien'!I1 & \"Auftraege27_1898_1899.pdf#page=23\",\"A27#23\")","v":"A27#23"},16482,"1898.11.22"]
["A27.24",{"$f":"HYPERLINK('PDF-Dateien'!I1 & \"Auftraege27_1898_1899.pdf#page=24\",\"A27#24\")","v":"A27#24"},16496,"1898.11.24"]
["A27.26",{"$f":"HYPERLINK('PDF-Dateien'!I1 & \"Auftraege27_1898_1899.pdf#page=26\",\"A27#26\")","v":"A27#26"},16505,"1898.12.02","Notiz auf Seite 25: Fakturen für Polytechnikum"]
["A27.27",{"$f":"HYPERLINK('PDF-Dateien'!I1 & \"Auftraege27_1898_1899.pdf#page=27\",\"A27#27\")","v":"A27#27"},16508,"1898.12.15"]
["A27.28",{"$f":"HYPERLINK('PDF-Dateien'!I1 & \"Auftraege27_1898_1899.pdf#page=28\",\"A27#28\")","v":"A27#28"},16592,"1899.01.05"]
["A27.29",{"$f":"HYPERLINK('PDF-Dateien'!I1 & \"Auftraege27_1898_1899.pdf#page=29\",\"A27#29\")","v":"A27#29"},16615,"1899.01.15"]
["A27.31",{"$f":"HYPERLINK('PDF-Dateien'!I1 & \"Auftraege27_1898_1899.pdf#page=31\",\"A27#31\")","v":"A27#31"},16626,"1899.02.01","Einlage Seite 30 zu Nr.16'643"]
["A27.32",{"$f":"HYPERLINK('PDF-Dateien'!I1 & \"Auftraege27_1898_1899.pdf#page=32\",\"A27#32\")","v":"A27#32"},16646,"1899.02.20"]
["A28.02",{"$f":"HYPERLINK('PDF-Dateien'!I1 & \"Auftraege28_1899_1900.pdf#page=2\",\"A28#2\")","v":"A28#2"},16652,"1899.02.23"]
["A28.03",{"$f":"HYPERLINK('PDF-Dateien'!I1 & \"Auftraege28_1899_1900.pdf#page=3\",\"A28#3\")","v":"A28#3"},16658,"1899.03.10"]
["A28.04",{"$f":"HYPERLINK('PDF-Dateien'!I1 & \"Auftraege28_1899_1900.pdf#page=4\",\"A28#4\")","v":"A28#4"},16670,"1899.03.11"]
["A28.05",{"$f":"HYPERLINK('PDF-Dateien'!I1 & \"Auftraege28_1899_1900.pdf#page=5\",\"A28#5\")","v":"A28#5"},16687,"1899.03.23"]
["A28.06",{"$f":"HYPERLINK('PDF-Dateien'!I1 & \"Auftraege28_1899_1900.pdf#page=6\",\"A28#6\")","v":"A28#6"},16697,"1899.04.04"]
["A28.07",{"$f":"HYPERLINK('PDF-Dateien'!I1 & \"Auftraege28_1899_1900.pdf#page=7\",\"A28#7\")","v":"A28#7"},16713,"1899.04.21"]
["A28.08",{"$f":"HYPERLINK('PDF-Dateien'!I1 & \"Auftraege28_1899_1900.pdf#page=8\",\"A28#8\")","v":"A28#8"},16725,"1899.05.08"]
["A28.09",{"$f":"HYPERLINK('PDF-Dateien'!I1 & \"Auftraege28_1899_1900.pdf#page=9\",\"A28#9\")","v":"A28#9"},16734,"1899.05.24"]
["A28.10",{"$f":"HYPERLINK('PDF-Dateien'!I1 & \"Auftraege28_1899_1900.pdf#page=10\",\"A28#10\")","v":"A28#10"},16740,"1899.06.17"]
["A28.12",{"$f":"HYPERLINK('PDF-Dateien'!I1 & \"Auftraege28_1899_1900.pdf#page=12\",\"A28#12\")","v":"A28#12"},16751,"1899.06.26"]
["A28.13",{"$f":"HYPERLINK('PDF-Dateien'!I1 & \"Auftraege28_1899_1900.pdf#page=13\",\"A28#13\")","v":"A28#13"},16763,"1899.07.26"]
["A28.14",{"$f":"HYPERLINK('PDF-Dateien'!I1 & \"Auftraege28_1899_1900.pdf#page=14\",\"A28#14\")","v":"A28#14"},16774,"1899.008.22"]
["A28.15",{"$f":"HYPERLINK('PDF-Dateien'!I1 & \"Auftraege28_1899_1900.pdf#page=15\",\"A28#15\")","v":"A28#15"},16782,"1899.09.13","Siehe Seite 16 für die Kleber"]
["A28.17",{"$f":"HYPERLINK('PDF-Dateien'!I1 & \"Auftraege28_1899_1900.pdf#page=17\",\"A28#17\")","v":"A28#17"},16794,"1899.09.26"]
["A28.18",{"$f":"HYPERLINK('PDF-Dateien'!I1 & \"Auftraege28_1899_1900.pdf#page=18\",\"A28#18\")","v":"A28#18"},16844,"1899.11.22"]
["A28.19",{"$f":"HYPERLINK('PDF-Dateien'!I1 & \"Auftraege28_1899_1900.pdf#page=19\",\"A28#19\")","v":"A28#19"},16853,"1899.12.19"]
["A28.20",{"$f":"HYPERLINK('PDF-Dateien'!I1 & \"Auftraege28_1899_1900.pdf#page=20\",\"A28#20\")","v":"A28#20"},16864,"1900-03-02"]
["A28.21",{"$f":"HYPERLINK('PDF-Dateien'!I1 & \"Auftraege28_1899_1900.pdf#page=21\",\"A28#21\")","v":"A28#21"},16881,"1900-01-14"]
["A28.22",{"$f":"HYPERLINK('PDF-Dateien'!I1 & \"Auftraege28_1899_1900.pdf#page=22\",\"A28#22\")","v":"A28#22"},16893,"1900-01-22","Einlage auf Seite 23"]
["A28.24",{"$f":"HYPERLINK('PDF-Dateien'!I1 & \"Auftraege28_1899_1900.pdf#page=24\",\"A28#24\")","v":"A28#24"},16902,"1900-02-24"]
["A28.25",{"$f":"HYPERLINK('PDF-Dateien'!I1 & \"Auftraege28_1899_1900.pdf#page=25\",\"A28#25\")","v":"A28#25"},16913,"1900-03-13"]
["A28.26",{"$f":"HYPERLINK('PDF-Dateien'!I1 & \"Auftraege28_1899_1900.pdf#page=26\",\"A28#26\")","v":"A28#26"},16926,"1900-03-30"]
["A28.27",{"$f":"HYPERLINK('PDF-Dateien'!I1 & \"Auftraege28_1899_1900.pdf#page=27\",\"A28#27\")","v":"A28#27"},16938,"1900-04-14","Einlagen auf Seite 28"]
["A28.29",{"$f":"HYPERLINK('PDF-Dateien'!I1 & \"Auftraege28_1899_1900.pdf#page=29\",\"A28#29\")","v":"A28#29"},16953,"1900-05-01"]
["A28.30",{"$f":"HYPERLINK('PDF-Dateien'!I1 & \"Auftraege28_1899_1900.pdf#page=30\",\"A28#30\")","v":"A28#30"},16964,"1900-06-12"]
["A28.31",{"$f":"HYPERLINK('PDF-Dateien'!I1 & \"Auftraege28_1899_1900.pdf#page=31\",\"A28#31\")","v":"A28#31"},16974,"1900-07-02"]
["A28.32",{"$f":"HYPERLINK('PDF-Dateien'!I1 & \"Auftraege28_1899_1900.pdf#page=32\",\"A28#32\")","v":"A28#32"},16984,"1900-07-21"]
["A28.33",{"$f":"HYPERLINK('PDF-Dateien'!I1 & \"Auftraege28_1899_1900.pdf#page=33\",\"A28#33\")","v":"A28#33"},16992,"1900-08-02"]
["A28.34",{"$f":"HYPERLINK('PDF-Dateien'!I1 & \"Auftraege28_1899_1900.pdf#page=34\",\"A28#34\")","v":"A28#34"},17001,"1900-08-23"]
["A28.35",{"$f":"HYPERLINK('PDF-Dateien'!I1 & \"Auftraege28_1899_1900.pdf#page=35\",\"A28#35\")","v":"A28#35"},17011,"1900-09-05"]
["A28.36",{"$f":"HYPERLINK('PDF-Dateien'!I1 & \"Auftraege28_1899_1900.pdf#page=36\",\"A28#36\")","v":"A28#36"},17035,"1900-09-26"]
["A29.02",{"$f":"HYPERLINK('PDF-Dateien'!I1 & \"Auftraege29_1900_1902.pdf#page=2\",\"A29#2\")","v":"A29#2"},17058,"1900-10-25"]
["A29.03",{"$f":"HYPERLINK('PDF-Dateien'!I1 & \"Auftraege29_1900_1902.pdf#page=3\",\"A29#3\")","v":"A29#3"}]
["A29.04",{"$f":"HYPERLINK('PDF-Dateien'!I1 & \"Auftraege29_1900_1902.pdf#page=4\",\"A29#4\")","v":"A29#4"}]
["A29.05",{"$f":"HYPERLINK('PDF-Dateien'!I1 & \"Auftraege29_1900_1902.pdf#page=5\",\"A29#5\")","v":"A29#5"}]
["A29.06",{"$f":"HYPERLINK('PDF-Dateien'!I1 & \"Auftraege29_1900_1902.pdf#page=6\",\"A29#6\")","v":"A29#6"}]
["A29.07",{"$f":"HYPERLINK('PDF-Dateien'!I1 & \"Auftraege29_1900_1902.pdf#page=7\",\"A29#7\")","v":"A29#7"}]
["A29.08",{"$f":"HYPERLINK('PDF-Dateien'!I1 & \"Auftraege29_1900_1902.pdf#page=8\",\"A29#8\")","v":"A29#8"}]
["A29.09",{"$f":"HYPERLINK('PDF-Dateien'!I1 & \"Auftraege29_1900_1902.pdf#page=9\",\"A29#9\")","v":"A29#9"}]
["A29.10",{"$f":"HYPERLINK('PDF-Dateien'!I1 & \"Auftraege29_1900_1902.pdf#page=10\",\"A29#10\")","v":"A29#10"}]
["A29.11",{"$f":"HYPERLINK('PDF-Dateien'!I1 & \"Auftraege29_1900_1902.pdf#page=11\",\"A29#11\")","v":"A29#11"}]
["A29.12",{"$f":"HYPERLINK('PDF-Dateien'!I1 & \"Auftraege29_1900_1902.pdf#page=12\",\"A29#12\")","v":"A29#12"}]
["A29.13",{"$f":"HYPERLINK('PDF-Dateien'!I1 & \"Auftraege29_1900_1902.pdf#page=13\",\"A29#13\")","v":"A29#13"}]
["A29.14",{"$f":"HYPERLINK('PDF-Dateien'!I1 & \"Auftraege29_1900_1902.pdf#page=14\",\"A29#14\")","v":"A29#14"}]
["A29.15",{"$f":"HYPERLINK('PDF-Dateien'!I1 & \"Auftraege29_1900_1902.pdf#page=15\",\"A29#15\")","v":"A29#15"}]
["A29.16",{"$f":"HYPERLINK('PDF-Dateien'!I1 & \"Auftraege29_1900_1902.pdf#page=16\",\"A29#16\")","v":"A29#16"},null,null,"Siehe Seite 17 für den Kleber"]
["A29.18",{"$f":"HYPERLINK('PDF-Dateien'!I1 & \"Auftraege29_1900_1902.pdf#page=18\",\"A29#18\")","v":"A29#18"}]
["A29.19",{"$f":"HYPERLINK('PDF-Dateien'!I1 & \"Auftraege29_1900_1902.pdf#page=19\",\"A29#19\")","v":"A29#19"}]
["A29.20",{"$f":"HYPERLINK('PDF-Dateien'!I1 & \"Auftraege29_1900_1902.pdf#page=20\",\"A29#20\")","v":"A29#20"}]
["A29.22",{"$f":"HYPERLINK('PDF-Dateien'!I1 & \"Auftraege29_1900_1902.pdf#page=22\",\"A29#22\")","v":"A29#22"},null,null,"Einlage auf Seite 21"]
["A29.23",{"$f":"HYPERLINK('PDF-Dateien'!I1 & \"Auftraege29_1900_1902.pdf#page=23\",\"A29#23\")","v":"A29#23"}]
["A29.24",{"$f":"HYPERLINK('PDF-Dateien'!I1 & \"Auftraege29_1900_1902.pdf#page=24\",\"A29#24\")","v":"A29#24"}]
["A29.25",{"$f":"HYPERLINK('PDF-Dateien'!I1 & \"Auftraege29_1900_1902.pdf#page=25\",\"A29#25\")","v":"A29#25"}]
["A29.26",{"$f":"HYPERLINK('PDF-Dateien'!I1 & \"Auftraege29_1900_1902.pdf#page=26\",\"A29#26\")","v":"A29#26"}]
["A29.27",{"$f":"HYPERLINK('PDF-Dateien'!I1 & \"Auftraege29_1900_1902.pdf#page=27\",\"A29#27\")","v":"A29#27"}]
["A29.28",{"$f":"HYPERLINK('PDF-Dateien'!I1 & \"Auftraege29_1900_1902.pdf#page=28\",\"A29#28\")","v":"A29#28"}]
["A29.29",{"$f":"HYPERLINK('PDF-Dateien'!I1 & \"Auftraege29_1900_1902.pdf#page=29\",\"A29#29\")","v":"A29#29"}]
["A29.30",{"$f":"HYPERLINK('PDF-Dateien'!I1 & \"Auftraege29_1900_1902.pdf#page=30\",\"A29#30\")","v":"A29#30"},null,null,"Siehe Seite 31 für den Kleber"]
["A29.32",{"$f":"HYPERLINK('PDF-Dateien'!I1 & \"Auftraege29_1900_1902.pdf#page=32\",\"A29#32\")","v":"A29#32"}]
["A29.33",{"$f":"HYPERLINK('PDF-Dateien'!I1 & \"Auftraege29_1900_1902.pdf#page=33\",\"A29#33\")","v":"A29#33"}]
["A30.02",{"$f":"HYPERLINK('PDF-Dateien'!I1 & \"Auftraege30_1902_1903.pdf#page=2\",\"A30#2\")","v":"A30#2"},17565,"1902-04-12"]
["A30.03",{"$f":"HYPERLINK('PDF-Dateien'!I1 & \"Auftraege30_1902_1903.pdf#page=3\",\"A30#3\")","v":"A30#3"}]
["A30.04",{"$f":"HYPERLINK('PDF-Dateien'!I1 & \"Auftraege30_1902_1903.pdf#page=4\",\"A30#4\")","v":"A30#4"},null,null,"Siehe Seite 5 für den Kleber"]
["A30.07",{"$f":"HYPERLINK('PDF-Dateien'!I1 & \"Auftraege30_1902_1903.pdf#page=7\",\"A30#7\")","v":"A30#7"},null,null,"Einlage auf Seite 6"]
["A30.08",{"$f":"HYPERLINK('PDF-Dateien'!I1 & \"Auftraege30_1902_1903.pdf#page=8\",\"A30#8\")","v":"A30#8"}]
["A30.09",{"$f":"HYPERLINK('PDF-Dateien'!I1 & \"Auftraege30_1902_1903.pdf#page=9\",\"A30#9\")","v":"A30#9"}]
["A30.10",{"$f":"HYPERLINK('PDF-Dateien'!I1 & \"Auftraege30_1902_1903.pdf#page=10\",\"A30#10\")","v":"A30#10"}]
["A30.11",{"$f":"HYPERLINK('PDF-Dateien'!I1 & \"Auftraege30_1902_1903.pdf#page=11\",\"A30#11\")","v":"A30#11"}]
["A30.12",{"$f":"HYPERLINK('PDF-Dateien'!I1 & \"Auftraege30_1902_1903.pdf#page=12\",\"A30#12\")","v":"A30#12"}]
["A30.13",{"$f":"HYPERLINK('PDF-Dateien'!I1 & \"Auftraege30_1902_1903.pdf#page=13\",\"A30#13\")","v":"A30#13"}]
["A30.14",{"$f":"HYPERLINK('PDF-Dateien'!I1 & \"Auftraege30_1902_1903.pdf#page=14\",\"A30#14\")","v":"A30#14"}]
["A30.15",{"$f":"HYPERLINK('PDF-Dateien'!I1 & \"Auftraege30_1902_1903.pdf#page=15\",\"A30#15\")","v":"A30#15"}]
["A30.16",{"$f":"HYPERLINK('PDF-Dateien'!I1 & \"Auftraege30_1902_1903.pdf#page=16\",\"A30#16\")","v":"A30#16"}]
["A30.18",{"$f":"HYPERLINK('PDF-Dateien'!I1 & \"Auftraege30_1902_1903.pdf#page=18\",\"A30#18\")","v":"A30#18"},null,null,"Einlage auf Seite 17"]
["A30.19",{"$f":"HYPERLINK('PDF-Dateien'!I1 & \"Auftraege30_1902_1903.pdf#page=19\",\"A30#19\")","v":"A30#19"},null,null,"Siehe Seite 20 für den Kleber"]
["A30.21",{"$f":"HYPERLINK('PDF-Dateien'!I1 & \"Auftraege30_1902_1903.pdf#page=21\",\"A30#21\")","v":"A30#21"}]
["A30.22",{"$f":"HYPERLINK('PDF-Dateien'!I1 & \"Auftraege30_1902_1903.pdf#page=22\",\"A30#22\")","v":"A30#22"}]
["A30.23",{"$f":"HYPERLINK('PDF-Dateien'!I1 & \"Auftraege30_1902_1903.pdf#page=23\",\"A30#23\")","v":"A30#23"}]
["A30.24",{"$f":"HYPERLINK('PDF-Dateien'!I1 & \"Auftraege30_1902_1903.pdf#page=24\",\"A30#24\")","v":"A30#24"}]
["A30.25",{"$f":"HYPERLINK('PDF-Dateien'!I1 & \"Auftraege30_1902_1903.pdf#page=25\",\"A30#25\")","v":"A30#25"},null,null,"Siehe Seite 26 für den Kleber"]
["A30.27",{"$f":"HYPERLINK('PDF-Dateien'!I1 & \"Auftraege30_1902_1903.pdf#page=27\",\"A30#27\")","v":"A30#27"}]
["A30.29",{"$f":"HYPERLINK('PDF-Dateien'!I1 & \"Auftraege30_1902_1903.pdf#page=29\",\"A30#29\")","v":"A30#29"},null,null,"Einlage auf Seite 28"]
["A30.30",{"$f":"HYPERLINK('PDF-Dateien'!I1 & \"Auftraege30_1902_1903.pdf#page=30\",\"A30#30\")","v":"A30#30"}]
["A30.31",{"$f":"HYPERLINK('PDF-Dateien'!I1 & \"Auftraege30_1902_1903.pdf#page=31\",\"A30#31\")","v":"A30#31"}]
["A30.32",{"$f":"HYPERLINK('PDF-Dateien'!I1 & \"Auftraege30_1902_1903.pdf#page=32\",\"A30#32\")","v":"A30#32"},null,null,"Siehe Seite 33 für den Kleber"]
["A30.35",{"$f":"HYPERLINK('PDF-Dateien'!I1 & \"Auftraege30_1902_1903.pdf#page=35\",\"A30#35\")","v":"A30#35"},null,null,"Notiz auf Seite 34"]
["A30.37",{"$f":"HYPERLINK('PDF-Dateien'!I1 & \"Auftraege30_1902_1903.pdf#page=37\",\"A30#37\")","v":"A30#37"},null,null,"Einlage auf Seite 36"]
["A30.38",{"$f":"HYPERLINK('PDF-Dateien'!I1 & \"Auftraege30_1902_1903.pdf#page=38\",\"A30#38\")","v":"A30#38"}]
["A30.39",{"$f":"HYPERLINK('PDF-Dateien'!I1 & \"Auftraege30_1902_1903.pdf#page=39\",\"A30#39\")","v":"A30#39"}]
["A30.40",{"$f":"HYPERLINK('PDF-Dateien'!I1 & \"Auftraege30_1902_1903.pdf#page=40\",\"A30#40\")","v":"A30#40"}]
["A30.41",{"$f":"HYPERLINK('PDF-Dateien'!I1 & \"Auftraege30_1902_1903.pdf#page=41\",\"A30#41\")","v":"A30#41"}]
["A30.42",{"$f":"HYPERLINK('PDF-Dateien'!I1 & \"Auftraege30_1902_1903.pdf#page=42\",\"A30#42\")","v":"A30#42"}]
["A31.02",{"$f":"HYPERLINK('PDF-Dateien'!I1 & \"Auftraege31_1903_1905.pdf#page=2\",\"A31#2\")","v":"A31#2"},17991,"1903-08-01"]
["A31.03",{"$f":"HYPERLINK('PDF-Dateien'!I1 & \"Auftraege31_1903_1905.pdf#page=3\",\"A31#3\")","v":"A31#3"}]
["A31.04",{"$f":"HYPERLINK('PDF-Dateien'!I1 & \"Auftraege31_1903_1905.pdf#page=4\",\"A31#4\")","v":"A31#4"}]
["A31.05",{"$f":"HYPERLINK('PDF-Dateien'!I1 & \"Auftraege31_1903_1905.pdf#page=5\",\"A31#5\")","v":"A31#5"}]
["A31.06",{"$f":"HYPERLINK('PDF-Dateien'!I1 & \"Auftraege31_1903_1905.pdf#page=6\",\"A31#6\")","v":"A31#6"}]
["A31.07",{"$f":"HYPERLINK('PDF-Dateien'!I1 & \"Auftraege31_1903_1905.pdf#page=7\",\"A31#7\")","v":"A31#7"}]
["A31.08",{"$f":"HYPERLINK('PDF-Dateien'!I1 & \"Auftraege31_1903_1905.pdf#page=8\",\"A31#8\")","v":"A31#8"}]
["A31.09",{"$f":"HYPERLINK('PDF-Dateien'!I1 & \"Auftraege31_1903_1905.pdf#page=9\",\"A31#9\")","v":"A31#9"}]
["A31.10",{"$f":"HYPERLINK('PDF-Dateien'!I1 & \"Auftraege31_1903_1905.pdf#page=10\",\"A31#10\")","v":"A31#10"}]
["A31.11",{"$f":"HYPERLINK('PDF-Dateien'!I1 & \"Auftraege31_1903_1905.pdf#page=11\",\"A31#11\")","v":"A31#11"}]
["A31.12",{"$f":"HYPERLINK('PDF-Dateien'!I1 & \"Auftraege31_1903_1905.pdf#page=12\",\"A31#12\")","v":"A31#12"}]
["A31.13",{"$f":"HYPERLINK('PDF-Dateien'!I1 & \"Auftraege31_1903_1905.pdf#page=13\",\"A31#13\")","v":"A31#13"}]
["A31.14",{"$f":"HYPERLINK('PDF-Dateien'!I1 & \"Auftraege31_1903_1905.pdf#page=14\",\"A31#14\")","v":"A31#14"}]
["A31.15",{"$f":"HYPERLINK('PDF-Dateien'!I1 & \"Auftraege31_1903_1905.pdf#page=15\",\"A31#15\")","v":"A31#15"}]
["A31.16",{"$f":"HYPERLINK('PDF-Dateien'!I1 & \"Auftraege31_1903_1905.pdf#page=16\",\"A31#16\")","v":"A31#16"}]
["A31.17",{"$f":"HYPERLINK('PDF-Dateien'!I1 & \"Auftraege31_1903_1905.pdf#page=17\",\"A31#17\")","v":"A31#17"}]
["A31.18",{"$f":"HYPERLINK('PDF-Dateien'!I1 & \"Auftraege31_1903_1905.pdf#page=18\",\"A31#18\")","v":"A31#18"}]
["A31.19",{"$f":"HYPERLINK('PDF-Dateien'!I1 & \"Auftraege31_1903_1905.pdf#page=19\",\"A31#19\")","v":"A31#19"}]
["A31.20",{"$f":"HYPERLINK('PDF-Dateien'!I1 & \"Auftraege31_1903_1905.pdf#page=20\",\"A31#20\")","v":"A31#20"},null,null,"Siehe Seite 21 für den Kleber"]
["A31.22",{"$f":"HYPERLINK('PDF-Dateien'!I1 & \"Auftraege31_1903_1905.pdf#page=22\",\"A31#22\")","v":"A31#22"}]
["A31.23",{"$f":"HYPERLINK('PDF-Dateien'!I1 & \"Auftraege31_1903_1905.pdf#page=23\",\"A31#23\")","v":"A31#23"}]
["A31.25",{"$f":"HYPERLINK('PDF-Dateien'!I1 & \"Auftraege31_1903_1905.pdf#page=25\",\"A31#25\")","v":"A31#25"},null,null,"Einlage auf Seite 24"]
["A31.26",{"$f":"HYPERLINK('PDF-Dateien'!I1 & \"Auftraege31_1903_1905.pdf#page=26\",\"A31#26\")","v":"A31#26"},null,null,"Siehe Seite 27 für den Kleber"]
["A31.28",{"$f":"HYPERLINK('PDF-Dateien'!I1 & \"Auftraege31_1903_1905.pdf#page=28\",\"A31#28\")","v":"A31#28"},null,null,"Siehe Seite 29 für die Kleber"]
["A31.30",{"$f":"HYPERLINK('PDF-Dateien'!I1 & \"Auftraege31_1903_1905.pdf#page=30\",\"A31#30\")","v":"A31#30"}]
["A31.31",{"$f":"HYPERLINK('PDF-Dateien'!I1 & \"Auftraege31_1903_1905.pdf#page=31\",\"A31#31\")","v":"A31#31"}]
["A31.32",{"$f":"HYPERLINK('PDF-Dateien'!I1 & \"Auftraege31_1903_1905.pdf#page=32\",\"A31#32\")","v":"A31#32"}]
["A31.33",{"$f":"HYPERLINK('PDF-Dateien'!I1 & \"Auftraege31_1903_1905.pdf#page=33\",\"A31#33\")","v":"A31#33"}]
["A31.34",{"$f":"HYPERLINK('PDF-Dateien'!I1 & \"Auftraege31_1903_1905.pdf#page=34\",\"A31#34\")","v":"A31#34"}]
["A31.35",{"$f":"HYPERLINK('PDF-Dateien'!I1 & \"Auftraege31_1903_1905.pdf#page=35\",\"A31#35\")","v":"A31#35"},null,null,"Siehe Seiten 36 und 37 für die Kleber"]
["A31.38",{"$f":"HYPERLINK('PDF-Dateien'!I1 & \"Auftraege31_1903_1905.pdf#page=38\",\"A31#38\")","v":"A31#38"}]
["A31.39",{"$f":"HYPERLINK('PDF-Dateien'!I1 & \"Auftraege31_1903_1905.pdf#page=39\",\"A31#39\")","v":"A31#39"}]
["A31.40",{"$f":"HYPERLINK('PDF-Dateien'!I1 & \"Auftraege31_1903_1905.pdf#page=40\",\"A31#40\")","v":"A31#40"}]
["A31.41",{"$f":"HYPERLINK('PDF-Dateien'!I1 & \"Auftraege31_1903_1905.pdf#page=41\",\"A31#41\")","v":"A31#41"}]
["A31.42",{"$f":"HYPERLINK('PDF-Dateien'!I1 & \"Auftraege31_1903_1905.pdf#page=42\",\"A31#42\")","v":"A31#42"}]
["A31.43",{"$f":"HYPERLINK('PDF-Dateien'!I1 & \"Auftraege31_1903_1905.pdf#page=43\",\"A31#43\")","v":"A31#43"}]
["A31.44",{"$f":"HYPERLINK('PDF-Dateien'!I1 & \"Auftraege31_1903_1905.pdf#page=44\",\"A31#44\")","v":"A31#44"}]
["A31.45",{"$f":"HYPERLINK('PDF-Dateien'!I1 & \"Auftraege31_1903_1905.pdf#page=45\",\"A31#45\")","v":"A31#45"}]
["A31.46",{"$f":"HYPERLINK('PDF-Dateien'!I1 & \"Auftraege31_1903_1905.pdf#page=46\",\"A31#46\")","v":"A31#46"}]
["A31.47",{"$f":"HYPERLINK('PDF-Dateien'!I1 & \"Auftraege31_1903_1905.pdf#page=47\",\"A31#47\")","v":"A31#47"},null,null,"Siehe Seite 48 für den Kleber"]
["A31.49",{"$f":"HYPERLINK('PDF-Dateien'!I1 & \"Auftraege31_1903_1905.pdf#page=49\",\"A31#49\")","v":"A31#49"}]
["A31.51",{"$f":"HYPERLINK('PDF-Dateien'!I1 & \"Auftraege31_1903_1905.pdf#page=51\",\"A31#51\")","v":"A31#51"},null,null,"Einlage auf Seite 50"]
["A31.52",{"$f":"HYPERLINK('PDF-Dateien'!I1 & \"Auftraege31_1903_1905.pdf#page=52\",\"A31#52\")","v":"A31#52"}]
["A31.53",{"$f":"HYPERLINK('PDF-Dateien'!I1 & \"Auftraege31_1903_1905.pdf#page=53\",\"A31#53\")","v":"A31#53"}]
["A31.54",{"$f":"HYPERLINK('PDF-Dateien'!I1 & \"Auftraege31_1903_1905.pdf#page=54\",\"A31#54\")","v":"A31#54"}]
["A31.55",{"$f":"HYPERLINK('PDF-Dateien'!I1 & \"Auftraege31_1903_1905.pdf#page=55\",\"A31#55\")","v":"A31#55"}]
["A31.56",{"$f":"HYPERLINK('PDF-Dateien'!I1 & \"Auftraege31_1903_1905.pdf#page=56\",\"A31#56\")","v":"A31#56"}]
["A31.57",{"$f":"HYPERLINK('PDF-Dateien'!I1 & \"Auftraege31_1903_1905.pdf#page=57\",\"A31#57\")","v":"A31#57"}]
["A31.58",{"$f":"HYPERLINK('PDF-Dateien'!I1 & \"Auftraege31_1903_1905.pdf#page=58\",\"A31#58\")","v":"A31#58"}]
["A31.59",{"$f":"HYPERLINK('PDF-Dateien'!I1 & \"Auftraege31_1903_1905.pdf#page=59\",\"A31#59\")","v":"A31#59"}]
["A32.02",{"$f":"HYPERLINK('PDF-Dateien'!I1 & \"Auftraege32_1905_1906.pdf#page=2\",\"A32#2\")","v":"A32#2"},18236,"1905-02-07","Siehe Seite 3 für den Kleber"]
["A32.04",{"$f":"HYPERLINK('PDF-Dateien'!I1 & \"Auftraege32_1905_1906.pdf#page=4\",\"A32#4\")","v":"A32#4"},null,null,"Siehe Seite 5 für den Kleber"]
["A32.06",{"$f":"HYPERLINK('PDF-Dateien'!I1 & \"Auftraege32_1905_1906.pdf#page=6\",\"A32#6\")","v":"A32#6"}]
["A32.07",{"$f":"HYPERLINK('PDF-Dateien'!I1 & \"Auftraege32_1905_1906.pdf#page=7\",\"A32#7\")","v":"A32#7"},null,null,"Siehe Seite 8 für die Kleber"]
["A32.09",{"$f":"HYPERLINK('PDF-Dateien'!I1 & \"Auftraege32_1905_1906.pdf#page=9\",\"A32#9\")","v":"A32#9"}]
["A32.10",{"$f":"HYPERLINK('PDF-Dateien'!I1 & \"Auftraege32_1905_1906.pdf#page=10\",\"A32#10\")","v":"A32#10"}]
["A32.11",{"$f":"HYPERLINK('PDF-Dateien'!I1 & \"Auftraege32_1905_1906.pdf#page=11\",\"A32#11\")","v":"A32#11"}]
["A32.12",{"$f":"HYPERLINK('PDF-Dateien'!I1 & \"Auftraege32_1905_1906.pdf#page=12\",\"A32#12\")","v":"A32#12"}]
["A32.13",{"$f":"HYPERLINK('PDF-Dateien'!I1 & \"Auftraege32_1905_1906.pdf#page=13\",\"A32#13\")","v":"A32#13"}]
["A32.14",{"$f":"HYPERLINK('PDF-Dateien'!I1 & \"Auftraege32_1905_1906.pdf#page=14\",\"A32#14\")","v":"A32#14"}]
["A32.15",{"$f":"HYPERLINK('PDF-Dateien'!I1 & \"Auftraege32_1905_1906.pdf#page=15\",\"A32#15\")","v":"A32#15"}]
["A32.16",{"$f":"HYPERLINK('PDF-Dateien'!I1 & \"Auftraege32_1905_1906.pdf#page=16\",\"A32#16\")","v":"A32#16"}]
["A32.17",{"$f":"HYPERLINK('PDF-Dateien'!I1 & \"Auftraege32_1905_1906.pdf#page=17\",\"A32#17\")","v":"A32#17"}]
["A32.18",{"$f":"HYPERLINK('PDF-Dateien'!I1 & \"Auftraege32_1905_1906.pdf#page=18\",\"A32#18\")","v":"A32#18"}]
["A32.19",{"$f":"HYPERLINK('PDF-Dateien'!I1 & \"Auftraege32_1905_1906.pdf#page=19\",\"A32#19\")","v":"A32#19"}]
["A32.20",{"$f":"HYPERLINK('PDF-Dateien'!I1 & \"Auftraege32_1905_1906.pdf#page=20\",\"A32#20\")","v":"A32#20"}]
["A32.21",{"$f":"HYPERLINK('PDF-Dateien'!I1 & \"Auftraege32_1905_1906.pdf#page=21\",\"A32#21\")","v":"A32#21"},null,null,"Siehe Seite 22 für den Kleber"]
["A32.23",{"$f":"HYPERLINK('PDF-Dateien'!I1 & \"Auftraege32_1905_1906.pdf#page=23\",\"A32#23\")","v":"A32#23"},null,null,"Siehe Seite 24 für die Kleber"]
["A32.25",{"$f":"HYPERLINK('PDF-Dateien'!I1 & \"Auftraege32_1905_1906.pdf#page=25\",\"A32#25\")","v":"A32#25"}]
["A32.26",{"$f":"HYPERLINK('PDF-Dateien'!I1 & \"Auftraege32_1905_1906.pdf#page=26\",\"A32#26\")","v":"A32#26"},null,null,"Siehe Seite 27 für den Kleber"]
["A32.28",{"$f":"HYPERLINK('PDF-Dateien'!I1 & \"Auftraege32_1905_1906.pdf#page=28\",\"A32#28\")","v":"A32#28"}]
["A32.29",{"$f":"HYPERLINK('PDF-Dateien'!I1 & \"Auftraege32_1905_1906.pdf#page=29\",\"A32#29\")","v":"A32#29"}]
["A32.30",{"$f":"HYPERLINK('PDF-Dateien'!I1 & \"Auftraege32_1905_1906.pdf#page=30\",\"A32#30\")","v":"A32#30"}]
["A32.31",{"$f":"HYPERLINK('PDF-Dateien'!I1 & \"Auftraege32_1905_1906.pdf#page=31\",\"A32#31\")","v":"A32#31"}]
["A32.32",{"$f":"HYPERLINK('PDF-Dateien'!I1 & \"Auftraege32_1905_1906.pdf#page=32\",\"A32#32\")","v":"A32#32"}]
["A32.33",{"$f":"HYPERLINK('PDF-Dateien'!I1 & \"Auftraege32_1905_1906.pdf#page=33\",\"A32#33\")","v":"A32#33"}]
["A32.34",{"$f":"HYPERLINK('PDF-Dateien'!I1 & \"Auftraege32_1905_1906.pdf#page=34\",\"A32#34\")","v":"A32#34"}]
["A32.35",{"$f":"HYPERLINK('PDF-Dateien'!I1 & \"Auftraege32_1905_1906.pdf#page=35\",\"A32#35\")","v":"A32#35"}]
["A32.36",{"$f":"HYPERLINK('PDF-Dateien'!I1 & \"Auftraege32_1905_1906.pdf#page=36\",\"A32#36\")","v":"A32#36"}]
["A32.37",{"$f":"HYPERLINK('PDF-Dateien'!I1 & \"Auftraege32_1905_1906.pdf#page=37\",\"A32#37\")","v":"A32#37"}]
["A32.38",{"$f":"HYPERLINK('PDF-Dateien'!I1 & \"Auftraege32_1905_1906.pdf#page=38\",\"A32#38\")","v":"A32#38"}]
["A32.39",{"$f":"HYPERLINK('PDF-Dateien'!I1 & \"Auftraege32_1905_1906.pdf#page=39\",\"A32#39\")","v":"A32#39"}]
["A32.40",{"$f":"HYPERLINK('PDF-Dateien'!I1 & \"Auftraege32_1905_1906.pdf#page=40\",\"A32#40\")","v":"A32#40"},null,null,"Siehe Seite 41 für den Kleber"]
["A32.42",{"$f":"HYPERLINK('PDF-Dateien'!I1 & \"Auftraege32_1905_1906.pdf#page=42\",\"A32#42\")","v":"A32#42"}]
["A32.43",{"$f":"HYPERLINK('PDF-Dateien'!I1 & \"Auftraege32_1905_1906.pdf#page=43\",\"A32#43\")","v":"A32#43"}]
["A32.44",{"$f":"HYPERLINK('PDF-Dateien'!I1 & \"Auftraege32_1905_1906.pdf#page=44\",\"A32#44\")","v":"A32#44"}]
["A32.45",{"$f":"HYPERLINK('PDF-Dateien'!I1 & \"Auftraege32_1905_1906.pdf#page=45\",\"A32#45\")","v":"A32#45"}]
["A32.46",{"$f":"HYPERLINK('PDF-Dateien'!I1 & \"Auftraege32_1905_1906.pdf#page=46\",\"A32#46\")","v":"A32#46"}]
["A32.47",{"$f":"HYPERLINK('PDF-Dateien'!I1 & \"Auftraege32_1905_1906.pdf#page=47\",\"A32#47\")","v":"A32#47"}]
["A32.48",{"$f":"HYPERLINK('PDF-Dateien'!I1 & \"Auftraege32_1905_1906.pdf#page=48\",\"A32#48\")","v":"A32#48"}]
["A32.49",{"$f":"HYPERLINK('PDF-Dateien'!I1 & \"Auftraege32_1905_1906.pdf#page=49\",\"A32#49\")","v":"A32#49"}]
["A32.50",{"$f":"HYPERLINK('PDF-Dateien'!I1 & \"Auftraege32_1905_1906.pdf#page=50\",\"A32#50\")","v":"A32#50"}]
["A32.51",{"$f":"HYPERLINK('PDF-Dateien'!I1 & \"Auftraege32_1905_1906.pdf#page=51\",\"A32#51\")","v":"A32#51"}]
["A32.52",{"$f":"HYPERLINK('PDF-Dateien'!I1 & \"Auftraege32_1905_1906.pdf#page=52\",\"A32#52\")","v":"A32#52"}]
["A32.53",{"$f":"HYPERLINK('PDF-Dateien'!I1 & \"Auftraege32_1905_1906.pdf#page=53\",\"A32#53\")","v":"A32#53"},null,null,"Siehe Seite 54 für den Kleber"]
["A32.55",{"$f":"HYPERLINK('PDF-Dateien'!I1 & \"Auftraege32_1905_1906.pdf#page=55\",\"A32#55\")","v":"A32#55"},null,null,"Siehe Seiten 56 und 57 für den Kleber"]
["A32.58",{"$f":"HYPERLINK('PDF-Dateien'!I1 & \"Auftraege32_1905_1906.pdf#page=58\",\"A32#58\")","v":"A32#58"}]
["A32.59",{"$f":"HYPERLINK('PDF-Dateien'!I1 & \"Auftraege32_1905_1906.pdf#page=59\",\"A32#59\")","v":"A32#59"}]
["A32.60",{"$f":"HYPERLINK('PDF-Dateien'!I1 & \"Auftraege32_1905_1906.pdf#page=60\",\"A32#60\")","v":"A32#60"}]
["A32.61",{"$f":"HYPERLINK('PDF-Dateien'!I1 & \"Auftraege32_1905_1906.pdf#page=61\",\"A32#61\")","v":"A32#61"},null,null,"Siehe Seite 62 für den Kleber"]
["A32.63",{"$f":"HYPERLINK('PDF-Dateien'!I1 & \"Auftraege32_1905_1906.pdf#page=63\",\"A32#63\")","v":"A32#63"},null,null,"Siehe Seite 64 für die Kleber"]
["A32.65",{"$f":"HYPERLINK('PDF-Dateien'!I1 & \"Auftraege32_1905_1906.pdf#page=65\",\"A32#65\")","v":"A32#65"}]
["A32.66",{"$f":"HYPERLINK('PDF-Dateien'!I1 & \"Auftraege32_1905_1906.pdf#page=66\",\"A32#66\")","v":"A32#66"}]
["A32.67",{"$f":"HYPERLINK('PDF-Dateien'!I1 & \"Auftraege32_1905_1906.pdf#page=67\",\"A32#67\")","v":"A32#67"}]
["A32.68",{"$f":"HYPERLINK('PDF-Dateien'!I1 & \"Auftraege32_1905_1906.pdf#page=68\",\"A32#68\")","v":"A32#68"}]
["A32.69",{"$f":"HYPERLINK('PDF-Dateien'!I1 & \"Auftraege32_1905_1906.pdf#page=69\",\"A32#69\")","v":"A32#69"}]
["A32.70",{"$f":"HYPERLINK('PDF-Dateien'!I1 & \"Auftraege32_1905_1906.pdf#page=70\",\"A32#70\")","v":"A32#70"}]
["A32.71",{"$f":"HYPERLINK('PDF-Dateien'!I1 & \"Auftraege32_1905_1906.pdf#page=71\",\"A32#71\")","v":"A32#71"}]
["A32.72",{"$f":"HYPERLINK('PDF-Dateien'!I1 & \"Auftraege32_1905_1906.pdf#page=72\",\"A32#72\")","v":"A32#72"},null,null,"Siehe Seite 73 für den Kleber"]
["A32.74",{"$f":"HYPERLINK('PDF-Dateien'!I1 & \"Auftraege32_1905_1906.pdf#page=74\",\"A32#74\")","v":"A32#74"}]
["A32.75",{"$f":"HYPERLINK('PDF-Dateien'!I1 & \"Auftraege32_1905_1906.pdf#page=75\",\"A32#75\")","v":"A32#75"}]
["A33.02",{"$f":"HYPERLINK('PDF-Dateien'!I1 & \"Auftraege33_1906_1907.pdf#page=2\",\"A33#2\")","v":"A33#2"},18613,"1906-09-27","Kleber noch bearbeiten!"]
["A33.03",{"$f":"HYPERLINK('PDF-Dateien'!I1 & \"Auftraege33_1906_1907.pdf#page=3\",\"A33#3\")","v":"A33#3"}]
["A33.04",{"$f":"HYPERLINK('PDF-Dateien'!I1 & \"Auftraege33_1906_1907.pdf#page=4\",\"A33#4\")","v":"A33#4"}]
["A33.05",{"$f":"HYPERLINK('PDF-Dateien'!I1 & \"Auftraege33_1906_1907.pdf#page=5\",\"A33#5\")","v":"A33#5"}]
["A33.06",{"$f":"HYPERLINK('PDF-Dateien'!I1 & \"Auftraege33_1906_1907.pdf#page=6\",\"A33#6\")","v":"A33#6"}]
["A33.07",{"$f":"HYPERLINK('PDF-Dateien'!I1 & \"Auftraege33_1906_1907.pdf#page=7\",\"A33#7\")","v":"A33#7"}]
["A33.08",{"$f":"HYPERLINK('PDF-Dateien'!I1 & \"Auftraege33_1906_1907.pdf#page=8\",\"A33#8\")","v":"A33#8"}]
["A33.09",{"$f":"HYPERLINK('PDF-Dateien'!I1 & \"Auftraege33_1906_1907.pdf#page=9\",\"A33#9\")","v":"A33#9"}]
["A33.10",{"$f":"HYPERLINK('PDF-Dateien'!I1 & \"Auftraege33_1906_1907.pdf#page=10\",\"A33#10\")","v":"A33#10"}]
["A33.11",{"$f":"HYPERLINK('PDF-Dateien'!I1 & \"Auftraege33_1906_1907.pdf#page=11\",\"A33#11\")","v":"A33#11"}]
["A33.12",{"$f":"HYPERLINK('PDF-Dateien'!I1 & \"Auftraege33_1906_1907.pdf#page=12\",\"A33#12\")","v":"A33#12"}]
["A33.13",{"$f":"HYPERLINK('PDF-Dateien'!I1 & \"Auftraege33_1906_1907.pdf#page=13\",\"A33#13\")","v":"A33#13"}]
["A33.14",{"$f":"HYPERLINK('PDF-Dateien'!I1 & \"Auftraege33_1906_1907.pdf#page=14\",\"A33#14\")","v":"A33#14"}]
["A33.15",{"$f":"HYPERLINK('PDF-Dateien'!I1 & \"Auftraege33_1906_1907.pdf#page=15\",\"A33#15\")","v":"A33#15"}]
["A33.16",{"$f":"HYPERLINK('PDF-Dateien'!I1 & \"Auftraege33_1906_1907.pdf#page=16\",\"A33#16\")","v":"A33#16"}]
["A33.17",{"$f":"HYPERLINK('PDF-Dateien'!I1 & \"Auftraege33_1906_1907.pdf#page=17\",\"A33#17\")","v":"A33#17"}]
["A33.18",{"$f":"HYPERLINK('PDF-Dateien'!I1 & \"Auftraege33_1906_1907.pdf#page=18\",\"A33#18\")","v":"A33#18"}]
["A33.19",{"$f":"HYPERLINK('PDF-Dateien'!I1 & \"Auftraege33_1906_1907.pdf#page=19\",\"A33#19\")","v":"A33#19"}]
["A33.20",{"$f":"HYPERLINK('PDF-Dateien'!I1 & \"Auftraege33_1906_1907.pdf#page=20\",\"A33#20\")","v":"A33#20"}]
["A33.21",{"$f":"HYPERLINK('PDF-Dateien'!I1 & \"Auftraege33_1906_1907.pdf#page=21\",\"A33#21\")","v":"A33#21"}]
["A33.22",{"$f":"HYPERLINK('PDF-Dateien'!I1 & \"Auftraege33_1906_1907.pdf#page=22\",\"A33#22\")","v":"A33#22"}]
["A33.23",{"$f":"HYPERLINK('PDF-Dateien'!I1 & \"Auftraege33_1906_1907.pdf#page=23\",\"A33#23\")","v":"A33#23"}]
["A33.24",{"$f":"HYPERLINK('PDF-Dateien'!I1 & \"Auftraege33_1906_1907.pdf#page=24\",\"A33#24\")","v":"A33#24"}]
["A33.25",{"$f":"HYPERLINK('PDF-Dateien'!I1 & \"Auftraege33_1906_1907.pdf#page=25\",\"A33#25\")","v":"A33#25"}]
["A33.26",{"$f":"HYPERLINK('PDF-Dateien'!I1 & \"Auftraege33_1906_1907.pdf#page=26\",\"A33#26\")","v":"A33#26"}]
["A33.27",{"$f":"HYPERLINK('PDF-Dateien'!I1 & \"Auftraege33_1906_1907.pdf#page=27\",\"A33#27\")","v":"A33#27"}]
["A33.28",{"$f":"HYPERLINK('PDF-Dateien'!I1 & \"Auftraege33_1906_1907.pdf#page=28\",\"A33#28\")","v":"A33#28"}]
["A33.29",{"$f":"HYPERLINK('PDF-Dateien'!I1 & \"Auftraege33_1906_1907.pdf#page=29\",\"A33#29\")","v":"A33#29"}]
["A33.30",{"$f":"HYPERLINK('PDF-Dateien'!I1 & \"Auftraege33_1906_1907.pdf#page=30\",\"A33#30\")","v":"A33#30"}]
["A33.31",{"$f":"HYPERLINK('PDF-Dateien'!I1 & \"Auftraege33_1906_1907.pdf#page=31\",\"A33#31\")","v":"A33#31"}]
["A33.32",{"$f":"HYPERLINK('PDF-Dateien'!I1 & \"Auftraege33_1906_1907.pdf#page=32\",\"A33#32\")","v":"A33#32"}]
["A33.33",{"$f":"HYPERLINK('PDF-Dateien'!I1 & \"Auftraege33_1906_1907.pdf#page=33\",\"A33#33\")","v":"A33#33"}]
["A33.34",{"$f":"HYPERLINK('PDF-Dateien'!I1 & \"Auftraege33_1906_1907.pdf#page=34\",\"A33#34\")","v":"A33#34"}]
["A33.35",{"$f":"HYPERLINK('PDF-Dateien'!I1 & \"Auftraege33_1906_1907.pdf#page=35\",\"A33#35\")","v":"A33#35"}]
["A33.36",{"$f":"HYPERLINK('PDF-Dateien'!I1 & \"Auftraege33_1906_1907.pdf#page=36\",\"A33#36\")","v":"A33#36"}]
["A33.37",{"$f":"HYPERLINK('PDF-Dateien'!I1 & \"Auftraege33_1906_1907.pdf#page=37\",\"A33#37\")","v":"A33#37"}]
["A33.38",{"$f":"HYPERLINK('PDF-Dateien'!I1 & \"Auftraege33_1906_1907.pdf#page=38\",\"A33#38\")","v":"A33#38"}]
["A33.39",{"$f":"HYPERLINK('PDF-Dateien'!I1 & \"Auftraege33_1906_1907.pdf#page=39\",\"A33#39\")","v":"A33#39"}]
["A33.40",{"$f":"HYPERLINK('PDF-Dateien'!I1 & \"Auftraege33_1906_1907.pdf#page=40\",\"A33#40\")","v":"A33#40"}]
["A33.41",{"$f":"HYPERLINK('PDF-Dateien'!I1 & \"Auftraege33_1906_1907.pdf#page=41\",\"A33#41\")","v":"A33#41"}]
["A33.42",{"$f":"HYPERLINK('PDF-Dateien'!I1 & \"Auftraege33_1906_1907.pdf#page=42\",\"A33#42\")","v":"A33#42"}]
["A33.43",{"$f":"HYPERLINK('PDF-Dateien'!I1 & \"Auftraege33_1906_1907.pdf#page=43\",\"A33#43\")","v":"A33#43"}]
["A33.44",{"$f":"HYPERLINK('PDF-Dateien'!I1 & \"Auftraege33_1906_1907.pdf#page=44\",\"A33#44\")","v":"A33#44"}]
["A33.45",{"$f":"HYPERLINK('PDF-Dateien'!I1 & \"Auftraege33_1906_1907.pdf#page=45\",\"A33#45\")","v":"A33#45"}]
["A33.46",{"$f":"HYPERLINK('PDF-Dateien'!I1 & \"Auftraege33_1906_1907.pdf#page=46\",\"A33#46\")","v":"A33#46"}]
["A33.47",{"$f":"HYPERLINK('PDF-Dateien'!I1 & \"Auftraege33_1906_1907.pdf#page=47\",\"A33#47\")","v":"A33#47"}]
["A33.48",{"$f":"HYPERLINK('PDF-Dateien'!I1 & \"Auftraege33_1906_1907.pdf#page=48\",\"A33#48\")","v":"A33#48"}]
["A33.49",{"$f":"HYPERLINK('PDF-Dateien'!I1 & \"Auftraege33_1906_1907.pdf#page=49\",\"A33#49\")","v":"A33#49"}]
["A33.50",{"$f":"HYPERLINK('PDF-Dateien'!I1 & \"Auftraege33_1906_1907.pdf#page=50\",\"A33#50\")","v":"A33#50"}]
["A34.02",{"$f":"HYPERLINK('PDF-Dateien'!I1 & \"Auftraege34_1907_1909.pdf#page=2\",\"A34#2\")","v":"A34#2"},18851,"1907-10-01","Kleber noch bearbeiten!"]
["A34.03",{"$f":"HYPERLINK('PDF-Dateien'!I1 & \"Auftraege34_1907_1909.pdf#page=3\",\"A34#3\")","v":"A34#3"}]
["A34.04",{"$f":"HYPERLINK('PDF-Dateien'!I1 & \"Auftraege34_1907_1909.pdf#page=4\",\"A34#4\")","v":"A34#4"}]
["A34.05",{"$f":"HYPERLINK('PDF-Dateien'!I1 & \"Auftraege34_1907_1909.pdf#page=5\",\"A34#5\")","v":"A34#5"}]
["A34.06",{"$f":"HYPERLINK('PDF-Dateien'!I1 & \"Auftraege34_1907_1909.pdf#page=6\",\"A34#6\")","v":"A34#6"}]
["A34.07",{"$f":"HYPERLINK('PDF-Dateien'!I1 & \"Auftraege34_1907_1909.pdf#page=7\",\"A34#7\")","v":"A34#7"}]
["A34.08",{"$f":"HYPERLINK('PDF-Dateien'!I1 & \"Auftraege34_1907_1909.pdf#page=8\",\"A34#8\")","v":"A34#8"}]
["A34.09",{"$f":"HYPERLINK('PDF-Dateien'!I1 & \"Auftraege34_1907_1909.pdf#page=9\",\"A34#9\")","v":"A34#9"}]
["A34.10",{"$f":"HYPERLINK('PDF-Dateien'!I1 & \"Auftraege34_1907_1909.pdf#page=10\",\"A34#10\")","v":"A34#10"}]
["A34.11",{"$f":"HYPERLINK('PDF-Dateien'!I1 & \"Auftraege34_1907_1909.pdf#page=11\",\"A34#11\")","v":"A34#11"}]
["A34.12",{"$f":"HYPERLINK('PDF-Dateien'!I1 & \"Auftraege34_1907_1909.pdf#page=12\",\"A34#12\")","v":"A34#12"}]
["A34.13",{"$f":"HYPERLINK('PDF-Dateien'!I1 & \"Auftraege34_1907_1909.pdf#page=13\",\"A34#13\")","v":"A34#13"}]
["A34.14",{"$f":"HYPERLINK('PDF-Dateien'!I1 & \"Auftraege34_1907_1909.pdf#page=14\",\"A34#14\")","v":"A34#14"}]
["A34.15",{"$f":"HYPERLINK('PDF-Dateien'!I1 & \"Auftraege34_1907_1909.pdf#page=15\",\"A34#15\")","v":"A34#15"}]
["A34.16",{"$f":"HYPERLINK('PDF-Dateien'!I1 & \"Auftraege34_1907_1909.pdf#page=16\",\"A34#16\")","v":"A34#16"}]
["A34.17",{"$f":"HYPERLINK('PDF-Dateien'!I1 & \"Auftraege34_1907_1909.pdf#page=17\",\"A34#17\")","v":"A34#17"}]
["A34.18",{"$f":"HYPERLINK('PDF-Dateien'!I1 & \"Auftraege34_1907_1909.pdf#page=18\",\"A34#18\")","v":"A34#18"}]
["A34.19",{"$f":"HYPERLINK('PDF-Dateien'!I1 & \"Auftraege34_1907_1909.pdf#page=19\",\"A34#19\")","v":"A34#19"}]
["A34.20",{"$f":"HYPERLINK('PDF-Dateien'!I1 & \"Auftraege34_1907_1909.pdf#page=20\",\"A34#20\")","v":"A34#20"}]
["A34.21",{"$f":"HYPERLINK('PDF-Dateien'!I1 & \"Auftraege34_1907_1909.pdf#page=21\",\"A34#21\")","v":"A34#21"}]
["A34.22",{"$f":"HYPERLINK('PDF-Dateien'!I1 & \"Auftraege34_1907_1909.pdf#page=22\",\"A34#22\")","v":"A34#22"}]
["A34.23",{"$f":"HYPERLINK('PDF-Dateien'!I1 & \"Auftraege34_1907_1909.pdf#page=23\",\"A34#23\")","v":"A34#23"}]
["A34.24",{"$f":"HYPERLINK('PDF-Dateien'!I1 & \"Auftraege34_1907_1909.pdf#page=24\",\"A34#24\")","v":"A34#24"}]
["A34.25",{"$f":"HYPERLINK('PDF-Dateien'!I1 & \"Auftraege34_1907_1909.pdf#page=25\",\"A34#25\")","v":"A34#25"}]
["A34.26",{"$f":"HYPERLINK('PDF-Dateien'!I1 & \"Auftraege34_1907_1909.pdf#page=26\",\"A34#26\")","v":"A34#26"}]
["A34.27",{"$f":"HYPERLINK('PDF-Dateien'!I1 & \"Auftraege34_1907_1909.pdf#page=27\",\"A34#27\")","v":"A34#27"}]
["A34.28",{"$f":"HYPERLINK('PDF-Dateien'!I1 & \"Auftraege34_1907_1909.pdf#page=28\",\"A34#28\")","v":"A34#28"}]
["A34.29",{"$f":"HYPERLINK('PDF-Dateien'!I1 & \"Auftraege34_1907_1909.pdf#page=29\",\"A34#29\")","v":"A34#29"}]
["A34.30",{"$f":"HYPERLINK('PDF-Dateien'!I1 & \"Auftraege34_1907_1909.pdf#page=30\",\"A34#30\")","v":"A34#30"}]
["A34.31",{"$f":"HYPERLINK('PDF-Dateien'!I1 & \"Auftraege34_1907_1909.pdf#page=31\",\"A34#31\")","v":"A34#31"}]
["A34.32",{"$f":"HYPERLINK('PDF-Dateien'!I1 & \"Auftraege34_1907_1909.pdf#page=32\",\"A34#32\")","v":"A34#32"}]
["A34.33",{"$f":"HYPERLINK('PDF-Dateien'!I1 & \"Auftraege34_1907_1909.pdf#page=33\",\"A34#33\")","v":"A34#33"}]
["A34.34",{"$f":"HYPERLINK('PDF-Dateien'!I1 & \"Auftraege34_1907_1909.pdf#page=34\",\"A34#34\")","v":"A34#34"}]
["A34.35",{"$f":"HYPERLINK('PDF-Dateien'!I1 & \"Auftraege34_1907_1909.pdf#page=35\",\"A34#35\")","v":"A34#35"}]
["A34.36",{"$f":"HYPERLINK('PDF-Dateien'!I1 & \"Auftraege34_1907_1909.pdf#page=36\",\"A34#36\")","v":"A34#36"}]
["A34.37",{"$f":"HYPERLINK('PDF-Dateien'!I1 & \"Auftraege34_1907_1909.pdf#page=37\",\"A34#37\")","v":"A34#37"}]
["A34.38",{"$f":"HYPERLINK('PDF-Dateien'!I1 & \"Auftraege34_1907_1909.pdf#page=38\",\"A34#38\")","v":"A34#38"}]
["A34.39",{"$f":"HYPERLINK('PDF-Dateien'!I1 & \"Auftraege34_1907_1909.pdf#page=39\",\"A34#39\")","v":"A34#39"}]
["A34.40",{"$f":"HYPERLINK('PDF-Dateien'!I1 & \"Auftraege34_1907_1909.pdf#page=40\",\"A34#40\")","v":"A34#40"}]
["A34.41",{"$f":"HYPERLINK('PDF-Dateien'!I1 & \"Auftraege34_1907_1909.pdf#page=41\",\"A34#41\")","v":"A34#41"}]
["A34.42",{"$f":"HYPERLINK('PDF-Dateien'!I1 & \"Auftraege34_1907_1909.pdf#page=42\",\"A34#42\")","v":"A34#42"}]
["A34.43",{"$f":"HYPERLINK('PDF-Dateien'!I1 & \"Auftraege34_1907_1909.pdf#page=43\",\"A34#43\")","v":"A34#43"}]
["A34.44",{"$f":"HYPERLINK('PDF-Dateien'!I1 & \"Auftraege34_1907_1909.pdf#page=44\",\"A34#44\")","v":"A34#44"}]
["A34.45",{"$f":"HYPERLINK('PDF-Dateien'!I1 & \"Auftraege34_1907_1909.pdf#page=45\",\"A34#45\")","v":"A34#45"}]
["A34.46",{"$f":"HYPERLINK('PDF-Dateien'!I1 & \"Auftraege34_1907_1909.pdf#page=46\",\"A34#46\")","v":"A34#46"}]
["A34.47",{"$f":"HYPERLINK('PDF-Dateien'!I1 & \"Auftraege34_1907_1909.pdf#page=47\",\"A34#47\")","v":"A34#47"}]
["A34.48",{"$f":"HYPERLINK('PDF-Dateien'!I1 & \"Auftraege34_1907_1909.pdf#page=48\",\"A34#48\")","v":"A34#48"}]
["A34.49",{"$f":"HYPERLINK('PDF-Dateien'!I1 & \"Auftraege34_1907_1909.pdf#page=49\",\"A34#49\")","v":"A34#49"}]
["A34.50",{"$f":"HYPERLINK('PDF-Dateien'!I1 & \"Auftraege34_1907_1909.pdf#page=50\",\"A34#50\")","v":"A34#50"}]
["A34.51",{"$f":"HYPERLINK('PDF-Dateien'!I1 & \"Auftraege34_1907_1909.pdf#page=51\",\"A34#51\")","v":"A34#51"}]
["A34.52",{"$f":"HYPERLINK('PDF-Dateien'!I1 & \"Auftraege34_1907_1909.pdf#page=52\",\"A34#52\")","v":"A34#52"}]
["A34.53",{"$f":"HYPERLINK('PDF-Dateien'!I1 & \"Auftraege34_1907_1909.pdf#page=53\",\"A34#53\")","v":"A34#53"}]
["A34.54",{"$f":"HYPERLINK('PDF-Dateien'!I1 & \"Auftraege34_1907_1909.pdf#page=54\",\"A34#54\")","v":"A34#54"}]
["A34.55",{"$f":"HYPERLINK('PDF-Dateien'!I1 & \"Auftraege34_1907_1909.pdf#page=55\",\"A34#55\")","v":"A34#55"}]
["A34.56",{"$f":"HYPERLINK('PDF-Dateien'!I1 & \"Auftraege34_1907_1909.pdf#page=56\",\"A34#56\")","v":"A34#56"}]
["A34.57",{"$f":"HYPERLINK('PDF-Dateien'!I1 & \"Auftraege34_1907_1909.pdf#page=57\",\"A34#57\")","v":"A34#57"}]
["A34.58",{"$f":"HYPERLINK('PDF-Dateien'!I1 & \"Auftraege34_1907_1909.pdf#page=58\",\"A34#58\")","v":"A34#58"}]
["A34.59",{"$f":"HYPERLINK('PDF-Dateien'!I1 & \"Auftraege34_1907_1909.pdf#page=59\",\"A34#59\")","v":"A34#59"}]
["A34.60",{"$f":"HYPERLINK('PDF-Dateien'!I1 & \"Auftraege34_1907_1909.pdf#page=60\",\"A34#60\")","v":"A34#60"}]
["A34.61",{"$f":"HYPERLINK('PDF-Dateien'!I1 & \"Auftraege34_1907_1909.pdf#page=61\",\"A34#61\")","v":"A34#61"}]
["A34.62",{"$f":"HYPERLINK('PDF-Dateien'!I1 & \"Auftraege34_1907_1909.pdf#page=62\",\"A34#62\")","v":"A34#62"}]
["A34.63",{"$f":"HYPERLINK('PDF-Dateien'!I1 & \"Auftraege34_1907_1909.pdf#page=63\",\"A34#63\")","v":"A34#63"}]
["A34.64",{"$f":"HYPERLINK('PDF-Dateien'!I1 & \"Auftraege34_1907_1909.pdf#page=64\",\"A34#64\")","v":"A34#64"}]
["A34.65",{"$f":"HYPERLINK('PDF-Dateien'!I1 & \"Auftraege34_1907_1909.pdf#page=65\",\"A34#65\")","v":"A34#65"}]
["A34.66",{"$f":"HYPERLINK('PDF-Dateien'!I1 & \"Auftraege34_1907_1909.pdf#page=66\",\"A34#66\")","v":"A34#66"}]
["A34.67",{"$f":"HYPERLINK('PDF-Dateien'!I1 & \"Auftraege34_1907_1909.pdf#page=67\",\"A34#67\")","v":"A34#67"}]
["A34.68",{"$f":"HYPERLINK('PDF-Dateien'!I1 & \"Auftraege34_1907_1909.pdf#page=68\",\"A34#68\")","v":"A34#68"}]
["A34.69",{"$f":"HYPERLINK('PDF-Dateien'!I1 & \"Auftraege34_1907_1909.pdf#page=69\",\"A34#69\")","v":"A34#69"}]
["A34.70",{"$f":"HYPERLINK('PDF-Dateien'!I1 & \"Auftraege34_1907_1909.pdf#page=70\",\"A34#70\")","v":"A34#70"}]
["A34.71",{"$f":"HYPERLINK('PDF-Dateien'!I1 & \"Auftraege34_1907_1909.pdf#page=71\",\"A34#71\")","v":"A34#71"}]
["A34.72",{"$f":"HYPERLINK('PDF-Dateien'!I1 & \"Auftraege34_1907_1909.pdf#page=72\",\"A34#72\")","v":"A34#72"}]
["A34.73",{"$f":"HYPERLINK('PDF-Dateien'!I1 & \"Auftraege34_1907_1909.pdf#page=73\",\"A34#73\")","v":"A34#73"}]
["A34.74",{"$f":"HYPERLINK('PDF-Dateien'!I1 & \"Auftraege34_1907_1909.pdf#page=74\",\"A34#74\")","v":"A34#74"}]
["A34.75",{"$f":"HYPERLINK('PDF-Dateien'!I1 & \"Auftraege34_1907_1909.pdf#page=75\",\"A34#75\")","v":"A34#75"}]
["A34.76",{"$f":"HYPERLINK('PDF-Dateien'!I1 & \"Auftraege34_1907_1909.pdf#page=76\",\"A34#76\")","v":"A34#76"}]
["A34.77",{"$f":"HYPERLINK('PDF-Dateien'!I1 & \"Auftraege34_1907_1909.pdf#page=77\",\"A34#77\")","v":"A34#77"}]
["A34.78",{"$f":"HYPERLINK('PDF-Dateien'!I1 & \"Auftraege34_1907_1909.pdf#page=78\",\"A34#78\")","v":"A34#78"}]
["A34.79",{"$f":"HYPERLINK('PDF-Dateien'!I1 & \"Auftraege34_1907_1909.pdf#page=79\",\"A34#79\")","v":"A34#79"}]
["A35.02",{"$f":"HYPERLINK('PDF-Dateien'!I1 & \"Auftraege35_1909_1910.pdf#page=2\",\"A35#2\")","v":"A35#2"},19191,"1909-01-05","Kleber noch bearbeiten!"]
["A35.03",{"$f":"HYPERLINK('PDF-Dateien'!I1 & \"Auftraege35_1909_1910.pdf#page=3\",\"A35#3\")","v":"A35#3"}]
["A35.04",{"$f":"HYPERLINK('PDF-Dateien'!I1 & \"Auftraege35_1909_1910.pdf#page=4\",\"A35#4\")","v":"A35#4"}]
["A35.05",{"$f":"HYPERLINK('PDF-Dateien'!I1 & \"Auftraege35_1909_1910.pdf#page=5\",\"A35#5\")","v":"A35#5"}]
["A35.06",{"$f":"HYPERLINK('PDF-Dateien'!I1 & \"Auftraege35_1909_1910.pdf#page=6\",\"A35#6\")","v":"A35#6"}]
["A35.07",{"$f":"HYPERLINK('PDF-Dateien'!I1 & \"Auftraege35_1909_1910.pdf#page=7\",\"A35#7\")","v":"A35#7"}]
["A35.08",{"$f":"HYPERLINK('PDF-Dateien'!I1 & \"Auftraege35_1909_1910.pdf#page=8\",\"A35#8\")","v":"A35#8"}]
["A35.09",{"$f":"HYPERLINK('PDF-Dateien'!I1 & \"Auftraege35_1909_1910.pdf#page=9\",\"A35#9\")","v":"A35#9"}]
["A35.10",{"$f":"HYPERLINK('PDF-Dateien'!I1 & \"Auftraege35_1909_1910.pdf#page=10\",\"A35#10\")","v":"A35#10"}]
["A35.11",{"$f":"HYPERLINK('PDF-Dateien'!I1 & \"Auftraege35_1909_1910.pdf#page=11\",\"A35#11\")","v":"A35#11"}]
["A35.12",{"$f":"HYPERLINK('PDF-Dateien'!I1 & \"Auftraege35_1909_1910.pdf#page=12\",\"A35#12\")","v":"A35#12"}]
["A35.13",{"$f":"HYPERLINK('PDF-Dateien'!I1 & \"Auftraege35_1909_1910.pdf#page=13\",\"A35#13\")","v":"A35#13"}]
["A35.14",{"$f":"HYPERLINK('PDF-Dateien'!I1 & \"Auftraege35_1909_1910.pdf#page=14\",\"A35#14\")","v":"A35#14"}]
["A35.15",{"$f":"HYPERLINK('PDF-Dateien'!I1 & \"Auftraege35_1909_1910.pdf#page=15\",\"A35#15\")","v":"A35#15"}]
["A35.16",{"$f":"HYPERLINK('PDF-Dateien'!I1 & \"Auftraege35_1909_1910.pdf#page=16\",\"A35#16\")","v":"A35#16"}]
["A35.17",{"$f":"HYPERLINK('PDF-Dateien'!I1 & \"Auftraege35_1909_1910.pdf#page=17\",\"A35#17\")","v":"A35#17"}]
["A35.18",{"$f":"HYPERLINK('PDF-Dateien'!I1 & \"Auftraege35_1909_1910.pdf#page=18\",\"A35#18\")","v":"A35#18"}]
["A35.19",{"$f":"HYPERLINK('PDF-Dateien'!I1 & \"Auftraege35_1909_1910.pdf#page=19\",\"A35#19\")","v":"A35#19"}]
["A35.20",{"$f":"HYPERLINK('PDF-Dateien'!I1 & \"Auftraege35_1909_1910.pdf#page=20\",\"A35#20\")","v":"A35#20"}]
["A35.21",{"$f":"HYPERLINK('PDF-Dateien'!I1 & \"Auftraege35_1909_1910.pdf#page=21\",\"A35#21\")","v":"A35#21"}]
["A35.22",{"$f":"HYPERLINK('PDF-Dateien'!I1 & \"Auftraege35_1909_1910.pdf#page=22\",\"A35#22\")","v":"A35#22"}]
["A35.23",{"$f":"HYPERLINK('PDF-Dateien'!I1 & \"Auftraege35_1909_1910.pdf#page=23\",\"A35#23\")","v":"A35#23"}]
["A35.24",{"$f":"HYPERLINK('PDF-Dateien'!I1 & \"Auftraege35_1909_1910.pdf#page=24\",\"A35#24\")","v":"A35#24"}]
["A35.25",{"$f":"HYPERLINK('PDF-Dateien'!I1 & \"Auftraege35_1909_1910.pdf#page=25\",\"A35#25\")","v":"A35#25"}]
["A35.26",{"$f":"HYPERLINK('PDF-Dateien'!I1 & \"Auftraege35_1909_1910.pdf#page=26\",\"A35#26\")","v":"A35#26"}]
["A35.27",{"$f":"HYPERLINK('PDF-Dateien'!I1 & \"Auftraege35_1909_1910.pdf#page=27\",\"A35#27\")","v":"A35#27"}]
["A35.28",{"$f":"HYPERLINK('PDF-Dateien'!I1 & \"Auftraege35_1909_1910.pdf#page=28\",\"A35#28\")","v":"A35#28"}]
["A35.29",{"$f":"HYPERLINK('PDF-Dateien'!I1 & \"Auftraege35_1909_1910.pdf#page=29\",\"A35#29\")","v":"A35#29"}]
["A35.30",{"$f":"HYPERLINK('PDF-Dateien'!I1 & \"Auftraege35_1909_1910.pdf#page=30\",\"A35#30\")","v":"A35#30"}]
["A35.31",{"$f":"HYPERLINK('PDF-Dateien'!I1 & \"Auftraege35_1909_1910.pdf#page=31\",\"A35#31\")","v":"A35#31"}]
["A35.32",{"$f":"HYPERLINK('PDF-Dateien'!I1 & \"Auftraege35_1909_1910.pdf#page=32\",\"A35#32\")","v":"A35#32"}]
["A35.33",{"$f":"HYPERLINK('PDF-Dateien'!I1 & \"Auftraege35_1909_1910.pdf#page=33\",\"A35#33\")","v":"A35#33"}]
["A35.34",{"$f":"HYPERLINK('PDF-Dateien'!I1 & \"Auftraege35_1909_1910.pdf#page=34\",\"A35#34\")","v":"A35#34"}]
["A35.35",{"$f":"HYPERLINK('PDF-Dateien'!I1 & \"Auftraege35_1909_1910.pdf#page=35\",\"A35#35\")","v":"A35#35"}]
["A35.36",{"$f":"HYPERLINK('PDF-Dateien'!I1 & \"Auftraege35_1909_1910.pdf#page=36\",\"A35#36\")","v":"A35#36"}]
["A35.37",{"$f":"HYPERLINK('PDF-Dateien'!I1 & \"Auftraege35_1909_1910.pdf#page=37\",\"A35#37\")","v":"A35#37"}]
["A35.38",{"$f":"HYPERLINK('PDF-Dateien'!I1 & \"Auftraege35_1909_1910.pdf#page=38\",\"A35#38\")","v":"A35#38"}]
["A35.39",{"$f":"HYPERLINK('PDF-Dateien'!I1 & \"Auftraege35_1909_1910.pdf#page=39\",\"A35#39\")","v":"A35#39"}]
["A35.40",{"$f":"HYPERLINK('PDF-Dateien'!I1 & \"Auftraege35_1909_1910.pdf#page=40\",\"A35#40\")","v":"A35#40"}]
["A35.41",{"$f":"HYPERLINK('PDF-Dateien'!I1 & \"Auftraege35_1909_1910.pdf#page=41\",\"A35#41\")","v":"A35#41"}]
["A35.42",{"$f":"HYPERLINK('PDF-Dateien'!I1 & \"Auftraege35_1909_1910.pdf#page=42\",\"A35#42\")","v":"A35#42"}]
["A35.43",{"$f":"HYPERLINK('PDF-Dateien'!I1 & \"Auftraege35_1909_1910.pdf#page=43\",\"A35#43\")","v":"A35#43"}]
["A35.44",{"$f":"HYPERLINK('PDF-Dateien'!I1 & \"Auftraege35_1909_1910.pdf#page=44\",\"A35#44\")","v":"A35#44"}]
["A35.45",{"$f":"HYPERLINK('PDF-Dateien'!I1 & \"Auftraege35_1909_1910.pdf#page=45\",\"A35#45\")","v":"A35#45"}]
["A35.46",{"$f":"HYPERLINK('PDF-Dateien'!I1 & \"Auftraege35_1909_1910.pdf#page=46\",\"A35#46\")","v":"A35#46"}]
["A35.47",{"$f":"HYPERLINK('PDF-Dateien'!I1 & \"Auftraege35_1909_1910.pdf#page=47\",\"A35#47\")","v":"A35#47"}]
["A35.48",{"$f":"HYPERLINK('PDF-Dateien'!I1 & \"Auftraege35_1909_1910.pdf#page=48\",\"A35#48\")","v":"A35#48"}]
["A35.49",{"$f":"HYPERLINK('PDF-Dateien'!I1 & \"Auftraege35_1909_1910.pdf#page=49\",\"A35#49\")","v":"A35#49"}]
["A35.50",{"$f":"HYPERLINK('PDF-Dateien'!I1 & \"Auftraege35_1909_1910.pdf#page=50\",\"A35#50\")","v":"A35#50"}]
["A35.51",{"$f":"HYPERLINK('PDF-Dateien'!I1 & \"Auftraege35_1909_1910.pdf#page=51\",\"A35#51\")","v":"A35#51"}]
["A35.52",{"$f":"HYPERLINK('PDF-Dateien'!I1 & \"Auftraege35_1909_1910.pdf#page=52\",\"A35#52\")","v":"A35#52"}]
["A35.53",{"$f":"HYPERLINK('PDF-Dateien'!I1 & \"Auftraege35_1909_1910.pdf#page=53\",\"A35#53\")","v":"A35#53"}]
["A35.54",{"$f":"HYPERLINK('PDF-Dateien'!I1 & \"Auftraege35_1909_1910.pdf#page=54\",\"A35#54\")","v":"A35#54"}]
["A35.55",{"$f":"HYPERLINK('PDF-Dateien'!I1 & \"Auftraege35_1909_1910.pdf#page=55\",\"A35#55\")","v":"A35#55"}]
["A35.56",{"$f":"HYPERLINK('PDF-Dateien'!I1 & \"Auftraege35_1909_1910.pdf#page=56\",\"A35#56\")","v":"A35#56"}]
["A35.57",{"$f":"HYPERLINK('PDF-Dateien'!I1 & \"Auftraege35_1909_1910.pdf#page=57\",\"A35#57\")","v":"A35#57"}]
["A35.58",{"$f":"HYPERLINK('PDF-Dateien'!I1 & \"Auftraege35_1909_1910.pdf#page=58\",\"A35#58\")","v":"A35#58"}]
["A35.59",{"$f":"HYPERLINK('PDF-Dateien'!I1 & \"Auftraege35_1909_1910.pdf#page=59\",\"A35#59\")","v":"A35#59"}]
["A35.60",{"$f":"HYPERLINK('PDF-Dateien'!I1 & \"Auftraege35_1909_1910.pdf#page=60\",\"A35#60\")","v":"A35#60"}]
["A35.61",{"$f":"HYPERLINK('PDF-Dateien'!I1 & \"Auftraege35_1909_1910.pdf#page=61\",\"A35#61\")","v":"A35#61"}]
["A35.62",{"$f":"HYPERLINK('PDF-Dateien'!I1 & \"Auftraege35_1909_1910.pdf#page=62\",\"A35#62\")","v":"A35#62"}]
["A35.63",{"$f":"HYPERLINK('PDF-Dateien'!I1 & \"Auftraege35_1909_1910.pdf#page=63\",\"A35#63\")","v":"A35#63"}]
["A35.64",{"$f":"HYPERLINK('PDF-Dateien'!I1 & \"Auftraege35_1909_1910.pdf#page=64\",\"A35#64\")","v":"A35#64"}]
["A35.65",{"$f":"HYPERLINK('PDF-Dateien'!I1 & \"Auftraege35_1909_1910.pdf#page=65\",\"A35#65\")","v":"A35#65"}]
["A35.66",{"$f":"HYPERLINK('PDF-Dateien'!I1 & \"Auftraege35_1909_1910.pdf#page=66\",\"A35#66\")","v":"A35#66"}]
["A35.67",{"$f":"HYPERLINK('PDF-Dateien'!I1 & \"Auftraege35_1909_1910.pdf#page=67\",\"A35#67\")","v":"A35#67"}]
["A35.68",{"$f":"HYPERLINK('PDF-Dateien'!I1 & \"Auftraege35_1909_1910.pdf#page=68\",\"A35#68\")","v":"A35#68"},19638,"1910-03-02"]

{"sheet":"Develop","index":3,"n_rows":0,"n_cols":0,"rows_kept":0,"cut":false,"hidden":true,"merged":[]}